BEGIN:VCALENDAR
VERSION:2.0
PRODID:-//Septem - ECPv6.0.13.1//NONSGML v1.0//EN
CALSCALE:GREGORIAN
METHOD:PUBLISH
X-ORIGINAL-URL:https://septem.stghislain.be
X-WR-CALDESC:évènements pour Septem
REFRESH-INTERVAL;VALUE=DURATION:PT1H
X-Robots-Tag:noindex
X-PUBLISHED-TTL:PT1H
BEGIN:VTIMEZONE
TZID:Europe/Brussels
BEGIN:DAYLIGHT
TZOFFSETFROM:+0100
TZOFFSETTO:+0200
TZNAME:CEST
DTSTART:20230326T010000
END:DAYLIGHT
BEGIN:STANDARD
TZOFFSETFROM:+0200
TZOFFSETTO:+0100
TZNAME:CET
DTSTART:20231029T010000
END:STANDARD
END:VTIMEZONE
BEGIN:VEVENT
DTSTART;TZID=Europe/Brussels:20230818T103000
DTEND;TZID=Europe/Brussels:20230818T120000
DTSTAMP:20260424T124438
CREATED:20230621T090019Z
LAST-MODIFIED:20230725T072903Z
UID:10000220-1692354600-1692360000@septem.stghislain.be
SUMMARY:REPIT 18 | Balades méditatives et bains de forêt
DESCRIPTION:Dates: Le 07 et 14 Juillet – Le 18 août \nL’été c’est aussi le moment idéal pour expérimenter la détente\, la pleine conscience et la connexion avec la nature. Marie-Anne Poucet vous propose donc une marche en forêt.Venez découvrir lors d’une balade des temps d’arrêt\, des techniques de respiration issues du Qi Gong\, des temps de méditation\, des temps de connexion à ses 5 sens et à la nature. Tout ceci dans un cadre verdoyant à la découverte de la faune et la flore de notre région. \nPossibilité aussi\, d’aller à la rencontre des arbres\, découvrir comment se connecter à eux et réaliser un soin énergétique avec les arbres. \nTout public \nAnimatrice: Marie-Anne Poucet \nLieu: Bois de Baudour : entrée Chemin du Long Boules\, parcours Vitae
URL:https://septem.stghislain.be/agenda/balades-meditatives/2023-08-18/
CATEGORIES:Bien-être,Médiation,REPIT,Saint-Ghislain
ATTACH;FMTTYPE=image/jpeg:https://septem.stghislain.be/wp-content/uploads/2023/06/balades_meditatives_REPIT18-Septem-Culture_Saint_Ghislain-2023.jpg
ORGANIZER;CN="Septem":MAILTO:info@septem.stghislain.be
END:VEVENT
BEGIN:VEVENT
DTSTART;TZID=Europe/Brussels:20230818T173000
DTEND;TZID=Europe/Brussels:20230819T213000
DTSTAMP:20260424T124439
CREATED:20230727T111055Z
LAST-MODIFIED:20230727T111413Z
UID:10000253-1692379800-1692480600@septem.stghislain.be
SUMMARY:Concert | Park Rock Festival | Parc de Baudour
DESCRIPTION:Festival Rock dans le parc communal de Baudour (Saint Ghislain – Belgique). \nLe 18 et 19 août.
URL:https://septem.stghislain.be/agenda/park-rock-festival/
LOCATION:Parc de Baudour\, Belgique
CATEGORIES:Baudour,Concerts,Musique,Saint-Ghislain
ATTACH;FMTTYPE=image/jpeg:https://septem.stghislain.be/wp-content/uploads/2023/07/parc_rock_festival-Septem-Culture_Saint_Ghislain-2023.jpg
END:VEVENT
BEGIN:VEVENT
DTSTART;TZID=Europe/Brussels:20230818T180000
DTEND;TZID=Europe/Brussels:20230818T193000
DTSTAMP:20260424T124439
CREATED:20230630T035855Z
LAST-MODIFIED:20230725T072903Z
UID:10000204-1692381600-1692387000@septem.stghislain.be
SUMMARY:REPIT 10 | Et si on se faisait une partie d'échecs ?
DESCRIPTION:​Modules d’initiation à la pratique du jeu d’échecs. \nLieu: A Saint-Ghislain\, dans la rue de l’Abbaye (derrière Septem)\, à hauteur du n°8\, entrez dans le parc en passant sous le tunnel de l’immeuble\, le local se trouve au fond d’une cour clôturée à 50 mètres à droite. \nLes vendredis 7/14 et 28 juillet et 4/11/18 août
URL:https://septem.stghislain.be/agenda/echecs/2023-08-18/
LOCATION:Les Jardins du Cloître\, 37 Grand Place\, Saint-Ghislain\, 7330\, Belgique
CATEGORIES:Ateliers,REPIT,Saint-Ghislain
ATTACH;FMTTYPE=image/jpeg:https://septem.stghislain.be/wp-content/uploads/2023/06/parties_echecs_REPIT10-Septem-Culture_Saint_Ghislain-2023.jpg
ORGANIZER;CN="Septem":MAILTO:info@septem.stghislain.be
END:VEVENT
END:VCALENDAR