BEGIN:VCALENDAR
VERSION:2.0
PRODID:-//Septem - ECPv6.0.13.1//NONSGML v1.0//EN
CALSCALE:GREGORIAN
METHOD:PUBLISH
X-WR-CALNAME:Septem
X-ORIGINAL-URL:https://septem.stghislain.be
X-WR-CALDESC:évènements pour Septem
REFRESH-INTERVAL;VALUE=DURATION:PT1H
X-Robots-Tag:noindex
X-PUBLISHED-TTL:PT1H
BEGIN:VTIMEZONE
TZID:Europe/Brussels
BEGIN:DAYLIGHT
TZOFFSETFROM:+0100
TZOFFSETTO:+0200
TZNAME:CEST
DTSTART:20230326T010000
END:DAYLIGHT
BEGIN:STANDARD
TZOFFSETFROM:+0200
TZOFFSETTO:+0100
TZNAME:CET
DTSTART:20231029T010000
END:STANDARD
END:VTIMEZONE
BEGIN:VEVENT
DTSTART;TZID=Europe/Brussels:20230813T100000
DTEND;TZID=Europe/Brussels:20230813T111500
DTSTAMP:20260424T111315
CREATED:20230701T044656Z
LAST-MODIFIED:20230725T072834Z
UID:10000224-1691920800-1691925300@septem.stghislain.be
SUMMARY:REPIT 17 | Atelier Yoga Parents-Enfants (3 à 6 ans)
DESCRIPTION:Pratiquer le yoga avec son enfant\, c’est avant tout\, un moment de partage. Un moment privilégié où chacun prend conscience de son fonctionnement et entre en lien avec l’autre. Un moment ludique\, relaxant hors du train-train quotidien qui nous ramène à l’essentiel: l’amour inconditionnel.Un atelier proposé par « Les Sentiers de Lily-Bulle » \n18€/DUO
URL:https://septem.stghislain.be/agenda/repit-17-atelier-yoga-parents-enfants-3-a-6-ans/2023-08-13/
LOCATION:Les Jardins du Cloître\, 37 Grand Place\, Saint-Ghislain\, 7330\, Belgique
CATEGORIES:Ateliers,Bien-être,En famille,Jeune public,REPIT,Saint-Ghislain
ATTACH;FMTTYPE=image/jpeg:https://septem.stghislain.be/wp-content/uploads/2023/04/les_sentiers_de_lily_bulle-yoga_enfants-Banner1-septem-culture_Saint_Ghislain-2023.jpg
ORGANIZER;CN="Septem":MAILTO:info@septem.stghislain.be
END:VEVENT
BEGIN:VEVENT
DTSTART;TZID=Europe/Brussels:20230813T111500
DTEND;TZID=Europe/Brussels:20230813T120000
DTSTAMP:20260424T111315
CREATED:20230701T045347Z
LAST-MODIFIED:20230725T072834Z
UID:10000230-1691925300-1691928000@septem.stghislain.be
SUMMARY:REPIT 17 | Atelier Yoga Parents-Enfants (7 à 12 ans)
DESCRIPTION:Pratiquer le yoga avec son enfant\, c’est avant tout\, un moment de partage. Un moment privilégié où chacun prend conscience de son fonctionnement et entre en lien avec l’autre. Un moment ludique\, relaxant hors du train-train quotidien qui nous ramène à l’essentiel: l’amour inconditionnel.Un atelier proposé par « Les Sentiers de Lily-Bulle » \n18€/DUO
URL:https://septem.stghislain.be/agenda/repit-17-atelier-yoga-parents-enfants-7-a-12-ans/2023-08-13/
LOCATION:Les Jardins du Cloître\, 37 Grand Place\, Saint-Ghislain\, 7330\, Belgique
CATEGORIES:Ateliers,Bien-être,En famille,Jeune public,REPIT,Saint-Ghislain
ATTACH;FMTTYPE=image/jpeg:https://septem.stghislain.be/wp-content/uploads/2023/04/les_sentiers_de_lily_bulle-yoga_enfants-Banner1-septem-culture_Saint_Ghislain-2023.jpg
ORGANIZER;CN="Septem":MAILTO:info@septem.stghislain.be
END:VEVENT
END:VCALENDAR