BEGIN:VCALENDAR
VERSION:2.0
PRODID:-//Septem - ECPv6.0.13.1//NONSGML v1.0//EN
CALSCALE:GREGORIAN
METHOD:PUBLISH
X-ORIGINAL-URL:https://septem.stghislain.be
X-WR-CALDESC:évènements pour Septem
REFRESH-INTERVAL;VALUE=DURATION:PT1H
X-Robots-Tag:noindex
X-PUBLISHED-TTL:PT1H
BEGIN:VTIMEZONE
TZID:Europe/Brussels
BEGIN:DAYLIGHT
TZOFFSETFROM:+0100
TZOFFSETTO:+0200
TZNAME:CEST
DTSTART:20230326T010000
END:DAYLIGHT
BEGIN:STANDARD
TZOFFSETFROM:+0200
TZOFFSETTO:+0100
TZNAME:CET
DTSTART:20231029T010000
END:STANDARD
END:VTIMEZONE
BEGIN:VEVENT
DTSTART;TZID=Europe/Brussels:20230730T100000
DTEND;TZID=Europe/Brussels:20230730T120000
DTSTAMP:20260424T123615
CREATED:20230622T060922Z
LAST-MODIFIED:20230725T072903Z
UID:10000189-1690711200-1690718400@septem.stghislain.be
SUMMARY:REPIT 20 | Balade plantes sauvages comestibles COMPLET
DESCRIPTION:COMPLET \nTout public à partie de 10 ans \nUne balade à la recherche de plantes sauvages comestibles… \nLieu: Jardins Partagés – 44\, rue Defuisseaux à 7333 Tertre \nYves\, intarissable sur les connaissances des plantes sauvages comestibles de notre région\, guide une balade familiale à la découverte des herbes folles\, des feuilles tendres et des fleurs sauvages alimentaires. Yves vous mène sur le terrain de la reconnaissance poétique de la plante. Vous pourriez oublier votre carnet de note si c’est votre première participation à une balade\, car vous y reviendrez… \nA prévoir : une tenue confortable (avec ou sans chaussures)\, une loupe\, des jumelles\, un petit panier de récolte\, un carnet de notes…
URL:https://septem.stghislain.be/agenda/balade-plantes-sauvages-comestibles/
CATEGORIES:Ateliers,Bien-être,REPIT,Saint-Ghislain
ATTACH;FMTTYPE=image/jpeg:https://septem.stghislain.be/wp-content/uploads/2023/06/Balade_plantes_sauvages_comestibles_REPIT20-Septem-Culture_Saint_Ghislain-2023.jpg
ORGANIZER;CN="Septem":MAILTO:info@septem.stghislain.be
END:VEVENT
END:VCALENDAR