BEGIN:VCALENDAR
VERSION:2.0
PRODID:-//Septem - ECPv6.0.13.1//NONSGML v1.0//EN
CALSCALE:GREGORIAN
METHOD:PUBLISH
X-WR-CALNAME:Septem
X-ORIGINAL-URL:https://septem.stghislain.be
X-WR-CALDESC:évènements pour Septem
REFRESH-INTERVAL;VALUE=DURATION:PT1H
X-Robots-Tag:noindex
X-PUBLISHED-TTL:PT1H
BEGIN:VTIMEZONE
TZID:Europe/Brussels
BEGIN:DAYLIGHT
TZOFFSETFROM:+0100
TZOFFSETTO:+0200
TZNAME:CEST
DTSTART:20230326T010000
END:DAYLIGHT
BEGIN:STANDARD
TZOFFSETFROM:+0200
TZOFFSETTO:+0100
TZNAME:CET
DTSTART:20231029T010000
END:STANDARD
END:VTIMEZONE
BEGIN:VEVENT
DTSTART;TZID=Europe/Brussels:20230710T090000
DTEND;TZID=Europe/Brussels:20230714T090000
DTSTAMP:20260424T124239
CREATED:20230619T201548Z
LAST-MODIFIED:20230725T072905Z
UID:10000174-1688979600-1689325200@septem.stghislain.be
SUMMARY:REPIT 4 | Stage de théâtre et d’expression de 6 à 18 ans
DESCRIPTION:COMPLET \nUn stage pour créer…Un stage pour conter\, jouer et inventer ! Venez découvrir la scène\, l’écriture\,la création de décors et de personnages. Pendant quelques jours\, nous allons voyager dans un monde particulier : celui de tous les possibles. \nde 6 à 18ansInscriptions et infos :Inscriptions par mail à : theatreducopion@gmail.com (avant le 5/07 et sous réserve de places disponibles) \nPar téléphone au : 065/64.35.31 \nStage avec garderie à partir de 8h30 jusque 16h30 ; prévoir le repas de midi et une tenue souple et confortable. \nAnimateur: Théâtre du COPION
URL:https://septem.stghislain.be/agenda/stage-de-theatre/
LOCATION:Les Jardins du Cloître\, 37 Grand Place\, Saint-Ghislain\, 7330\, Belgique
CATEGORIES:Arts de la scène,Ateliers,REPIT,Saint-Ghislain,Théâtre
ATTACH;FMTTYPE=image/jpeg:https://septem.stghislain.be/wp-content/uploads/2023/06/stage_theatre_REPIT4-Septem-Culture_Saint_Ghislain-2023.jpg
ORGANIZER;CN="Septem":MAILTO:info@septem.stghislain.be
END:VEVENT
BEGIN:VEVENT
DTSTART;TZID=Europe/Brussels:20230710T093000
DTEND;TZID=Europe/Brussels:20230714T093000
DTSTAMP:20260424T124239
CREATED:20230621T074533Z
LAST-MODIFIED:20230725T072904Z
UID:10000183-1688981400-1689327000@septem.stghislain.be
SUMMARY:REPIT 13 | Immersion néerlandais : Dessin et peinture à partir de 7 ans
DESCRIPTION:Stages /ateliers de dessin et d’aquarelle pour débutant comme pour non-débutant\, pour petits et grands\, mais sera donné en… immersion en langue néerlandaise par une native.2 groupes sont proposés : les vraiment débutants (si il y en a!) et les personnes qui aiment s’exprimer par le dessin\, la peinture\, l’aquarelle.Dans les 2 cas peut être les bases de perspectives seront exposées (les 3 types) et les participants passeront directement à l’expression par aquarelle\, et/ou craies\, pastels.Nécessaire d’apporter : un bloc de dessin (format au choix)\, et 3 crayons (BB\,B\,HB) ; les 3 couleurs primaires.Le stage se fera au-dehors (nature)\, ou à l’intérieur selon le temps. \ndu 10 au 14/07 et du 24 au 28/07
URL:https://septem.stghislain.be/agenda/immersion-neeelandais-dessin-peinture/
LOCATION:Chapelle du Couvent des Soeurs Franciscaines\, Place\, 6\, Hautrage\, 7334\, Belgique
CATEGORIES:Arts Visuels,Ateliers,Hautrage,REPIT,Saint-Ghislain
ATTACH;FMTTYPE=image/jpeg:https://septem.stghislain.be/wp-content/uploads/2023/06/stage_immersion_neerlandais_dessin_peinture_REPIT13-Septem-Culture_Saint_Ghislain-2023.jpg
ORGANIZER;CN="Septem":MAILTO:info@septem.stghislain.be
GEO:50.530181184907;3.7936792227194
X-APPLE-STRUCTURED-LOCATION;VALUE=URI;X-ADDRESS=Chapelle du Couvent des Soeurs Franciscaines Place 6 Hautrage 7334 Belgique;X-APPLE-RADIUS=500;X-TITLE=Place\, 6:geo:3.7936792227194,50.530181184907
END:VEVENT
BEGIN:VEVENT
DTSTART;TZID=Europe/Brussels:20230710T140000
DTEND;TZID=Europe/Brussels:20230714T180000
DTSTAMP:20260424T124239
CREATED:20230630T042123Z
LAST-MODIFIED:20230805T071222Z
UID:10000205-1688997600-1689357600@septem.stghislain.be
SUMMARY:REPIT 11 | Atelier de création de géants
DESCRIPTION:Et si on fabriquait …un géant ? \nSEPTEM lance un défi aux habitants des 7 villages de l’entité : que chaque village fabrique SON géant… Un géant qui le représente\, qui porte son histoire\, ses traditions\, ses couleurs.L’atelier se passera en 6 semaines et 2 moments principaux :– « Et si on se faisait une grosse tête ? » : \n3 semaines pour construire les têtes et les ossatures ; \n3 semaines pour la couture\, les habillages et la décoration \nEt pour finir ? Les Géants seront exposés lors d’une journée spéciale « Fête du REPIT » le 9 septembre aux Jardins du Cloître avant de vivre … leur vie de géants et de défiler ! Une réunion préparatoire avec les animatrices aura lieu le mercredi 28 juin avec tous les volontaires inscrits à l’atelier.
URL:https://septem.stghislain.be/agenda/atelier-creation-geants/2023-07-10/
LOCATION:Couvent d’Hautrage\, Grand'Place\, Hautrage\, 7334
CATEGORIES:Ateliers,Marionnettes,REPIT,Saint-Ghislain
ATTACH;FMTTYPE=image/jpeg:https://septem.stghislain.be/wp-content/uploads/2023/06/atelier_creation_geant_REPIT11-Septem-Culture_Saint_Ghislain-2023.jpg
ORGANIZER;CN="Septem":MAILTO:info@septem.stghislain.be
END:VEVENT
BEGIN:VEVENT
DTSTART;TZID=Europe/Brussels:20230714T103000
DTEND;TZID=Europe/Brussels:20230714T120000
DTSTAMP:20260424T124239
CREATED:20230621T090019Z
LAST-MODIFIED:20230725T072903Z
UID:10000219-1689330600-1689336000@septem.stghislain.be
SUMMARY:REPIT 18 | Balades méditatives et bains de forêt
DESCRIPTION:Dates: Le 07 et 14 Juillet – Le 18 août \nL’été c’est aussi le moment idéal pour expérimenter la détente\, la pleine conscience et la connexion avec la nature. Marie-Anne Poucet vous propose donc une marche en forêt.Venez découvrir lors d’une balade des temps d’arrêt\, des techniques de respiration issues du Qi Gong\, des temps de méditation\, des temps de connexion à ses 5 sens et à la nature. Tout ceci dans un cadre verdoyant à la découverte de la faune et la flore de notre région. \nPossibilité aussi\, d’aller à la rencontre des arbres\, découvrir comment se connecter à eux et réaliser un soin énergétique avec les arbres. \nTout public \nAnimatrice: Marie-Anne Poucet \nLieu: Bois de Baudour : entrée Chemin du Long Boules\, parcours Vitae
URL:https://septem.stghislain.be/agenda/balades-meditatives/2023-07-14/
CATEGORIES:Bien-être,Médiation,REPIT,Saint-Ghislain
ATTACH;FMTTYPE=image/jpeg:https://septem.stghislain.be/wp-content/uploads/2023/06/balades_meditatives_REPIT18-Septem-Culture_Saint_Ghislain-2023.jpg
ORGANIZER;CN="Septem":MAILTO:info@septem.stghislain.be
END:VEVENT
BEGIN:VEVENT
DTSTART;TZID=Europe/Brussels:20230714T180000
DTEND;TZID=Europe/Brussels:20230714T193000
DTSTAMP:20260424T124239
CREATED:20230630T035855Z
LAST-MODIFIED:20230725T072903Z
UID:10000200-1689357600-1689363000@septem.stghislain.be
SUMMARY:REPIT 10 | Et si on se faisait une partie d'échecs ?
DESCRIPTION:​Modules d’initiation à la pratique du jeu d’échecs. \nLieu: A Saint-Ghislain\, dans la rue de l’Abbaye (derrière Septem)\, à hauteur du n°8\, entrez dans le parc en passant sous le tunnel de l’immeuble\, le local se trouve au fond d’une cour clôturée à 50 mètres à droite. \nLes vendredis 7/14 et 28 juillet et 4/11/18 août
URL:https://septem.stghislain.be/agenda/echecs/2023-07-14/
LOCATION:Les Jardins du Cloître\, 37 Grand Place\, Saint-Ghislain\, 7330\, Belgique
CATEGORIES:Ateliers,REPIT,Saint-Ghislain
ATTACH;FMTTYPE=image/jpeg:https://septem.stghislain.be/wp-content/uploads/2023/06/parties_echecs_REPIT10-Septem-Culture_Saint_Ghislain-2023.jpg
ORGANIZER;CN="Septem":MAILTO:info@septem.stghislain.be
END:VEVENT
END:VCALENDAR