BEGIN:VCALENDAR
VERSION:2.0
PRODID:-//Septem - ECPv6.0.13.1//NONSGML v1.0//EN
CALSCALE:GREGORIAN
METHOD:PUBLISH
X-ORIGINAL-URL:https://septem.stghislain.be
X-WR-CALDESC:évènements pour Septem
REFRESH-INTERVAL;VALUE=DURATION:PT1H
X-Robots-Tag:noindex
X-PUBLISHED-TTL:PT1H
BEGIN:VTIMEZONE
TZID:Europe/Brussels
BEGIN:DAYLIGHT
TZOFFSETFROM:+0100
TZOFFSETTO:+0200
TZNAME:CEST
DTSTART:20230326T010000
END:DAYLIGHT
BEGIN:STANDARD
TZOFFSETFROM:+0200
TZOFFSETTO:+0100
TZNAME:CET
DTSTART:20231029T010000
END:STANDARD
END:VTIMEZONE
BEGIN:VEVENT
DTSTART;TZID=Europe/Brussels:20230708T100000
DTEND;TZID=Europe/Brussels:20230708T130000
DTSTAMP:20260424T123019
CREATED:20230619T193357Z
LAST-MODIFIED:20230725T072906Z
UID:10000171-1688810400-1688821200@septem.stghislain.be
SUMMARY:REPIT 3 | Expression théâtrale | Prendre sa place sur scène 8 - 12 ans
DESCRIPTION:Initiation au travail du mouvement et à la présence en scène. \nL’animateur initiera les participants au mime\, aux techniques de clown\, à la technique de voix et à l’improvisation. \nAnimateur: Vincent LECLERCQ\, comédien et professeur à l’Ecole du Cirque d’Honnelles  \n8 à 12 ans
URL:https://septem.stghislain.be/agenda/prendre-sa-place-sur-scene/
LOCATION:Maison Villageoise d’Hautrage\, Pl. d'Hautrage 44\, 7334 Saint-Ghislain\, Hautrage\, 7334\, Belgique
CATEGORIES:Arts de la scène,Ateliers,REPIT,Saint-Ghislain,Théâtre
ATTACH;FMTTYPE=image/jpeg:https://septem.stghislain.be/wp-content/uploads/2023/06/expression_theatrale_REPIT3-8_12-Septem-Culture_Saint_Ghislain-2023-c.jpg
ORGANIZER;CN="Septem":MAILTO:info@septem.stghislain.be
END:VEVENT
BEGIN:VEVENT
DTSTART;TZID=Europe/Brussels:20230708T140000
DTEND;TZID=Europe/Brussels:20230708T170000
DTSTAMP:20260424T123019
CREATED:20230619T195832Z
LAST-MODIFIED:20230725T072906Z
UID:10000173-1688824800-1688835600@septem.stghislain.be
SUMMARY:REPIT 3 | Expression théâtrale | Prendre sa place sur scène 13 - 16 ans
DESCRIPTION:Initiation au travail du mouvement et à la présence en scène. \nL’animateur initiera les participants au mime\, aux techniques de clown\, à la technique de voix et à l’improvisation. \nAnimateur: Vincent LECLERCQ\, comédien et professeur à l’Ecole du Cirque d’Honnelles \n13 à 16 ans (Jusqu’à 17 ans)
URL:https://septem.stghislain.be/agenda/repit-3-expression-theatrale-prendre-sa-place-sur-scene-13-16/
LOCATION:Maison Villageoise d’Hautrage\, Pl. d'Hautrage 44\, 7334 Saint-Ghislain\, Hautrage\, 7334\, Belgique
CATEGORIES:Arts de la scène,Ateliers,Medium,REPIT,Saint-Ghislain,Théâtre
ATTACH;FMTTYPE=image/jpeg:https://septem.stghislain.be/wp-content/uploads/2023/06/expression_theatrale_REPIT3-13-16-Septem-Culture_Saint_Ghislain-2023-c.jpg
ORGANIZER;CN="Septem":MAILTO:info@septem.stghislain.be
END:VEVENT
BEGIN:VEVENT
DTSTART;TZID=Europe/Brussels:20230708T200000
DTEND;TZID=Europe/Brussels:20230708T220000
DTSTAMP:20260424T123019
CREATED:20230704T170934Z
LAST-MODIFIED:20230704T170937Z
UID:10000232-1688846400-1688853600@septem.stghislain.be
SUMMARY:Concert | Orgue et Violon
DESCRIPTION:Venez passez un moment unique sous la douce mélodie du violon unie à l’orgue avec Isabelle Lachapelle et Bernard Defêche \nProgramme concert du 8 juillet \nSonate de Haendel    E Maj .HWV 373 \nAria de J.S.Bach \nConcerto en la min   Vivaldi.  RV356 \nAve Maria de Gounod \nBarcarolle.  J.Offenbach \nMélodie de A.Rubinstein \nSuite pour violon et orgue op 166 \nPreludium \nMéditation de Thais. J.Massenet \nValse triste.   J.Sibélius \nCzardas V.Monti \nConquest of paradise   Vangélis \nIsabelle LachapelleNée à Charleroi en 1971\, Isabelle a étudié le violon depuis l’âge de 6 ans à l’Académie de musique de Fleurus. Elle entre au Conservatoire Royal de Bruxelles en 1985 et obtient le Premier prix de solfège avec grande distinction. En 1990\, Isabelle obtient le Premier prix de violon au Conservatoire Royal de Bruxelles dans la classe de Léon Ara et est lauréate du concours Pro-civitate. Après 2 années suivies dans la classe de Léon Ara\, elle entre au Conservatoire Royal de Mons dans la classe de Véronique Bogaerts où elle obtient son diplôme supérieur de violon avec grande distinction\, ainsi que son diplôme supérieur de musique de chambre en 1994. Elle est également lauréate du concours René. En 1996\, elle entre à la Hogeschool voor Kunsten à Utrecht dans la classe de V.Liebermann et K. Wataya. Finalité avec distinction à la Hogeschool voor Kunsten à Utrecht en 1998 et 1er prix au concours de Beauraing. Isabelle se produit sur diverses scènes internationales (salle Pleyel à Paris Conservatoire Royal de Bruxelles…). Isabelle a suivi des cours avec Alexandre Brussilovsky\, Igor Oistrack\, Koji Toyoda… Isabelle a ensuite travaillé dans divers orchestres : Orchestre National de Belgique\, Orchestre de chambre de Wallonie. Elle travaille depuis 2006 à l’Opéra Royal de Wallonie. Depuis 2014 \, Isabelle approfondit ses connaissances de la musique anciennes au conservatoire royal de Bruxelles dans la classe de M.Glodeanu \, B.Douchy et A.Moccia.Bernard Defêche.Il débute l’apprentissage de la musique grâce à son père Jean DEFECHE. Admis à l’âge de 10 ans au Conservatoire Royal supérieur de Musique de Mons. C’est aux conservatoires royaux de Mons et de Bruxelles que Bernard Defêche a obtenu ses diplômes supérieurs d’orgue et de piano. Il s’est perfectionné auprès de Maître Eduardo d’El Pueyo.  A côté de ses activités d’interprète\, Bernard Defêche enseigne au Conservatoire royal de musique de Bruxelles\, il compose également des œuvres pour orgue\, piano\, chœurs et orchestre et pratique la direction musicale.
URL:https://septem.stghislain.be/agenda/orgue-et-violon/
LOCATION:Eglise Saints-Ghislain-et-Martin\, Grand-Place\,47\, Saint-Ghislain\, 7330
CATEGORIES:Concerts,Musique,Saint-Ghislain
ATTACH;FMTTYPE=image/jpeg:https://septem.stghislain.be/wp-content/uploads/2023/07/concert_orgue_et_violon-Septem-Culture_Saint_Ghislain-2023.jpg
ORGANIZER;CN="Septem":MAILTO:info@septem.stghislain.be
END:VEVENT
END:VCALENDAR