BEGIN:VCALENDAR
VERSION:2.0
PRODID:-//Septem - ECPv6.0.13.1//NONSGML v1.0//EN
CALSCALE:GREGORIAN
METHOD:PUBLISH
X-ORIGINAL-URL:https://septem.stghislain.be
X-WR-CALDESC:évènements pour Septem
REFRESH-INTERVAL;VALUE=DURATION:PT1H
X-Robots-Tag:noindex
X-PUBLISHED-TTL:PT1H
BEGIN:VTIMEZONE
TZID:Europe/Brussels
BEGIN:DAYLIGHT
TZOFFSETFROM:+0100
TZOFFSETTO:+0200
TZNAME:CEST
DTSTART:20230326T010000
END:DAYLIGHT
BEGIN:STANDARD
TZOFFSETFROM:+0200
TZOFFSETTO:+0100
TZNAME:CET
DTSTART:20231029T010000
END:STANDARD
END:VTIMEZONE
BEGIN:VEVENT
DTSTART;TZID=Europe/Brussels:20230623T183000
DTEND;TZID=Europe/Brussels:20230706T180000
DTSTAMP:20260424T135945
CREATED:20230612T125502Z
LAST-MODIFIED:20230612T130728Z
UID:10000158-1687545000-1688666400@septem.stghislain.be
SUMMARY:Exposition | Les gares de l'entité de St-Ghislain au fil de l’histoire
DESCRIPTION:En partenariat avec la Saga des Trains\, Septem vous invite à l’exposition « Les gares de l’entité de Saint-Ghislain au fil de l’histoire » aux Jardins du Cloître\, salle la Licorne. \nVendredi 23 juin à 18h00\, ouverture de l’exposition suivie à 18h30 du vernissage. \nSamedi 24 juin à 16h00\, conférence par Marcel Vilain\, guide au Rétrotrain de Saint-Ghislain. \nL’exposition sera visible jusqu’au 6 juillet. \nEntrée gratuite.
URL:https://septem.stghislain.be/agenda/exposition-les-gares-de-st-ghislain/
LOCATION:Les Jardins du Cloître\, 37 Grand Place\, Saint-Ghislain\, 7330\, Belgique
CATEGORIES:Expositions,Saint-Ghislain
ATTACH;FMTTYPE=image/jpeg:https://septem.stghislain.be/wp-content/uploads/2023/06/exposition_les_gares_de_l_entite_de_St-Ghislain2-Septem-Culture_Saint_Ghislain-2023.jpg
ORGANIZER;CN="Septem":MAILTO:info@septem.stghislain.be
END:VEVENT
BEGIN:VEVENT
DTSTART;TZID=Europe/Brussels:20230630T203000
DTEND;TZID=Europe/Brussels:20230630T223000
DTSTAMP:20260424T135945
CREATED:20230608T105157Z
LAST-MODIFIED:20230630T104214Z
UID:10000161-1688157000-1688164200@septem.stghislain.be
SUMMARY:Concert | Edouard van Praet
DESCRIPTION:Au fil d’une enfance disons-le « classique »\, Edouard s’est laissé poursuivre par l’envie d’apprendre\, composer et produire de la musique. Petit\, il débute via des cours de piano ; en vain. Il enchaîne sur la gratte ; même rengaine. Des actes manqués\, écrasés par un quotidien routinier\, la flemme (peut-être) et le sentiment de ne pas parvenir à du concret\, (sûrement). \nC’est comme beaucoup d’adolescents qu’il lance son premier groupe\, avec son meilleur pote\, à l’âge de 15 ans\, entre les quatre murs du lycée.  \nDurant ses lives\, Edouard est habité par les personnages de ses chansons. Entouré de ses 4 musiciens\, c’est à une véritable performance qu’il nous convie\, dans tous ses excès mais aussi dans ses accalmies envoûtantes. Entre maladresses contrôlées et personnages étranges\, ce qui en ressort\, c’est son charisme. \n 
URL:https://septem.stghislain.be/agenda/concert-edouard-van-praet/
LOCATION:Les Jardins du Cloître\, 37 Grand Place\, Saint-Ghislain\, 7330\, Belgique
CATEGORIES:Concerts,Musique,Saint-Ghislain
ATTACH;FMTTYPE=image/jpeg:https://septem.stghislain.be/wp-content/uploads/2023/06/Edouard_van_Praet-concert-musique_Saint-Ghislain-2023.jpg
ORGANIZER;CN="Septem":MAILTO:info@septem.stghislain.be
END:VEVENT
END:VCALENDAR