BEGIN:VCALENDAR
VERSION:2.0
PRODID:-//Septem - ECPv6.0.13.1//NONSGML v1.0//EN
CALSCALE:GREGORIAN
METHOD:PUBLISH
X-WR-CALNAME:Septem
X-ORIGINAL-URL:https://septem.stghislain.be
X-WR-CALDESC:évènements pour Septem
REFRESH-INTERVAL;VALUE=DURATION:PT1H
X-Robots-Tag:noindex
X-PUBLISHED-TTL:PT1H
BEGIN:VTIMEZONE
TZID:Europe/Brussels
BEGIN:DAYLIGHT
TZOFFSETFROM:+0100
TZOFFSETTO:+0200
TZNAME:CEST
DTSTART:20230326T010000
END:DAYLIGHT
BEGIN:STANDARD
TZOFFSETFROM:+0200
TZOFFSETTO:+0100
TZNAME:CET
DTSTART:20231029T010000
END:STANDARD
END:VTIMEZONE
BEGIN:VEVENT
DTSTART;TZID=Europe/Brussels:20230623T183000
DTEND;TZID=Europe/Brussels:20230706T180000
DTSTAMP:20260424T135801
CREATED:20230612T125502Z
LAST-MODIFIED:20230612T130728Z
UID:10000158-1687545000-1688666400@septem.stghislain.be
SUMMARY:Exposition | Les gares de l'entité de St-Ghislain au fil de l’histoire
DESCRIPTION:En partenariat avec la Saga des Trains\, Septem vous invite à l’exposition « Les gares de l’entité de Saint-Ghislain au fil de l’histoire » aux Jardins du Cloître\, salle la Licorne. \nVendredi 23 juin à 18h00\, ouverture de l’exposition suivie à 18h30 du vernissage. \nSamedi 24 juin à 16h00\, conférence par Marcel Vilain\, guide au Rétrotrain de Saint-Ghislain. \nL’exposition sera visible jusqu’au 6 juillet. \nEntrée gratuite.
URL:https://septem.stghislain.be/agenda/exposition-les-gares-de-st-ghislain/
LOCATION:Les Jardins du Cloître\, 37 Grand Place\, Saint-Ghislain\, 7330\, Belgique
CATEGORIES:Expositions,Saint-Ghislain
ATTACH;FMTTYPE=image/jpeg:https://septem.stghislain.be/wp-content/uploads/2023/06/exposition_les_gares_de_l_entite_de_St-Ghislain2-Septem-Culture_Saint_Ghislain-2023.jpg
ORGANIZER;CN="Septem":MAILTO:info@septem.stghislain.be
END:VEVENT
BEGIN:VEVENT
DTSTART;TZID=Europe/Brussels:20230625T100000
DTEND;TZID=Europe/Brussels:20230625T111500
DTSTAMP:20260424T135801
CREATED:20230619T191435Z
LAST-MODIFIED:20230619T191440Z
UID:10000169-1687687200-1687691700@septem.stghislain.be
SUMMARY:Atelier | Yoga Parents-Enfants (3 à 6 ans)
DESCRIPTION:Pratiquer le yoga avec son enfant\, c’est avant tout\, un moment de partage. Un moment privilégié où chacun prend conscience de son fonctionnement et entre en lien avec l’autre. Un moment ludique\, relaxant hors du train-train quotidien qui nous ramène à l’essentiel: l’amour inconditionnel.Un atelier proposé par « Les Sentiers de Lily-Bulle »
URL:https://septem.stghislain.be/agenda/atelier-yoga-parents-enfants-3-a-6-ans-2/
LOCATION:Les Jardins du Cloître\, 37 Grand Place\, Saint-Ghislain\, 7330\, Belgique
CATEGORIES:Ateliers,Bien-être,En famille,Jeune public,Saint-Ghislain
ATTACH;FMTTYPE=image/jpeg:https://septem.stghislain.be/wp-content/uploads/2023/04/les_sentiers_de_lily_bulle-yoga_enfants-Banner1-septem-culture_Saint_Ghislain-2023.jpg
ORGANIZER;CN="Septem":MAILTO:info@septem.stghislain.be
END:VEVENT
BEGIN:VEVENT
DTSTART;TZID=Europe/Brussels:20230625T111500
DTEND;TZID=Europe/Brussels:20230625T120000
DTSTAMP:20260424T135801
CREATED:20230619T191709Z
LAST-MODIFIED:20230619T191713Z
UID:10000170-1687691700-1687694400@septem.stghislain.be
SUMMARY:Atelier | Yoga Parents-Enfants (7 à 12 ans)
DESCRIPTION:Pratiquer le yoga avec son enfant\, c’est avant tout\, un moment de partage. Un moment privilégié où chacun prend conscience de son fonctionnement et entre en lien avec l’autre. Un moment ludique\, relaxant hors du train-train quotidien qui nous ramène à l’essentiel: l’amour inconditionnel. \nUn atelier proposé par Les Sentiers de Lily-Bulle.
URL:https://septem.stghislain.be/agenda/atelier-yoga-parents-enfants-7-a-12-ans-2/
LOCATION:Les Jardins du Cloître\, 37 Grand Place\, Saint-Ghislain\, 7330\, Belgique
CATEGORIES:Ateliers,Bien-être,En famille,Jeune public,Saint-Ghislain
ATTACH;FMTTYPE=image/jpeg:https://septem.stghislain.be/wp-content/uploads/2023/04/les_sentiers_de_lily_bulle-yoga_enfants-Banner2-septem-culture_Saint_Ghislain-2023.jpg
ORGANIZER;CN="Septem":MAILTO:info@septem.stghislain.be
END:VEVENT
END:VCALENDAR