BEGIN:VCALENDAR
VERSION:2.0
PRODID:-//Septem - ECPv6.0.13.1//NONSGML v1.0//EN
CALSCALE:GREGORIAN
METHOD:PUBLISH
X-ORIGINAL-URL:https://septem.stghislain.be
X-WR-CALDESC:évènements pour Septem
REFRESH-INTERVAL;VALUE=DURATION:PT1H
X-Robots-Tag:noindex
X-PUBLISHED-TTL:PT1H
BEGIN:VTIMEZONE
TZID:Europe/Brussels
BEGIN:DAYLIGHT
TZOFFSETFROM:+0100
TZOFFSETTO:+0200
TZNAME:CEST
DTSTART:20230326T010000
END:DAYLIGHT
BEGIN:STANDARD
TZOFFSETFROM:+0200
TZOFFSETTO:+0100
TZNAME:CET
DTSTART:20231029T010000
END:STANDARD
END:VTIMEZONE
BEGIN:VEVENT
DTSTART;TZID=Europe/Brussels:20230618T160000
DTEND;TZID=Europe/Brussels:20230618T180000
DTSTAMP:20260424T140103
CREATED:20230608T075834Z
LAST-MODIFIED:20231010T215909Z
UID:10000159-1687104000-1687111200@septem.stghislain.be
SUMMARY:Cinéma | Le petit Nicolas Qu'est-ce qu'on attend pour être heureux ?
DESCRIPTION:Penchés sur une large feuille blanche quelque part entre Montmartre et Saint-Germain-des-Prés\, Jean-Jacques Sempé et René Goscinny donnent vie à un petit garçon rieur et malicieux\, le Petit Nicolas. Entre camaraderie\, disputes\, bagarres\, jeux\, bêtises\, et punitions à la pelle\, Nicolas vit une enfance faite de joies et d’apprentissages. \nAu fil du récit\, le garçon se glisse dans l’atelier de ses créateurs\, et les interpelle avec drôlerie. Sempé et Goscinny lui raconteront leur rencontre\, leur amitié\, mais aussi leurs parcours\, leurs secrets et leur enfance. \n\nUn film d’Amandine Fredon et Benjamin Massoubre.Avec les voix d’Alain Chabat\, Laurent Lafitte et Simon Faliu.
URL:https://septem.stghislain.be/agenda/cinema-le-petit-nicolas/
LOCATION:Les Jardins du Cloître\, 37 Grand Place\, Saint-Ghislain\, 7330\, Belgique
CATEGORIES:Ciné Famille,Cinéma,Films,Projections,Saint-Ghislain
ATTACH;FMTTYPE=image/jpeg:https://septem.stghislain.be/wp-content/uploads/2023/06/cinema_le_petit_Nicolas-Septem-Culture_Saint_Ghislain-2023.jpg
ORGANIZER;CN="Septem":MAILTO:info@septem.stghislain.be
END:VEVENT
END:VCALENDAR