BEGIN:VCALENDAR
VERSION:2.0
PRODID:-//Septem - ECPv6.0.13.1//NONSGML v1.0//EN
CALSCALE:GREGORIAN
METHOD:PUBLISH
X-WR-CALNAME:Septem
X-ORIGINAL-URL:https://septem.stghislain.be
X-WR-CALDESC:évènements pour Septem
REFRESH-INTERVAL;VALUE=DURATION:PT1H
X-Robots-Tag:noindex
X-PUBLISHED-TTL:PT1H
BEGIN:VTIMEZONE
TZID:Europe/Brussels
BEGIN:DAYLIGHT
TZOFFSETFROM:+0100
TZOFFSETTO:+0200
TZNAME:CEST
DTSTART:20230326T010000
END:DAYLIGHT
BEGIN:STANDARD
TZOFFSETFROM:+0200
TZOFFSETTO:+0100
TZNAME:CET
DTSTART:20231029T010000
END:STANDARD
END:VTIMEZONE
BEGIN:VEVENT
DTSTART;TZID=Europe/Brussels:20230601T200000
DTEND;TZID=Europe/Brussels:20230601T213000
DTSTAMP:20260424T135705
CREATED:20230420T092213Z
LAST-MODIFIED:20230420T092217Z
UID:10000148-1685649600-1685655000@septem.stghislain.be
SUMMARY:Concert | Bluesy Mary
DESCRIPTION:Bluesy Mary est un projet à la croisée des mondes classique et jazz\, ayant la particularité d’avoir comme point de départ\, en grande partie\, des chants issus du répertoire classique. Cette fusion est rendue profonde et subtile par le lien entre le jeu de célèbres musiciens jazz et les spécificités de chaque morceau classique. Ainsi\, par exemple\, le jeu de Bill Evans se lie à « la Méditation de Thaïs » de Massenet\, les balades de Nat King Cole à « Après un rêve » de Fauré. Le tout étant de rendre ces deux mondes accessibles à tous par le biais de sonorités et thèmes inscrits dans le conscient et/ou l’inconscient collectif.
URL:https://septem.stghislain.be/agenda/concert-bluesy-mary/
LOCATION:Les Jardins du Cloître\, 37 Grand Place\, Saint-Ghislain\, 7330\, Belgique
CATEGORIES:Arts de la scène,Concerts,Musique,Saint-Ghislain
ATTACH;FMTTYPE=image/jpeg:https://septem.stghislain.be/wp-content/uploads/2023/04/bluesy_mary-septem-culture_Saint_Ghislain-2023.jpg
ORGANIZER;CN="Septem":MAILTO:info@septem.stghislain.be
END:VEVENT
END:VCALENDAR