BEGIN:VCALENDAR
VERSION:2.0
PRODID:-//Septem - ECPv6.0.13.1//NONSGML v1.0//EN
CALSCALE:GREGORIAN
METHOD:PUBLISH
X-WR-CALNAME:Septem
X-ORIGINAL-URL:https://septem.stghislain.be
X-WR-CALDESC:évènements pour Septem
REFRESH-INTERVAL;VALUE=DURATION:PT1H
X-Robots-Tag:noindex
X-PUBLISHED-TTL:PT1H
BEGIN:VTIMEZONE
TZID:Europe/Brussels
BEGIN:DAYLIGHT
TZOFFSETFROM:+0100
TZOFFSETTO:+0200
TZNAME:CEST
DTSTART:20230326T010000
END:DAYLIGHT
BEGIN:STANDARD
TZOFFSETFROM:+0200
TZOFFSETTO:+0100
TZNAME:CET
DTSTART:20231029T010000
END:STANDARD
END:VTIMEZONE
BEGIN:VEVENT
DTSTART;TZID=Europe/Brussels:20230520T090000
DTEND;TZID=Europe/Brussels:20230520T120000
DTSTAMP:20260424T151905
CREATED:20230420T090154Z
LAST-MODIFIED:20230420T091905Z
UID:10000151-1684573200-1684584000@septem.stghislain.be
SUMMARY:Atelier | Aquarelle
DESCRIPTION:Approche créative de l’aquarelle\, Ingrid Barviau aquarelliste diplômée à l’école des métiers d’art du Hainaut à Mons vous propose l’initiation aux différentes textures\, l’utilisation des pigments\, la réalisation d’une composition.Elle accueille un groupe niveau débutant\, adultes et adolescents. \nMatériel d’aquarelle requis.
URL:https://septem.stghislain.be/agenda/atelier-aquarelle-20-mai/
LOCATION:Les Jardins du Cloître\, 37 Grand Place\, Saint-Ghislain\, 7330\, Belgique
CATEGORIES:Arts Plastiques,Ateliers,Saint-Ghislain
ATTACH;FMTTYPE=image/jpeg:https://septem.stghislain.be/wp-content/uploads/2023/04/ingrid_barviau-atelier_aquarelle-septem-culture_Saint_Ghislain-2023.jpg
ORGANIZER;CN="Septem":MAILTO:info@septem.stghislain.be
END:VEVENT
END:VCALENDAR