BEGIN:VCALENDAR
VERSION:2.0
PRODID:-//Septem - ECPv6.0.13.1//NONSGML v1.0//EN
CALSCALE:GREGORIAN
METHOD:PUBLISH
X-WR-CALNAME:Septem
X-ORIGINAL-URL:https://septem.stghislain.be
X-WR-CALDESC:évènements pour Septem
REFRESH-INTERVAL;VALUE=DURATION:PT1H
X-Robots-Tag:noindex
X-PUBLISHED-TTL:PT1H
BEGIN:VTIMEZONE
TZID:Europe/Brussels
BEGIN:DAYLIGHT
TZOFFSETFROM:+0100
TZOFFSETTO:+0200
TZNAME:CEST
DTSTART:20230326T010000
END:DAYLIGHT
BEGIN:STANDARD
TZOFFSETFROM:+0200
TZOFFSETTO:+0100
TZNAME:CET
DTSTART:20231029T010000
END:STANDARD
END:VTIMEZONE
BEGIN:VEVENT
DTSTART;TZID=Europe/Brussels:20230514T160000
DTEND;TZID=Europe/Brussels:20230514T180000
DTSTAMP:20260424T151849
CREATED:20230420T161605Z
LAST-MODIFIED:20231010T215938Z
UID:10000144-1684080000-1684087200@septem.stghislain.be
SUMMARY:Cinéma | Ernest et Célestine en Charabie
DESCRIPTION:Ernest et Célestine retournent au pays d’Ernest\, la Charabie\, pour faire réparer son précieux violon cassé. Ils découvrent alors que la musique est bannie dans tout le pays depuis plusieurs années. Pour nos deux héros\, il est impensable de vivre sans musique ! Accompagnés de complices\, dont un mystérieux justicier masqué\, Ernest et Célestine vont tenter de réparer cette injustice afin de ramener la joie au pays des ours.
URL:https://septem.stghislain.be/agenda/cinema-ernest-et-celestine-en-charabie/
LOCATION:Les Jardins du Cloître\, 37 Grand Place\, Saint-Ghislain\, 7330\, Belgique
CATEGORIES:Ciné Famille,Cinéma,Films,Projections,Saint-Ghislain
ATTACH;FMTTYPE=image/jpeg:https://septem.stghislain.be/wp-content/uploads/2023/04/ernest_et_celestine_en_charabie-septem-culture_Saint_Ghislain-2023.jpg
ORGANIZER;CN="Septem":MAILTO:info@septem.stghislain.be
END:VEVENT
END:VCALENDAR