BEGIN:VCALENDAR
VERSION:2.0
PRODID:-//Septem - ECPv6.0.13.1//NONSGML v1.0//EN
CALSCALE:GREGORIAN
METHOD:PUBLISH
X-WR-CALNAME:Septem
X-ORIGINAL-URL:https://septem.stghislain.be
X-WR-CALDESC:évènements pour Septem
REFRESH-INTERVAL;VALUE=DURATION:PT1H
X-Robots-Tag:noindex
X-PUBLISHED-TTL:PT1H
BEGIN:VTIMEZONE
TZID:Europe/Brussels
BEGIN:DAYLIGHT
TZOFFSETFROM:+0100
TZOFFSETTO:+0200
TZNAME:CEST
DTSTART:20230326T010000
END:DAYLIGHT
BEGIN:STANDARD
TZOFFSETFROM:+0200
TZOFFSETTO:+0100
TZNAME:CET
DTSTART:20231029T010000
END:STANDARD
END:VTIMEZONE
BEGIN:VEVENT
DTSTART;TZID=Europe/Brussels:20230420T180000
DTEND;TZID=Europe/Brussels:20230510T170000
DTSTAMP:20260424T164811
CREATED:20230410T122344Z
LAST-MODIFIED:20230410T122347Z
UID:10000132-1682013600-1683738000@septem.stghislain.be
SUMMARY:Expo | Isabelle MAILLEUX
DESCRIPTION:« Quand je dessine\, je suis dans ma bulle\, j’oublie le temps\, j’oublie les soucis\, je suis bien. » \nIsabelle Mailleux a grandi à Colfontaine mais c’est à Dour\, à l’Athénée Royal\, qu’elle découvre ce qui deviendra sa signature ; le pointillisme. Quelques années plus tard\, elle decide d’affiner sa technique et s’essaye également à l’aquarelle. D’abord assez pudique sur son art\, elle franchit finalement le pas d’exposer ses dessins qu’elle aime qualifier de « broderies » à son entourage. Ce qu’Isabelle aime par-dessus tout dans le dessin\, c’est l’extériorisation de ses émotions\, et le bien-être que celui-ci lui apporte. Cette exposition au grand public\, c’est une façon pour elle de dévoiler une part d’elle\, de son intimité et\, elle l’espère\, d’évoluer. \nVernissage : Jeudi 20 avril à partir de 18h00
URL:https://septem.stghislain.be/agenda/expo-isabelle-mailleux/
LOCATION:Les Jardins du Cloître\, 37 Grand Place\, Saint-Ghislain\, 7330\, Belgique
CATEGORIES:Saint-Ghislain
ATTACH;FMTTYPE=image/png:https://septem.stghislain.be/wp-content/uploads/2023/04/expo_isabelle_mailleux-septem-culture_Saint_Ghislain-2023.png
ORGANIZER;CN="Septem":MAILTO:info@septem.stghislain.be
END:VEVENT
BEGIN:VEVENT
DTSTART;TZID=Europe/Brussels:20230420T200000
DTEND;TZID=Europe/Brussels:20230420T220000
DTSTAMP:20260424T164811
CREATED:20230404T085004Z
LAST-MODIFIED:20230404T090236Z
UID:10000124-1682020800-1682028000@septem.stghislain.be
SUMMARY:Cinéma | Nos plus belles années de Gabriele Muccino
DESCRIPTION:Nos plus belles années (Gli anni più belli en italien) est un film dramatique réalisé par Gabriele Muccino\, sorti en 2020. \nL’histoire suit quatre amis d’enfance italiens\, Matteo\, Paolo\, Teo et Riccardo\, qui se retrouvent après des années de séparation pour assister aux funérailles de l’un d’entre eux. Le film raconte leur histoire d’amitié sur une période de plus de quarante ans\, de leur jeunesse dans les années 80 jusqu’à l’âge adulte. \nLe réalisateur Gabriele Muccino\, connu pour ses films tels que À la recherche du bonheur et Sept vies\, nous offre une réflexion émouvante sur le temps qui passe et les liens qui se tissent et se délient au fil des années. Le casting est composé de Pierfrancesco Favino\, Micaela Ramazzotti\, Kim Rossi Stuart et Claudio Santamaria\, tous remarquables dans leur interprétation de personnages profonds et nuancés. \nNos plus belles années est un film touchant\, poignant et subtil\, qui invite le spectateur à réfléchir sur la force de l’amitié et sur les choix que l’on fait tout au long de sa vie. \n\nRéalisation : Gabriele MuccinoScénario : Gabriele Muccino – Paolo CostellaActeurs principaux : Pierfrancesco Favino – Micaela Ramazzotti – Kim Rossi Stuart
URL:https://septem.stghislain.be/agenda/cinema-nos-plus-belles-annees-de-gabriele-muccino/
LOCATION:Les Jardins du Cloître\, 37 Grand Place\, Saint-Ghislain\, 7330\, Belgique
CATEGORIES:Cinéma,Films,Projections,Saint-Ghislain
ATTACH;FMTTYPE=image/jpeg:https://septem.stghislain.be/wp-content/uploads/2023/04/Cinema-Nos_plus_belles_annees-Gabriele_Muccino-Banner-Septem-Culture_Saint_Ghislain.jpg
ORGANIZER;CN="Septem":MAILTO:info@septem.stghislain.be
END:VEVENT
END:VCALENDAR