BEGIN:VCALENDAR
VERSION:2.0
PRODID:-//Septem - ECPv6.0.13.1//NONSGML v1.0//EN
CALSCALE:GREGORIAN
METHOD:PUBLISH
X-ORIGINAL-URL:https://septem.stghislain.be
X-WR-CALDESC:évènements pour Septem
REFRESH-INTERVAL;VALUE=DURATION:PT1H
X-Robots-Tag:noindex
X-PUBLISHED-TTL:PT1H
BEGIN:VTIMEZONE
TZID:Europe/Brussels
BEGIN:DAYLIGHT
TZOFFSETFROM:+0100
TZOFFSETTO:+0200
TZNAME:CEST
DTSTART:20230326T010000
END:DAYLIGHT
BEGIN:STANDARD
TZOFFSETFROM:+0200
TZOFFSETTO:+0100
TZNAME:CET
DTSTART:20231029T010000
END:STANDARD
END:VTIMEZONE
BEGIN:VEVENT
DTSTART;TZID=Europe/Brussels:20230329T200000
DTEND;TZID=Europe/Brussels:20230329T213000
DTSTAMP:20260424T165057
CREATED:20230312T220804Z
LAST-MODIFIED:20230329T124456Z
UID:10000098-1680120000-1680125400@septem.stghislain.be
SUMMARY:Concert | Jules & Jo
DESCRIPTION:ATTENTION ! CHANGEMENT DE DATEPour des raisons indépendantes de notre volonté\, ce concert est reporté au 17 septembre 2023 à 17h00. \nJULES & JO est un duo de chanson belge à tendance surréaliste qui sillonne depuis 2009 les scènes de Belgique et d’ailleurs pour chanter sa poésie absurde et redonner rire et joie à l’Humanité. Leur 3ème album « Chaise de Jardin » amène un spectacle plus vivant et déjanté que jamais. Mêlant machines électroniques\, accordéons\, guitares\, flûtes\, percussions\, abats-jours\, bocaux et cochonnets\, ils chantent ici les joies et les peines des objets délaissés…\nPrésenté au Festival d’Avignon en juillet 2021 (dispositif Chanson Off de Fédéchanson)\, ce voyage « cosmi-comique » a conquis de nombreux publics depuis… Lauréats de nombreux prix en France\, Belgique et Suisse\, dont le prix du public Georges Moustaki\, le prix Le Mans Cité Chanson ou la Médaille d’Or de la Chanson\, Jules & Jo creusent leur sillon : celui du « non-sens qui fait sens » et de la folie douce… \nSérieux(ses)\, s’abstenir ! \n\njulesetjo.be
URL:https://septem.stghislain.be/agenda/concert-jules-jo/
LOCATION:Les Jardins du Cloître\, 37 Grand Place\, Saint-Ghislain\, 7330\, Belgique
CATEGORIES:Arts de la scène,Concerts,Musique,Saint-Ghislain
ATTACH;FMTTYPE=image/png:https://septem.stghislain.be/wp-content/uploads/2023/03/jules_et_jo_.png
ORGANIZER;CN="Septem":MAILTO:info@septem.stghislain.be
END:VEVENT
END:VCALENDAR