BEGIN:VCALENDAR
VERSION:2.0
PRODID:-//Septem - ECPv6.0.13.1//NONSGML v1.0//EN
CALSCALE:GREGORIAN
METHOD:PUBLISH
X-ORIGINAL-URL:https://septem.stghislain.be
X-WR-CALDESC:évènements pour Septem
REFRESH-INTERVAL;VALUE=DURATION:PT1H
X-Robots-Tag:noindex
X-PUBLISHED-TTL:PT1H
BEGIN:VTIMEZONE
TZID:Europe/Brussels
BEGIN:DAYLIGHT
TZOFFSETFROM:+0100
TZOFFSETTO:+0200
TZNAME:CEST
DTSTART:20230326T010000
END:DAYLIGHT
BEGIN:STANDARD
TZOFFSETFROM:+0200
TZOFFSETTO:+0100
TZNAME:CET
DTSTART:20231029T010000
END:STANDARD
END:VTIMEZONE
BEGIN:VEVENT
DTSTART;TZID=Europe/Brussels:20230324T200000
DTEND;TZID=Europe/Brussels:20230324T211500
DTSTAMP:20260424T195316
CREATED:20230312T161811Z
LAST-MODIFIED:20230312T162814Z
UID:10000096-1679688000-1679692500@septem.stghislain.be
SUMMARY:Spectacle | #VU - Compagnie Arts Nomades
DESCRIPTION:Un spectacle jeune public (mais pas que) belge à ne pas manquer \nPièce reconnue d’utilité publique en Belgique\, #VU est un spectacle puissant sur un sujet d’actualité : le cyberharcèlement à l’école. Coup de foudre de la presse aux Rencontres Jeune Public de Huy et Prix Maeterlinck 2019 du meilleur spectacle jeune public en Fédération Wallonie Bruxelles\, c’est un spectacle destiné à être vu par tous. Il s’adresse aux adolescents à partir de 13 ans\, mais parle également aux adultes\, parents\, professeurs. \nLisa\, une jeune adolescente envoie un sexto à son petit ami. Mais très vite\, la photo fait le tour de l’école\, du quartier\, de la famille. Un jour\, elle débarque dans une soirée où ils se retrouvent tous sans l’avoir invité. \nUne plongée dans la boue des réseaux sociaux et des intimités v(i)olées. Un spectacle en salle pour une comédienne et un musicien. \nDistribution : \n\nInterprètes : Elfée Durşen et Max Charue\nMise en scène : Mattias De Paep et Andreas Christou\nScénographie : France Everard\nMusique : Vincent Cuignet\nPhoto : Ambre Christou\nTexte original : Mattias De Paep\nTraduction et adaptation : Andreas Christou\nCréation lumière : Mathieu Houart\nCréation sonore : Luna Gillet\nRégie générale : Julie De Baene\n\nDurée : 50 minutes
URL:https://septem.stghislain.be/agenda/spectacle-vu-compagnie-arts-nomades/
LOCATION:Les Jardins du Cloître\, 37 Grand Place\, Saint-Ghislain\, 7330\, Belgique
CATEGORIES:Arts de la scène,Saint-Ghislain,Théâtre
ATTACH;FMTTYPE=image/jpeg:https://septem.stghislain.be/wp-content/uploads/2023/03/VU-Compagnie_arts_nomades-Banner.jpg
ORGANIZER;CN="Septem":MAILTO:info@septem.stghislain.be
END:VEVENT
END:VCALENDAR