BEGIN:VCALENDAR
VERSION:2.0
PRODID:-//Septem - ECPv6.0.13.1//NONSGML v1.0//EN
CALSCALE:GREGORIAN
METHOD:PUBLISH
X-ORIGINAL-URL:https://septem.stghislain.be
X-WR-CALDESC:évènements pour Septem
REFRESH-INTERVAL;VALUE=DURATION:PT1H
X-Robots-Tag:noindex
X-PUBLISHED-TTL:PT1H
BEGIN:VTIMEZONE
TZID:Europe/Brussels
BEGIN:DAYLIGHT
TZOFFSETFROM:+0100
TZOFFSETTO:+0200
TZNAME:CEST
DTSTART:20230326T010000
END:DAYLIGHT
BEGIN:STANDARD
TZOFFSETFROM:+0200
TZOFFSETTO:+0100
TZNAME:CET
DTSTART:20231029T010000
END:STANDARD
END:VTIMEZONE
BEGIN:VEVENT
DTSTART;TZID=Europe/Brussels:20230318T103000
DTEND;TZID=Europe/Brussels:20230318T120000
DTSTAMP:20260424T182321
CREATED:20230122T003529Z
LAST-MODIFIED:20230122T003533Z
UID:10000084-1679135400-1679140800@septem.stghislain.be
SUMMARY:Atelier | Yoga enfants
DESCRIPTION:Sophrologue\, consultante en Réflexes archaïques formée au yoga\, Les Sentiers de Lily-Bulle propose aux enfants des ateliers ludiques en basés sur le yoga: par le travail des postures\, de la respiration et de la concentration\, l’enfant prend conscience de son corps\, il apprend à s’écouter\, à exprimer ses besoins par l’analyse de l’émotion qui le traverse et à vivre en lien avec lui-même\, les autres et la nature. \nUn atelier proposé par Les Sentiers de Lily-Bulle.
URL:https://septem.stghislain.be/agenda/atelier-yoga-enfants-3/
LOCATION:Les Jardins du Cloître\, 37 Grand Place\, Saint-Ghislain\, 7330\, Belgique
CATEGORIES:Ateliers,Bien-être,Jeune public,Saint-Ghislain
ATTACH;FMTTYPE=image/jpeg:https://septem.stghislain.be/wp-content/uploads/2023/01/les_sentiers_de_lily_bulle-yoga_enfants-septem-culture_Saint_Ghislain-2023.jpg
ORGANIZER;CN="Septem":MAILTO:info@septem.stghislain.be
END:VEVENT
BEGIN:VEVENT
DTSTART;TZID=Europe/Brussels:20230318T170000
DTEND;TZID=Europe/Brussels:20230318T183000
DTSTAMP:20260424T182321
CREATED:20230122T003204Z
LAST-MODIFIED:20230131T083331Z
UID:10000083-1679158800-1679164200@septem.stghislain.be
SUMMARY:Spectacle | Le diner
DESCRIPTION:Aujourd’hui d’importants chefs d’Etat se réunissent pour un sommet historique. En effet\, ces très prestigieuses personnes doivent signer des accords mettant en jeu la survie de l’espèce humaine. Cependant\, leurs véritables talents vont très vite se révéler\, à savoir\, un penchant irrésistible pour l’incompétence\, une propension inouïe à la désorganisation et un amour démesuré pour servir leur ambition personnelle… \nInterprétée par de remarquables artistes venus d’horizon artistiques différents\, cette fable clownesque traite avec humour et dérision de la cupidité\, de la soif du pouvoir et des dérives du monde lorsqu’il est dirigé par la corruption et l’immaturité. \n\n\nProduction: Doble Mandoble\, KGbe & KOPERGIETERY.\nConcept et création: Luis Javier Cordoba\, Miguel Angel Cordoba\, Andrea Fidelio\, Angela Malvasi\, Gonzalo Alarcón.\nMise en scène: Christine Rossignol.\nScénographie: Sam de Clercq\, Niels Ieven\, Sebastien Van Huffel.
URL:https://septem.stghislain.be/agenda/spectacle-le-diner/
LOCATION:Les Jardins du Cloître\, 37 Grand Place\, Saint-Ghislain\, 7330\, Belgique
CATEGORIES:Arts de la scène,Jeune public,Saint-Ghislain,Spectacle,Théâtre
ATTACH;FMTTYPE=image/jpeg:https://septem.stghislain.be/wp-content/uploads/2023/01/compagne_doble_mandoble-spectacle_jeune_public-le_diner-credit_phile_deprez-septem-culture_Saint_Ghislain-2023.jpg
ORGANIZER;CN="Septem":MAILTO:info@septem.stghislain.be
END:VEVENT
BEGIN:VEVENT
DTSTART;TZID=Europe/Brussels:20230318T193000
DTEND;TZID=Europe/Brussels:20230318T213000
DTSTAMP:20260424T182321
CREATED:20230309T152940Z
LAST-MODIFIED:20230309T152943Z
UID:10000092-1679167800-1679175000@septem.stghislain.be
SUMMARY:Concerts | Josy And The Pony + Renfor Kaiss
DESCRIPTION:JOSY AND THE PONY \n« Anticonformiste\, inclassable et inexplicable\, cette écurie aux accents yé-yé n’en a vraiment rien à cirer des conventions musicales actuelles ». \nEn effet… JOSY & (THE) PONY ne veut rien faire comme les autres\, refuse les normes de bons goûts\, les facilités musicales à la mode et ne cherche pas vraiment à plaire aux hipsters. JOSY veut juste du fun et du bruit ! \nLes comparaisons trouvées dans la presse n’en sont pas moins évocatrices : tantôt vu comme un hommage aux sixties\, façon Gainsbourg-Bardot\, tantôt vu comme la continuité d’une scène française actuelle dans la lignée de La Femme ou Liminanas ou encore vu comme un renouveau de la scène surf ou de la scène noise chanté en français\, Josy est aussi assimilée à une sorte de Chantal Goya pour adulte sous acide. \nRENFOR KAISS \nRenfor Kaiss est un duo post-punk électro avec une lueur de funk dans le groove\, une atmosphère noisy\, des envolées lyriques genre western spaghetti et un amour déclaré pour une poésie moderne et burlesque. Load et Lawakin possèdent une longue expérience commune de l’occupation de scène et la performance affleure. \nComplices\, les deux larrons vous embarquent dans un punk héroïque et loufoque. \nÇa se tient\, c’est bon !Ça colle aux dents !
URL:https://septem.stghislain.be/agenda/concerts-josy-and-the-pony-renfor-kaiss/
LOCATION:Les Jardins du Cloître\, 37 Grand Place\, Saint-Ghislain\, 7330\, Belgique
CATEGORIES:Saint-Ghislain
ATTACH;FMTTYPE=image/jpeg:https://septem.stghislain.be/wp-content/uploads/2023/03/JOSY_And_THE_PONY-Banner.jpg
ORGANIZER;CN="Septem":MAILTO:info@septem.stghislain.be
END:VEVENT
END:VCALENDAR