BEGIN:VCALENDAR
VERSION:2.0
PRODID:-//Septem - ECPv6.0.13.1//NONSGML v1.0//EN
CALSCALE:GREGORIAN
METHOD:PUBLISH
X-ORIGINAL-URL:https://septem.stghislain.be
X-WR-CALDESC:évènements pour Septem
REFRESH-INTERVAL;VALUE=DURATION:PT1H
X-Robots-Tag:noindex
X-PUBLISHED-TTL:PT1H
BEGIN:VTIMEZONE
TZID:Europe/Brussels
BEGIN:DAYLIGHT
TZOFFSETFROM:+0100
TZOFFSETTO:+0200
TZNAME:CEST
DTSTART:20230326T010000
END:DAYLIGHT
BEGIN:STANDARD
TZOFFSETFROM:+0200
TZOFFSETTO:+0100
TZNAME:CET
DTSTART:20231029T010000
END:STANDARD
END:VTIMEZONE
BEGIN:VEVENT
DTSTART;TZID=Europe/Brussels:20230314T200000
DTEND;TZID=Europe/Brussels:20230314T220000
DTSTAMP:20260424T182326
CREATED:20230122T001801Z
LAST-MODIFIED:20230122T001805Z
UID:10000081-1678824000-1678831200@septem.stghislain.be
SUMMARY:Concert | Haydn + Beethoven - Orchestre d’ARTS² (Conservatoire royal de Mons)
DESCRIPTION:L’Orchestre d’ARTS² – Conservatoire royal de Mons vous propose un concert d’exception sous la direction de Nicolas Krüger. \nAu programme : \n\n\nSymphonie n° 60 en ut majeur « Le Distrait » Joseph Haydn\nExtraits de Médée Luigi Cherubini\nSymphonie op. 67 n° 5 en ut mineur Ludwig Van Beethoven
URL:https://septem.stghislain.be/agenda/concert-haydn-beethoven-orchestre-darts%c2%b2-conservatoire-royal-de-mons/
LOCATION:Les Jardins du Cloître\, 37 Grand Place\, Saint-Ghislain\, 7330\, Belgique
CATEGORIES:Arts de la scène,Concerts,Musique,Saint-Ghislain
ATTACH;FMTTYPE=image/jpeg:https://septem.stghislain.be/wp-content/uploads/2023/01/Orchestre_arts_2-concert_symphonique_haydn_beethoven-septem-culture_Saint_Ghislain-2023.jpg
ORGANIZER;CN="Septem":MAILTO:info@septem.stghislain.be
END:VEVENT
END:VCALENDAR