BEGIN:VCALENDAR
VERSION:2.0
PRODID:-//Septem - ECPv6.0.13.1//NONSGML v1.0//EN
CALSCALE:GREGORIAN
METHOD:PUBLISH
X-WR-CALNAME:Septem
X-ORIGINAL-URL:https://septem.stghislain.be
X-WR-CALDESC:évènements pour Septem
REFRESH-INTERVAL;VALUE=DURATION:PT1H
X-Robots-Tag:noindex
X-PUBLISHED-TTL:PT1H
BEGIN:VTIMEZONE
TZID:Europe/Brussels
BEGIN:DAYLIGHT
TZOFFSETFROM:+0100
TZOFFSETTO:+0200
TZNAME:CEST
DTSTART:20230326T010000
END:DAYLIGHT
BEGIN:STANDARD
TZOFFSETFROM:+0200
TZOFFSETTO:+0100
TZNAME:CET
DTSTART:20231029T010000
END:STANDARD
END:VTIMEZONE
BEGIN:VEVENT
DTSTART;TZID=Europe/Brussels:20230313T030000
DTEND;TZID=Europe/Brussels:20230313T050000
DTSTAMP:20260424T182202
CREATED:20230316T154027Z
LAST-MODIFIED:20230316T154028Z
UID:10000107-1678676400-1678683600@septem.stghislain.be
SUMMARY:Cinéma | La nuit américaine - François Truffaut (1973)
DESCRIPTION:La Nuit Américaine (Day for Night en anglais) est un film français réalisé par François Truffaut en 1973. Il raconte l’histoire d’un réalisateur\, Ferrand\, et de son équipe qui tournent un film intitulé « Je vous présente Pamela » sur la Côte d’Azur. \nLe film se concentre sur les coulisses du tournage\, mettant en lumière les problèmes techniques et les relations personnelles entre les membres de l’équipe. On suit notamment les aventures amoureuses de certains acteurs\, les crises de nerfs du producteur et les difficultés de la star du film\, jouée par Jacqueline Bisset. \nLe film est une réflexion sur le cinéma et sur les difficultés rencontrées lors du tournage d’un film\, mais aussi sur les relations humaines et la manière dont les acteurs et les membres de l’équipe se lient d’amitié ou se déchirent. La Nuit Américaine est considéré comme l’un des chefs-d’œuvre de Truffaut et a remporté l’Oscar du meilleur film étranger en 1974.
URL:https://septem.stghislain.be/agenda/cinema-la-nuit-americaine-francois-truffaut-1973-2/
LOCATION:Les Jardins du Cloître\, 37 Grand Place\, Saint-Ghislain\, 7330\, Belgique
CATEGORIES:Cinéma,Projections,Saint-Ghislain
ATTACH;FMTTYPE=image/jpeg:https://septem.stghislain.be/wp-content/uploads/2023/03/La_nuit_americaine-Banner.jpg
ORGANIZER;CN="Septem":MAILTO:info@septem.stghislain.be
END:VEVENT
END:VCALENDAR