BEGIN:VCALENDAR
VERSION:2.0
PRODID:-//Septem - ECPv6.0.13.1//NONSGML v1.0//EN
CALSCALE:GREGORIAN
METHOD:PUBLISH
X-WR-CALNAME:Septem
X-ORIGINAL-URL:https://septem.stghislain.be
X-WR-CALDESC:évènements pour Septem
REFRESH-INTERVAL;VALUE=DURATION:PT1H
X-Robots-Tag:noindex
X-PUBLISHED-TTL:PT1H
BEGIN:VTIMEZONE
TZID:Europe/Brussels
BEGIN:DAYLIGHT
TZOFFSETFROM:+0100
TZOFFSETTO:+0200
TZNAME:CEST
DTSTART:20230326T010000
END:DAYLIGHT
BEGIN:STANDARD
TZOFFSETFROM:+0200
TZOFFSETTO:+0100
TZNAME:CET
DTSTART:20231029T010000
END:STANDARD
END:VTIMEZONE
BEGIN:VEVENT
DTSTART;TZID=Europe/Brussels:20230112T183000
DTEND;TZID=Europe/Brussels:20230112T200000
DTSTAMP:20260424T211032
CREATED:20230111T160140Z
LAST-MODIFIED:20230121T162147Z
UID:10000052-1673548200-1673553600@septem.stghislain.be
SUMMARY:Conférence | Réduisez votre facture santé
DESCRIPTION:Quels sont les dispositifs prévus par l’INAMi pour payer moins et qui peut en bénéficier ? A quoi faut-il être attentif ? Comment savoir si un médecin respecte les tarifs légaux ? Comment savoir si un hôpital facture des suppléments ? Comment suis-je couvert par ma mutualité ? Et si j’ai une maladie grave\, comment trouver de l’aide ? Faut-il prendre une assurance privée ? Est-il possible de payer ses médicaments moins chers ? Autant de questions auxquelles nous répondrons lors de ces moments d’information bons pour la santé de votre portefeuille. \nUne conférence organisée en partenariat avec ENEO.
URL:https://septem.stghislain.be/agenda/reduisez-votre-facture-sante-conference/
LOCATION:Les Jardins du Cloître\, 37 Grand Place\, Saint-Ghislain\, 7330\, Belgique
CATEGORIES:Conférences,Médiation,Saint-Ghislain
ATTACH;FMTTYPE=image/jpeg:https://septem.stghislain.be/wp-content/uploads/2023/01/Reduisez_votre_facture_sante-Conference-Banner-Septem_Saint_Ghislain.jpg
ORGANIZER;CN="Septem":MAILTO:info@septem.stghislain.be
END:VEVENT
END:VCALENDAR