BEGIN:VCALENDAR
VERSION:2.0
PRODID:-//Septem - ECPv6.0.13.1//NONSGML v1.0//EN
CALSCALE:GREGORIAN
METHOD:PUBLISH
X-ORIGINAL-URL:https://septem.stghislain.be
X-WR-CALDESC:évènements pour Septem
REFRESH-INTERVAL;VALUE=DURATION:PT1H
X-Robots-Tag:noindex
X-PUBLISHED-TTL:PT1H
BEGIN:VTIMEZONE
TZID:Europe/Brussels
BEGIN:DAYLIGHT
TZOFFSETFROM:+0100
TZOFFSETTO:+0200
TZNAME:CEST
DTSTART:20260329T010000
END:DAYLIGHT
BEGIN:STANDARD
TZOFFSETFROM:+0200
TZOFFSETTO:+0100
TZNAME:CET
DTSTART:20261025T010000
END:STANDARD
END:VTIMEZONE
BEGIN:VEVENT
DTSTART;TZID=Europe/Brussels:20260304T190000
DTEND;TZID=Europe/Brussels:20260304T220000
DTSTAMP:20260422T145017
CREATED:20260115T073515Z
LAST-MODIFIED:20260115T073646Z
UID:10001283-1772650800-1772661600@septem.stghislain.be
SUMMARY:Atelier d'improvisation | Bulbav’Art
DESCRIPTION:
URL:https://septem.stghislain.be/agenda/atelier-dimprovisation-bulbavart/2026-03-04/
LOCATION:Les Jardins du Cloître\, 37 Grand Place\, Saint-Ghislain\, 7330\, Belgique
CATEGORIES:Ateliers,Saint-Ghislain,Théâtre
ATTACH;FMTTYPE=image/jpeg:https://septem.stghislain.be/wp-content/uploads/2025/09/atelier-improvistion-saint-ghislain-septem-culture.jpg
ORGANIZER;CN="Bulbav%E2%80%99Art":MAILTO:roymaiolino@gmail.com
END:VEVENT
BEGIN:VEVENT
DTSTART;TZID=Europe/Brussels:20260311T140000
DTEND;TZID=Europe/Brussels:20260311T170000
DTSTAMP:20260422T145018
CREATED:20260218T192320Z
LAST-MODIFIED:20260218T192320Z
UID:10001290-1773237600-1773248400@septem.stghislain.be
SUMMARY:CoderDojo | Apprendre le codage pour les 7 - 18 ans | Gratuit
DESCRIPTION:👾 𝗘𝗻𝘃𝗶𝗲 𝗱𝗲 𝗽𝗹𝗼𝗻𝗴𝗲𝗿 𝗱𝗮𝗻𝘀 𝗹’𝘂𝗻𝗶𝘃𝗲𝗿𝘀 𝗱𝘂 𝗰𝗼𝗱𝗮𝗴𝗲 ? 👩‍💻👨‍💻\nTu as entre 7 et 18 ans ? Rejoins-nous gratuitement pour un atelier de codage en partenariat avec 𝗖𝗼𝗱𝗲𝗿𝗗𝗼𝗷𝗼 :\n⏰ 𝗗𝗲 𝟭𝟰𝗵 𝗮̀ 𝟭𝟳𝗵\n📍 Sur place\, avec des ordinateurs disponibles (ou apporte ton propre matériel : laptop ou tablette).\nApprends à :\n– Programmer\, Coder 🤖\n– Créer des sites web 🌐\n– Développer des applications et des jeux 📱🎮\n💡 𝗠𝗮𝗶𝘀 𝗮𝘂 𝗳𝗮𝗶𝘁\, 𝗖𝗼𝗱𝗲𝗿𝗗𝗼𝗷𝗼\, 𝗰’𝗲𝘀𝘁 𝗾𝘂𝗼𝗶 ?\nCoderDojo\, c’est une organisation qui propose des sessions de codage gratuites pour 𝗹𝗲𝘀 𝗳𝗶𝗹𝗹𝗲𝘀 𝗲𝘁 𝗹𝗲𝘀 𝗴𝗮𝗿𝗰̧𝗼𝗻𝘀 𝗱𝗲 𝟳 𝗮̀ 𝟭𝟴 𝗮𝗻𝘀. Ces ateliers\, appelés Dojos\, sont encadrés par des 𝗯𝗲́𝗻𝗲́𝘃𝗼𝗹𝗲𝘀 passionnés qui stimulent l’imagination et la créativité des jeunes Ninjas dans le monde numérique. 🦸‍♀️🦸‍♂️\n📲 Inscris-toi vite et viens coder avec nous ! ✨
URL:https://septem.stghislain.be/agenda/coderdojo-apprendre-le-codage-pour-les-7-18-ans-gratuit-3/
LOCATION:Les Jardins du Cloître\, 37 Grand Place\, Saint-Ghislain\, 7330\, Belgique
CATEGORIES:Ateliers,EPN,Saint-Ghislain
ATTACH;FMTTYPE=image/jpeg:https://septem.stghislain.be/wp-content/uploads/2025/05/EPN-atelier-codage-coder-dojo-septem-culture-2026.jpg
ORGANIZER;CN="Septem":MAILTO:info@septem.stghislain.be
END:VEVENT
BEGIN:VEVENT
DTSTART;TZID=Europe/Brussels:20260311T190000
DTEND;TZID=Europe/Brussels:20260311T220000
DTSTAMP:20260422T145018
CREATED:20260115T073515Z
LAST-MODIFIED:20260115T073646Z
UID:10001284-1773255600-1773266400@septem.stghislain.be
SUMMARY:Atelier d'improvisation | Bulbav’Art
DESCRIPTION:
URL:https://septem.stghislain.be/agenda/atelier-dimprovisation-bulbavart/2026-03-11/
LOCATION:Les Jardins du Cloître\, 37 Grand Place\, Saint-Ghislain\, 7330\, Belgique
CATEGORIES:Ateliers,Saint-Ghislain,Théâtre
ATTACH;FMTTYPE=image/jpeg:https://septem.stghislain.be/wp-content/uploads/2025/09/atelier-improvistion-saint-ghislain-septem-culture.jpg
ORGANIZER;CN="Bulbav%E2%80%99Art":MAILTO:roymaiolino@gmail.com
END:VEVENT
BEGIN:VEVENT
DTSTART;TZID=Europe/Brussels:20260312T100000
DTEND;TZID=Europe/Brussels:20260312T113000
DTSTAMP:20260422T145018
CREATED:20260309T081655Z
LAST-MODIFIED:20260309T081735Z
UID:10001300-1773309600-1773315000@septem.stghislain.be
SUMMARY:Théâtre | INCAS(S)ABLES
DESCRIPTION:[THÉÂTRE] INCAS(S)ABLES : Lever le voile sur l’invisible\nLe secteur social s’essouffle\, ses travailleurs s’épuisent… et pourtant\, leurs histoires restent trop souvent dans l’ombre. ✋\nLe spectacle Incas(s)ables vous plonge au cœur du quotidien de ceux qu’on ne raconte pas : travailleurs sociaux\, enseignants\, parents. À travers le destin d’Ugo\, 14 ans\, et d’Hervé\, son éducateur\, la pièce explore avec justesse :\nLe cri de l’adolescence : mal-être\, repli sur soi\, passages à l’acte.\nLa réalité du terrain : le manque de moyens\, l’épuisement et cette quête permanente d’équilibre quand tout semble vaciller.\nL’humain avant tout : une réflexion nécessaire sur les balises de notre système éducatif.\nUn moment fort\, nécessaire et profondément humain à ne pas manquer.\nQUAND ? Ce jeudi 12 mars\nSÉANCES : 10h00 & 13h30\nPRIX : 8€\nRÉSERVATIONS : 📧 billetterie@septem.stghislain.be\nPartagez l’info autour de vous ! On vous y attend nombreux.
URL:https://septem.stghislain.be/agenda/theatre-incassables/
LOCATION:Les Jardins du Cloître\, 37 Grand Place\, Saint-Ghislain\, 7330\, Belgique
CATEGORIES:Saint-Ghislain,Scolaires,Spectacle,Théâtre
ATTACH;FMTTYPE=image/jpeg:https://septem.stghislain.be/wp-content/uploads/2026/03/12-03.jpg
ORGANIZER;CN="Septem":MAILTO:info@septem.stghislain.be
END:VEVENT
BEGIN:VEVENT
DTSTART;TZID=Europe/Brussels:20260313T100000
DTEND;TZID=Europe/Brussels:20260313T113000
DTSTAMP:20260422T145018
CREATED:20260310T080555Z
LAST-MODIFIED:20260310T080638Z
UID:10001302-1773396000-1773401400@septem.stghislain.be
SUMMARY:Théâtre | INCAS(S)ABLES
DESCRIPTION:[THÉÂTRE] INCAS(S)ABLES : Lever le voile sur l’invisible\nLe secteur social s’essouffle\, ses travailleurs s’épuisent… et pourtant\, leurs histoires restent trop souvent dans l’ombre. ✋\nLe spectacle Incas(s)ables vous plonge au cœur du quotidien de ceux qu’on ne raconte pas : travailleurs sociaux\, enseignants\, parents. À travers le destin d’Ugo\, 14 ans\, et d’Hervé\, son éducateur\, la pièce explore avec justesse :\nLe cri de l’adolescence : mal-être\, repli sur soi\, passages à l’acte.\nLa réalité du terrain : le manque de moyens\, l’épuisement et cette quête permanente d’équilibre quand tout semble vaciller.\nL’humain avant tout : une réflexion nécessaire sur les balises de notre système éducatif.\nUn moment fort\, nécessaire et profondément humain à ne pas manquer.\nQUAND ? Ce jeudi 12 mars\nSÉANCES : 10h00 & 13h30\nPRIX : 8€\nRÉSERVATIONS : 📧 billetterie@septem.stghislain.be\nPartagez l’info autour de vous ! On vous y attend nombreux.
URL:https://septem.stghislain.be/agenda/theatre-incassables-2/
LOCATION:Les Jardins du Cloître\, 37 Grand Place\, Saint-Ghislain\, 7330\, Belgique
CATEGORIES:Saint-Ghislain,Scolaires,Spectacle,Théâtre
ATTACH;FMTTYPE=image/jpeg:https://septem.stghislain.be/wp-content/uploads/2026/03/1303bon.jpg
ORGANIZER;CN="Septem":MAILTO:info@septem.stghislain.be
END:VEVENT
BEGIN:VEVENT
DTSTART;TZID=Europe/Brussels:20260313T133000
DTEND;TZID=Europe/Brussels:20260313T150000
DTSTAMP:20260422T145018
CREATED:20260310T081019Z
LAST-MODIFIED:20260310T081023Z
UID:10001304-1773408600-1773414000@septem.stghislain.be
SUMMARY:Théâtre | INCAS(S)ABLES
DESCRIPTION:[THÉÂTRE] INCAS(S)ABLES : Lever le voile sur l’invisible\nLe secteur social s’essouffle\, ses travailleurs s’épuisent… et pourtant\, leurs histoires restent trop souvent dans l’ombre. ✋\nLe spectacle Incas(s)ables vous plonge au cœur du quotidien de ceux qu’on ne raconte pas : travailleurs sociaux\, enseignants\, parents. À travers le destin d’Ugo\, 14 ans\, et d’Hervé\, son éducateur\, la pièce explore avec justesse :\nLe cri de l’adolescence : mal-être\, repli sur soi\, passages à l’acte.\nLa réalité du terrain : le manque de moyens\, l’épuisement et cette quête permanente d’équilibre quand tout semble vaciller.\nL’humain avant tout : une réflexion nécessaire sur les balises de notre système éducatif.\nUn moment fort\, nécessaire et profondément humain à ne pas manquer.\nQUAND ? Ce jeudi 12 mars\nSÉANCES : 10h00 & 13h30\nPRIX : 8€\nRÉSERVATIONS : 📧 billetterie@septem.stghislain.be\nPartagez l’info autour de vous ! On vous y attend nombreux.
URL:https://septem.stghislain.be/agenda/theatre-incassables-3/
LOCATION:Les Jardins du Cloître\, 37 Grand Place\, Saint-Ghislain\, 7330\, Belgique
CATEGORIES:Saint-Ghislain,Scolaires,Spectacle,Théâtre
ATTACH;FMTTYPE=image/jpeg:https://septem.stghislain.be/wp-content/uploads/2026/03/1303bon.jpg
ORGANIZER;CN="Septem":MAILTO:info@septem.stghislain.be
END:VEVENT
BEGIN:VEVENT
DTSTART;TZID=Europe/Brussels:20260318T190000
DTEND;TZID=Europe/Brussels:20260318T220000
DTSTAMP:20260422T145018
CREATED:20260115T073515Z
LAST-MODIFIED:20260115T073646Z
UID:10001285-1773860400-1773871200@septem.stghislain.be
SUMMARY:Atelier d'improvisation | Bulbav’Art
DESCRIPTION:
URL:https://septem.stghislain.be/agenda/atelier-dimprovisation-bulbavart/2026-03-18/
LOCATION:Les Jardins du Cloître\, 37 Grand Place\, Saint-Ghislain\, 7330\, Belgique
CATEGORIES:Ateliers,Saint-Ghislain,Théâtre
ATTACH;FMTTYPE=image/jpeg:https://septem.stghislain.be/wp-content/uploads/2025/09/atelier-improvistion-saint-ghislain-septem-culture.jpg
ORGANIZER;CN="Bulbav%E2%80%99Art":MAILTO:roymaiolino@gmail.com
END:VEVENT
BEGIN:VEVENT
DTSTART;TZID=Europe/Brussels:20260319T200000
DTEND;TZID=Europe/Brussels:20260319T213000
DTSTAMP:20260422T145018
CREATED:20260224T094249Z
LAST-MODIFIED:20260224T094253Z
UID:10001293-1773950400-1773955800@septem.stghislain.be
SUMMARY:Conférence | St-Ghislain à travers 4 siècles de cartographie.
DESCRIPTION:Proposé par le Cercle d’Histoire et d’Archéologie de Saint-Ghislain et de la région \nConférence proposée par Christine Gobeaux \n 
URL:https://septem.stghislain.be/agenda/cartographie/
LOCATION:Les Jardins du Cloître\, 37 Grand Place\, Saint-Ghislain\, 7330\, Belgique
CATEGORIES:Conférences,Saint-Ghislain
ATTACH;FMTTYPE=image/jpeg:https://septem.stghislain.be/wp-content/uploads/2026/02/1903.jpg
ORGANIZER;CN="Cercle%20d%E2%80%99histoire%20et%20d%E2%80%99arch%C3%A9ologie":MAILTO:cecile.ansieau@spw.wallonie.be
END:VEVENT
BEGIN:VEVENT
DTSTART;TZID=Europe/Brussels:20260320T200000
DTEND;TZID=Europe/Brussels:20260320T213000
DTSTAMP:20260422T145018
CREATED:20260223T135242Z
LAST-MODIFIED:20260224T080827Z
UID:10001292-1774036800-1774042200@septem.stghislain.be
SUMMARY:Danse | Ensemble Ohana | Résonance & Dualité
DESCRIPTION:Le vendredi 20 mars\, laissez-vous emporter par la magie de l’Ensemble Ohana au Centre Culturel de Saint-Ghislain. Deux œuvres puissantes sous la direction du chorégraphe Ézéchiel Pierrart. \nDUALITÉ : Plongez dans l’intimité du lien mère-fille. Entre rêves\, blessures et désillusions\, cette pièce explore avec force le conflit générationnel et la beauté du pardon. Un voyage émotionnel qui célèbre l’espoir et l’amour familial. \nRÉSONANCE : Quand la danse rencontre la musique live ! Six artistes (4 danseuses\, une violoncelliste et une flûtiste) s’affrontent puis s’apprivoisent. Un dialogue vibrant où le chaos laisse place à l’harmonie. Une ode magnifique au partage et au vivre-ensemble. \nPremière partie: DualitéDeuxième partie: Résonance (première)
URL:https://septem.stghislain.be/agenda/ohana/
LOCATION:Les Jardins du Cloître\, 37 Grand Place\, Saint-Ghislain\, 7330\, Belgique
CATEGORIES:Danse,Musique,Performances,Saint-Ghislain
ATTACH;FMTTYPE=image/jpeg:https://septem.stghislain.be/wp-content/uploads/2026/02/centre-culturel-de-saint-ghislain-danse-ohana-culture-2026.jpg
ORGANIZER;CN="Septem":MAILTO:info@septem.stghislain.be
END:VEVENT
BEGIN:VEVENT
DTSTART;TZID=Europe/Brussels:20260325T190000
DTEND;TZID=Europe/Brussels:20260325T220000
DTSTAMP:20260422T145018
CREATED:20260115T073515Z
LAST-MODIFIED:20260115T073646Z
UID:10001286-1774465200-1774476000@septem.stghislain.be
SUMMARY:Atelier d'improvisation | Bulbav’Art
DESCRIPTION:
URL:https://septem.stghislain.be/agenda/atelier-dimprovisation-bulbavart/2026-03-25/
LOCATION:Les Jardins du Cloître\, 37 Grand Place\, Saint-Ghislain\, 7330\, Belgique
CATEGORIES:Ateliers,Saint-Ghislain,Théâtre
ATTACH;FMTTYPE=image/jpeg:https://septem.stghislain.be/wp-content/uploads/2025/09/atelier-improvistion-saint-ghislain-septem-culture.jpg
ORGANIZER;CN="Bulbav%E2%80%99Art":MAILTO:roymaiolino@gmail.com
END:VEVENT
BEGIN:VEVENT
DTSTART;TZID=Europe/Brussels:20260331T183000
DTEND;TZID=Europe/Brussels:20260331T200000
DTSTAMP:20260422T145018
CREATED:20250818T081402Z
LAST-MODIFIED:20250818T095155Z
UID:10001170-1774981800-1774987200@septem.stghislain.be
SUMMARY:Exploration du monde | " NAMIBIE\, exceptionnelle par nature"
DESCRIPTION:par Olivier Bourguet \nAccident géologique exceptionnel\, la Namibie est un envoûtement aux paysages sublimes et infinis\, peuplés d’une faune et d’une flore adaptées aux rudes conditions de vie du désert. Unique\, secrète\, variée\, authentique\, gigantesque\, la Namibie éblouit quiconque y pose le pied ! \nAbonnement 7 films 60-70€ : cliquez-ici
URL:https://septem.stghislain.be/agenda/namibie/
LOCATION:Les Jardins du Cloître\, 37 Grand Place\, Saint-Ghislain\, 7330\, Belgique
CATEGORIES:Documentaires,Explo du Monde,Films,Saint-Ghislain
ATTACH;FMTTYPE=image/jpeg:https://septem.stghislain.be/wp-content/uploads/2025/08/exploration-du-monde-Septem-st-ghislain-culture-voyage.jpg
ORGANIZER;CN="Septem":MAILTO:info@septem.stghislain.be
END:VEVENT
END:VCALENDAR