BEGIN:VCALENDAR
VERSION:2.0
PRODID:-//Septem - ECPv6.0.13.1//NONSGML v1.0//EN
CALSCALE:GREGORIAN
METHOD:PUBLISH
X-ORIGINAL-URL:https://septem.stghislain.be
X-WR-CALDESC:évènements pour Septem
REFRESH-INTERVAL;VALUE=DURATION:PT1H
X-Robots-Tag:noindex
X-PUBLISHED-TTL:PT1H
BEGIN:VTIMEZONE
TZID:Europe/Brussels
BEGIN:DAYLIGHT
TZOFFSETFROM:+0100
TZOFFSETTO:+0200
TZNAME:CEST
DTSTART:20260329T010000
END:DAYLIGHT
BEGIN:STANDARD
TZOFFSETFROM:+0200
TZOFFSETTO:+0100
TZNAME:CET
DTSTART:20261025T010000
END:STANDARD
END:VTIMEZONE
BEGIN:VEVENT
DTSTART;TZID=Europe/Brussels:20260204T190000
DTEND;TZID=Europe/Brussels:20260204T220000
DTSTAMP:20260422T161333
CREATED:20260115T073515Z
LAST-MODIFIED:20260115T073646Z
UID:10001279-1770231600-1770242400@septem.stghislain.be
SUMMARY:Atelier d'improvisation | Bulbav’Art
DESCRIPTION:
URL:https://septem.stghislain.be/agenda/atelier-dimprovisation-bulbavart/2026-02-04/
LOCATION:Les Jardins du Cloître\, 37 Grand Place\, Saint-Ghislain\, 7330\, Belgique
CATEGORIES:Ateliers,Saint-Ghislain,Théâtre
ATTACH;FMTTYPE=image/jpeg:https://septem.stghislain.be/wp-content/uploads/2025/09/atelier-improvistion-saint-ghislain-septem-culture.jpg
ORGANIZER;CN="Bulbav%E2%80%99Art":MAILTO:roymaiolino@gmail.com
END:VEVENT
BEGIN:VEVENT
DTSTART;TZID=Europe/Brussels:20260207T200000
DTEND;TZID=Europe/Brussels:20260207T213000
DTSTAMP:20260422T161333
CREATED:20260115T084753Z
LAST-MODIFIED:20260115T084758Z
UID:10001287-1770494400-1770499800@septem.stghislain.be
SUMMARY:GLOR.I.A. : L'Intelligence Artificielle défie l'improvisation théâtrale !
DESCRIPTION:L’IA est-elle plus créative que l’humain ? Venez le découvrir !\nGLOR.I.A. : L’Intelligence Artificielle défie l’improvisation théâtrale !\nLa Bande à p’Art présente un NOUVEAU CONCEPT D’IMPROVISATION THÉÂTRALE UNIQUE où les jouteurs devront se surpasser face à la machine !\nLes jouteurs seront-ils plus créatifs que GLOR.I.A. ?\nPréparez-vous à une soirée de rires\, de défis et de créativité inattendue ! C’est le match du siècle entre l’humain et l’algorithme !\nPRIX ? 8€ en prévente (ou 10€ sur place)\nUn événement en coproduction avec Septem  \nPartagez l’événement et identifiez les amis qui devront relever le défi avec vous !
URL:https://septem.stghislain.be/agenda/glori-a/
LOCATION:Les Jardins du Cloître\, 37 Grand Place\, Saint-Ghislain\, 7330\, Belgique
CATEGORIES:Saint-Ghislain,Théâtre
ATTACH;FMTTYPE=image/jpeg:https://septem.stghislain.be/wp-content/uploads/2026/01/Septem-culture-impro-saint-ghislain-2026-Glori.a.jpg
ORGANIZER;CN="Septem":MAILTO:info@septem.stghislain.be
END:VEVENT
BEGIN:VEVENT
DTSTART;TZID=Europe/Brussels:20260210T183000
DTEND;TZID=Europe/Brussels:20260210T200000
DTSTAMP:20260422T161333
CREATED:20250818T081104Z
LAST-MODIFIED:20250818T095230Z
UID:10001169-1770748200-1770753600@septem.stghislain.be
SUMMARY:Exploration du monde | "GRÈCE\, ses îles légendaires aux balcons d'Athènes"
DESCRIPTION:par Vincent Halleux \nEgine\, Hydra et Spetses\, îles de légendes œuvrant pour l’indépendance de la Grèce au début du 19ème siècle et devenues depuis des espaces privilégiés et inspirants pour des artistes célèbres venus du monde entier afin de bénéficier de la superbe lumière de l’Attique. \nAbonnement 7 films 60-70€ : cliquez-ici
URL:https://septem.stghislain.be/agenda/grece/
LOCATION:Les Jardins du Cloître\, 37 Grand Place\, Saint-Ghislain\, 7330\, Belgique
CATEGORIES:Documentaires,Explo du Monde,Films,Saint-Ghislain
ATTACH;FMTTYPE=image/jpeg:https://septem.stghislain.be/wp-content/uploads/2025/08/exploration-du-monde-Septem-st-ghislain-culture-voyage.jpg
ORGANIZER;CN="Septem":MAILTO:info@septem.stghislain.be
END:VEVENT
BEGIN:VEVENT
DTSTART;TZID=Europe/Brussels:20260211T190000
DTEND;TZID=Europe/Brussels:20260211T220000
DTSTAMP:20260422T161333
CREATED:20260115T073515Z
LAST-MODIFIED:20260115T073646Z
UID:10001280-1770836400-1770847200@septem.stghislain.be
SUMMARY:Atelier d'improvisation | Bulbav’Art
DESCRIPTION:
URL:https://septem.stghislain.be/agenda/atelier-dimprovisation-bulbavart/2026-02-11/
LOCATION:Les Jardins du Cloître\, 37 Grand Place\, Saint-Ghislain\, 7330\, Belgique
CATEGORIES:Ateliers,Saint-Ghislain,Théâtre
ATTACH;FMTTYPE=image/jpeg:https://septem.stghislain.be/wp-content/uploads/2025/09/atelier-improvistion-saint-ghislain-septem-culture.jpg
ORGANIZER;CN="Bulbav%E2%80%99Art":MAILTO:roymaiolino@gmail.com
END:VEVENT
BEGIN:VEVENT
DTSTART;TZID=Europe/Brussels:20260212T200000
DTEND;TZID=Europe/Brussels:20260212T213000
DTSTAMP:20260422T161333
CREATED:20260117T083824Z
LAST-MODIFIED:20260117T083828Z
UID:10001288-1770926400-1770931800@septem.stghislain.be
SUMMARY:CONCERT | Des Chansons Plein La Tête
DESCRIPTION:Humour\, émotion\, costumes\, mise en scène… Ne ratez pas ce spectacle à Saint-Ghislain! \nRetrouvez les succès de la chanson française et internationale par des artistes que vous avez vus dans des émissions télévisées musicales ! \nAvec : Violaine – Geoffrey – Dorian – Léa – Franck – Yoan Elodie de NOPLP\, Jade\, Livanni\, Izalyne de Voice Kid\, Antoine Delie de La France a un incroyable talent\, Flora de The Voice…
URL:https://septem.stghislain.be/agenda/des-chansons-plein-la-tete-2/
LOCATION:Les Jardins du Cloître\, 37 Grand Place\, Saint-Ghislain\, 7330\, Belgique
CATEGORIES:Chant,Concerts,En famille,Musique,Saint-Ghislain,Spectacle
ATTACH;FMTTYPE=image/jpeg:https://septem.stghislain.be/wp-content/uploads/2026/01/septem-saint-ghislain-culture-centre-culturel-concert-des-chansons-plein-la-tete-2026.jpg
ORGANIZER;CN="Septem":MAILTO:info@septem.stghislain.be
END:VEVENT
BEGIN:VEVENT
DTSTART;TZID=Europe/Brussels:20260218T140000
DTEND;TZID=Europe/Brussels:20260218T170000
DTSTAMP:20260422T161333
CREATED:20251203T130713Z
LAST-MODIFIED:20251203T130717Z
UID:10001268-1771423200-1771434000@septem.stghislain.be
SUMMARY:CoderDojo | Apprendre le codage pour les 7 - 18 ans | Gratuit
DESCRIPTION:👾 𝗘𝗻𝘃𝗶𝗲 𝗱𝗲 𝗽𝗹𝗼𝗻𝗴𝗲𝗿 𝗱𝗮𝗻𝘀 𝗹’𝘂𝗻𝗶𝘃𝗲𝗿𝘀 𝗱𝘂 𝗰𝗼𝗱𝗮𝗴𝗲 ? 👩‍💻👨‍💻Tu as entre 7 et 18 ans ? Rejoins-nous gratuitement pour un atelier de codage en partenariat avec 𝗖𝗼𝗱𝗲𝗿𝗗𝗼𝗷𝗼 :⏰ 𝗗𝗲 𝟭𝟰𝗵 𝗮̀ 𝟭𝟳𝗵📍 Sur place\, avec des ordinateurs disponibles (ou apporte ton propre matériel : laptop ou tablette).Apprends à :– Programmer\, Coder 🤖– Créer des sites web 🌐– Développer des applications et des jeux 📱🎮💡 𝗠𝗮𝗶𝘀 𝗮𝘂 𝗳𝗮𝗶𝘁\, 𝗖𝗼𝗱𝗲𝗿𝗗𝗼𝗷𝗼\, 𝗰’𝗲𝘀𝘁 𝗾𝘂𝗼𝗶 ?CoderDojo\, c’est une organisation qui propose des sessions de codage gratuites pour 𝗹𝗲𝘀 𝗳𝗶𝗹𝗹𝗲𝘀 𝗲𝘁 𝗹𝗲𝘀 𝗴𝗮𝗿𝗰̧𝗼𝗻𝘀 𝗱𝗲 𝟳 𝗮̀ 𝟭𝟴 𝗮𝗻𝘀. Ces ateliers\, appelés Dojos\, sont encadrés par des 𝗯𝗲́𝗻𝗲́𝘃𝗼𝗹𝗲𝘀 passionnés qui stimulent l’imagination et la créativité des jeunes Ninjas dans le monde numérique. 🦸‍♀️🦸‍♂️📲 Inscris-toi vite et viens coder avec nous ! ✨
URL:https://septem.stghislain.be/agenda/coderdojo-apprendre-le-codage-pour-les-7-18-ans-gratuit-2/
LOCATION:Les Jardins du Cloître\, 37 Grand Place\, Saint-Ghislain\, 7330\, Belgique
CATEGORIES:Ateliers,EPN,Saint-Ghislain
ATTACH;FMTTYPE=image/jpeg:https://septem.stghislain.be/wp-content/uploads/2025/05/EPN-atelier-codage-coder-dojo-septem-culture-2026.jpg
ORGANIZER;CN="Septem":MAILTO:info@septem.stghislain.be
END:VEVENT
BEGIN:VEVENT
DTSTART;TZID=Europe/Brussels:20260218T190000
DTEND;TZID=Europe/Brussels:20260218T220000
DTSTAMP:20260422T161333
CREATED:20260115T073515Z
LAST-MODIFIED:20260115T073646Z
UID:10001281-1771441200-1771452000@septem.stghislain.be
SUMMARY:Atelier d'improvisation | Bulbav’Art
DESCRIPTION:
URL:https://septem.stghislain.be/agenda/atelier-dimprovisation-bulbavart/2026-02-18/
LOCATION:Les Jardins du Cloître\, 37 Grand Place\, Saint-Ghislain\, 7330\, Belgique
CATEGORIES:Ateliers,Saint-Ghislain,Théâtre
ATTACH;FMTTYPE=image/jpeg:https://septem.stghislain.be/wp-content/uploads/2025/09/atelier-improvistion-saint-ghislain-septem-culture.jpg
ORGANIZER;CN="Bulbav%E2%80%99Art":MAILTO:roymaiolino@gmail.com
END:VEVENT
BEGIN:VEVENT
DTSTART;TZID=Europe/Brussels:20260219T200000
DTEND;TZID=Europe/Brussels:20260219T213000
DTSTAMP:20260422T161333
CREATED:20260127T083713Z
LAST-MODIFIED:20260127T083719Z
UID:10001289-1771531200-1771536600@septem.stghislain.be
SUMMARY:Conférence | De "Rex vaincra ! " à "Heil Hitler !" Le rexisme...
DESCRIPTION:Cercle d’Histoire et d’Archéologie de Saint-Ghislain et de la région \nUne conférence proposée par Clément Ferrier \n 
URL:https://septem.stghislain.be/agenda/rexisme/
LOCATION:Les Jardins du Cloître\, 37 Grand Place\, Saint-Ghislain\, 7330\, Belgique
CATEGORIES:Conférences,Saint-Ghislain
ATTACH;FMTTYPE=image/jpeg:https://septem.stghislain.be/wp-content/uploads/2026/01/1902.jpg
ORGANIZER;CN="Cercle%20d%E2%80%99histoire%20et%20d%E2%80%99arch%C3%A9ologie":MAILTO:cecile.ansieau@spw.wallonie.be
END:VEVENT
BEGIN:VEVENT
DTSTART;TZID=Europe/Brussels:20260225T190000
DTEND;TZID=Europe/Brussels:20260225T220000
DTSTAMP:20260422T161333
CREATED:20260115T073515Z
LAST-MODIFIED:20260115T073646Z
UID:10001282-1772046000-1772056800@septem.stghislain.be
SUMMARY:Atelier d'improvisation | Bulbav’Art
DESCRIPTION:
URL:https://septem.stghislain.be/agenda/atelier-dimprovisation-bulbavart/2026-02-25/
LOCATION:Les Jardins du Cloître\, 37 Grand Place\, Saint-Ghislain\, 7330\, Belgique
CATEGORIES:Ateliers,Saint-Ghislain,Théâtre
ATTACH;FMTTYPE=image/jpeg:https://septem.stghislain.be/wp-content/uploads/2025/09/atelier-improvistion-saint-ghislain-septem-culture.jpg
ORGANIZER;CN="Bulbav%E2%80%99Art":MAILTO:roymaiolino@gmail.com
END:VEVENT
END:VCALENDAR