BEGIN:VCALENDAR
VERSION:2.0
PRODID:-//Septem - ECPv6.0.13.1//NONSGML v1.0//EN
CALSCALE:GREGORIAN
METHOD:PUBLISH
X-WR-CALNAME:Septem
X-ORIGINAL-URL:https://septem.stghislain.be
X-WR-CALDESC:évènements pour Septem
REFRESH-INTERVAL;VALUE=DURATION:PT1H
X-Robots-Tag:noindex
X-PUBLISHED-TTL:PT1H
BEGIN:VTIMEZONE
TZID:Europe/Brussels
BEGIN:DAYLIGHT
TZOFFSETFROM:+0100
TZOFFSETTO:+0200
TZNAME:CEST
DTSTART:20260329T010000
END:DAYLIGHT
BEGIN:STANDARD
TZOFFSETFROM:+0200
TZOFFSETTO:+0100
TZNAME:CET
DTSTART:20261025T010000
END:STANDARD
END:VTIMEZONE
BEGIN:VEVENT
DTSTART;TZID=Europe/Brussels:20260116T183000
DTEND;TZID=Europe/Brussels:20260116T200000
DTSTAMP:20260422T174008
CREATED:20250818T080635Z
LAST-MODIFIED:20250818T094855Z
UID:10001168-1768588200-1768593600@septem.stghislain.be
SUMMARY:Exploration du monde | "THAILANDE\, l'île des hommes libres"
DESCRIPTION:par Nicolas Pellissier \nImaginez un pays\, attaché à ses traditions et à sa culture millénaire\, faire un bond dans la modernité et la mondialisation. Nombreux sont ceux qui connaissent la Thaïlande à travers ses plages\, ses îles\, ses temples\, ses éléphants\, sa nourriture et son Bangkok futuriste qui s’étend à perte de vue. Mais peu savent qu’il y subsiste une population fragile qui lutte pour sa survie et pour sa culture. \nAbonnement 7 films 60-70€ : cliquez-ici
URL:https://septem.stghislain.be/agenda/thailande/
LOCATION:Les Jardins du Cloître\, 37 Grand Place\, Saint-Ghislain\, 7330\, Belgique
CATEGORIES:Documentaires,Explo du Monde,Films,Saint-Ghislain
ATTACH;FMTTYPE=image/jpeg:https://septem.stghislain.be/wp-content/uploads/2025/08/exploration-du-monde-Septem-st-ghislain-culture-voyage.jpg
ORGANIZER;CN="Septem":MAILTO:info@septem.stghislain.be
END:VEVENT
BEGIN:VEVENT
DTSTART;TZID=Europe/Brussels:20260121T140000
DTEND;TZID=Europe/Brussels:20260121T170000
DTSTAMP:20260422T174008
CREATED:20250523T055420Z
LAST-MODIFIED:20251203T130449Z
UID:10001147-1769004000-1769014800@septem.stghislain.be
SUMMARY:CoderDojo | Apprendre le codage pour les 7 - 18 ans | Gratuit
DESCRIPTION:👾 𝗘𝗻𝘃𝗶𝗲 𝗱𝗲 𝗽𝗹𝗼𝗻𝗴𝗲𝗿 𝗱𝗮𝗻𝘀 𝗹’𝘂𝗻𝗶𝘃𝗲𝗿𝘀 𝗱𝘂 𝗰𝗼𝗱𝗮𝗴𝗲 ? 👩‍💻👨‍💻Tu as entre 7 et 18 ans ? Rejoins-nous gratuitement pour un atelier de codage en partenariat avec 𝗖𝗼𝗱𝗲𝗿𝗗𝗼𝗷𝗼 :⏰ 𝗗𝗲 𝟭𝟰𝗵 𝗮̀ 𝟭𝟳𝗵📍 Sur place\, avec des ordinateurs disponibles (ou apporte ton propre matériel : laptop ou tablette).Apprends à :– Programmer\, Coder 🤖– Créer des sites web 🌐– Développer des applications et des jeux 📱🎮💡 𝗠𝗮𝗶𝘀 𝗮𝘂 𝗳𝗮𝗶𝘁\, 𝗖𝗼𝗱𝗲𝗿𝗗𝗼𝗷𝗼\, 𝗰’𝗲𝘀𝘁 𝗾𝘂𝗼𝗶 ?CoderDojo\, c’est une organisation qui propose des sessions de codage gratuites pour 𝗹𝗲𝘀 𝗳𝗶𝗹𝗹𝗲𝘀 𝗲𝘁 𝗹𝗲𝘀 𝗴𝗮𝗿𝗰̧𝗼𝗻𝘀 𝗱𝗲 𝟳 𝗮̀ 𝟭𝟴 𝗮𝗻𝘀. Ces ateliers\, appelés Dojos\, sont encadrés par des 𝗯𝗲́𝗻𝗲́𝘃𝗼𝗹𝗲𝘀 passionnés qui stimulent l’imagination et la créativité des jeunes Ninjas dans le monde numérique. 🦸‍♀️🦸‍♂️📲 Inscris-toi vite et viens coder avec nous ! ✨
URL:https://septem.stghislain.be/agenda/coderdojo/
LOCATION:Les Jardins du Cloître\, 37 Grand Place\, Saint-Ghislain\, 7330\, Belgique
CATEGORIES:Ateliers,EPN,Saint-Ghislain
ATTACH;FMTTYPE=image/jpeg:https://septem.stghislain.be/wp-content/uploads/2025/05/EPN-atelier-codage-coder-dojo-septem-culture-2026.jpg
ORGANIZER;CN="Septem":MAILTO:info@septem.stghislain.be
END:VEVENT
BEGIN:VEVENT
DTSTART;TZID=Europe/Brussels:20260121T190000
DTEND;TZID=Europe/Brussels:20260121T220000
DTSTAMP:20260422T174008
CREATED:20260115T073515Z
LAST-MODIFIED:20260115T073646Z
UID:10001277-1769022000-1769032800@septem.stghislain.be
SUMMARY:Atelier d'improvisation | Bulbav’Art
DESCRIPTION:
URL:https://septem.stghislain.be/agenda/atelier-dimprovisation-bulbavart/2026-01-21/
LOCATION:Les Jardins du Cloître\, 37 Grand Place\, Saint-Ghislain\, 7330\, Belgique
CATEGORIES:Ateliers,Saint-Ghislain,Théâtre
ATTACH;FMTTYPE=image/jpeg:https://septem.stghislain.be/wp-content/uploads/2025/09/atelier-improvistion-saint-ghislain-septem-culture.jpg
ORGANIZER;CN="Bulbav%E2%80%99Art":MAILTO:roymaiolino@gmail.com
END:VEVENT
BEGIN:VEVENT
DTSTART;TZID=Europe/Brussels:20260122T200000
DTEND;TZID=Europe/Brussels:20260122T213000
DTSTAMP:20260422T174008
CREATED:20260107T133935Z
LAST-MODIFIED:20260107T133939Z
UID:10001276-1769112000-1769117400@septem.stghislain.be
SUMMARY:Conférence | Vue au travers de trois destins\, l'immigration polonaise en Belgique.
DESCRIPTION:Cercle d’Histoire et d’Archéologie de Saint-Ghislain et de la région \nUne conférence proposée par Sébastien JURA. \n 
URL:https://septem.stghislain.be/agenda/conference-immigration-polonaise/
LOCATION:Les Jardins du Cloître\, 37 Grand Place\, Saint-Ghislain\, 7330\, Belgique
CATEGORIES:Conférences,Saint-Ghislain
ATTACH;FMTTYPE=image/jpeg:https://septem.stghislain.be/wp-content/uploads/2026/01/conference-immigration-polonaise.jpg
ORGANIZER;CN="Cercle%20d%E2%80%99histoire%20et%20d%E2%80%99arch%C3%A9ologie":MAILTO:cecile.ansieau@spw.wallonie.be
END:VEVENT
BEGIN:VEVENT
DTSTART;TZID=Europe/Brussels:20260128T190000
DTEND;TZID=Europe/Brussels:20260128T220000
DTSTAMP:20260422T174008
CREATED:20260115T073515Z
LAST-MODIFIED:20260115T073646Z
UID:10001278-1769626800-1769637600@septem.stghislain.be
SUMMARY:Atelier d'improvisation | Bulbav’Art
DESCRIPTION:
URL:https://septem.stghislain.be/agenda/atelier-dimprovisation-bulbavart/2026-01-28/
LOCATION:Les Jardins du Cloître\, 37 Grand Place\, Saint-Ghislain\, 7330\, Belgique
CATEGORIES:Ateliers,Saint-Ghislain,Théâtre
ATTACH;FMTTYPE=image/jpeg:https://septem.stghislain.be/wp-content/uploads/2025/09/atelier-improvistion-saint-ghislain-septem-culture.jpg
ORGANIZER;CN="Bulbav%E2%80%99Art":MAILTO:roymaiolino@gmail.com
END:VEVENT
BEGIN:VEVENT
DTSTART;TZID=Europe/Brussels:20260129T133000
DTEND;TZID=Europe/Brussels:20260129T143000
DTSTAMP:20260422T174008
CREATED:20251205T091612Z
LAST-MODIFIED:20251205T091616Z
UID:10001269-1769693400-1769697000@septem.stghislain.be
SUMMARY:Théâtre documentaire | FAST
DESCRIPTION:FAST aborde la thématique de la fast fashion\, un mode de production textile qui vise à produire toujours plus à des prix bas. À travers une réflexion ludique et sans jugement\, Didier et Olivier Lenel\, déjà connus pour Suzy & Franck et Un silence ordinaire\, interrogent comment notre modèle économique influence nos désirs et crée de nouveaux besoins. \nLe spectacle est une exploration intime\, documentaire et basée sur des témoignages poignants\, qui cherche à concilier notre apparence et la nécessité de prendre soin de notre planète et de ses habitants. \nVous pouvez visionner le teaser ici : https://vimeo.com/1058228689 \n———————————- \nPeut-on se réapproprier nos désirs dans une société de consommation ?FAST explore avec humour et réflexion l’impact de la fast fashion sur nos vies. Entre voyage intime\, travail documentaire et témoignages poignants\, ce spectacle interroge notre manière de consommer et tente de faire coexister nos paradoxes. \nQuand Didier Poiteaux commence ses recherches sur la fast fashion\, il ne se doute pas de l’engrenage dans lequel il met le doigt. La fast fashion\, c’est ce mode de production de l’industrie textile\, enfant du capitalisme\, qui vise à produire toujours plus à des prix toujours plus bas. Et paradoxalement\, plus Didier se penche sur cette industrie et ses ravages\, plus il prend plaisir à soigner son apparence… \nSur scène\, Didier et son complice Olivier Lenel naviguent entre moments humoristiques et émotions fortes. À travers une structure de « zapping » théâtral\, FAST combine saynètes immersives\, témoignages poignants et extraits documentaires pour interroger les réalités de la production textile et le modèle économique qui façonne nos désirs\, en créant de nouveaux besoins. Le spectacle déconstruit pour mieux reconstruire\, invitant le public à imaginer un avenir plus responsable et à repenser son rapport à la consommation. \nUn spectacle vivant et interactif\, qui met en lumière les contradictions de notre société tout en nous encourageant à agir.
URL:https://septem.stghislain.be/agenda/fast/
LOCATION:Les Jardins du Cloître\, 37 Grand Place\, Saint-Ghislain\, 7330\, Belgique
CATEGORIES:Documentaires,Saint-Ghislain,Scolaires,Théâtre
ATTACH;FMTTYPE=image/jpeg:https://septem.stghislain.be/wp-content/uploads/2025/12/fast-septem-centre-culturel-saint-ghsilain-culture-theatre-2026.jpg
ORGANIZER;CN="Septem":MAILTO:info@septem.stghislain.be
END:VEVENT
END:VCALENDAR