BEGIN:VCALENDAR
VERSION:2.0
PRODID:-//Septem - ECPv6.0.13.1//NONSGML v1.0//EN
CALSCALE:GREGORIAN
METHOD:PUBLISH
X-ORIGINAL-URL:https://septem.stghislain.be
X-WR-CALDESC:évènements pour Septem
REFRESH-INTERVAL;VALUE=DURATION:PT1H
X-Robots-Tag:noindex
X-PUBLISHED-TTL:PT1H
BEGIN:VTIMEZONE
TZID:Europe/Brussels
BEGIN:DAYLIGHT
TZOFFSETFROM:+0100
TZOFFSETTO:+0200
TZNAME:CEST
DTSTART:20240331T010000
END:DAYLIGHT
BEGIN:STANDARD
TZOFFSETFROM:+0200
TZOFFSETTO:+0100
TZNAME:CET
DTSTART:20241027T010000
END:STANDARD
END:VTIMEZONE
BEGIN:VEVENT
DTSTART;TZID=Europe/Brussels:20240601T200000
DTEND;TZID=Europe/Brussels:20240601T220000
DTSTAMP:20260423T213603
CREATED:20240110T091100Z
LAST-MODIFIED:20240110T091104Z
UID:10000477-1717272000-1717279200@septem.stghislain.be
SUMMARY:Concert | Celentano cover | Celentanissimo
DESCRIPTION:🎶🇮🇹 Concert « Celentano cover » : L’éclat belge des reprises d’Adriano Celentano ! 🎸🎤 \nNous sommes ravis de vous annoncer le concert tant attendu de « Celentano cover »\, qui aura lieu le 1er juin à 20h aux Jardins du Cloître de Saint-Ghislain. Préparez-vous à vivre une fusion musicale envoûtante et à ressentir l’énergie vibrante de cet hommage captivant à l’icône légendaire italienne\, Adriano Celentano. \nComposé de musiciens talentueux de la scène belge et italienne\, ce groupe de 8 artistes interprètera à la perfection le répertoire inoubliable d’Adriano Celentano. Vous serez transportés par les mélodies intemporelles de cet artiste emblématique\, revisitées avec passion et virtuosité.Venez chanter et danser au rythme des plus grands succès d’Adriano Celentano tels que « Azzurro »\, « Susanna »\, « Prisencolinensinainciusol » et bien d’autres encore. C’est une soirée qui promet d’être magique\, pleine de nostalgie et de souvenirs. \nNe manquez pas cette occasion unique de célébrer la musique et l’héritage d’Adriano Celentano avec « Celentano cover ». Réservez dès maintenant vos places pour une soirée inoubliable ! \n#ConcertCelentanoCover #MusiqueItalienne #Reprises #ÉnergieVibrante #Hommage #AdrianoCelentano
URL:https://septem.stghislain.be/agenda/celentano-cover/
LOCATION:Les Jardins du Cloître\, 37 Grand Place\, Saint-Ghislain\, 7330\, Belgique
CATEGORIES:Concerts,Musique,Saint-Ghislain,Spectacle
ATTACH;FMTTYPE=image/jpeg:https://septem.stghislain.be/wp-content/uploads/2024/01/celentano-cover-Septem-Culture_Saint_Ghislain-2024.jpg
ORGANIZER;CN="Septem":MAILTO:info@septem.stghislain.be
END:VEVENT
BEGIN:VEVENT
DTSTART;TZID=Europe/Brussels:20240604T133000
DTEND;TZID=Europe/Brussels:20240604T153000
DTSTAMP:20260423T213603
CREATED:20231114T095557Z
LAST-MODIFIED:20231114T095600Z
UID:10000418-1717507800-1717515000@septem.stghislain.be
SUMMARY:Cinéma | Le procès Goldman
DESCRIPTION:De Cédric Kahn – Policier\, Drame\, Historique\, Judiciaire \nDurée 1h56 \n\nEn avril 1976\, débute le deuxième procès de Pierre Goldman\, militant d’extrême gauche\, condamné en première instance à la réclusion criminelle à perpétuité pour quatre braquages à main armée\, dont un ayant entraîné la mort de deux pharmaciennes. Il clame son innocence dans cette dernière affaire et devient en quelques semaines l’icône de la gauche intellectuelle. Georges Kiejman\, jeune avocat\, assure sa défense. Mais très vite\, leurs rapports se tendent. Goldman\, insaisissable et provocateur\, risque la peine capitale et rend l’issue du procès incertaine.
URL:https://septem.stghislain.be/agenda/cinema-le-proces-goldman/2024-06-04/1/
LOCATION:Les Jardins du Cloître\, 37 Grand Place\, Saint-Ghislain\, 7330\, Belgique
CATEGORIES:Cinéma,Films,Saint-Ghislain
ATTACH;FMTTYPE=image/jpeg:https://septem.stghislain.be/wp-content/uploads/2023/11/cinema-le-proces-goldman-Septem-Culture_Saint_Ghislain-2024.jpg
ORGANIZER;CN="Septem":MAILTO:info@septem.stghislain.be
END:VEVENT
BEGIN:VEVENT
DTSTART;TZID=Europe/Brussels:20240604T193000
DTEND;TZID=Europe/Brussels:20240604T213000
DTSTAMP:20260423T213603
CREATED:20231114T095557Z
LAST-MODIFIED:20231114T095600Z
UID:10000419-1717529400-1717536600@septem.stghislain.be
SUMMARY:Cinéma | Le procès Goldman
DESCRIPTION:De Cédric Kahn – Policier\, Drame\, Historique\, Judiciaire \nDurée 1h56 \n\nEn avril 1976\, débute le deuxième procès de Pierre Goldman\, militant d’extrême gauche\, condamné en première instance à la réclusion criminelle à perpétuité pour quatre braquages à main armée\, dont un ayant entraîné la mort de deux pharmaciennes. Il clame son innocence dans cette dernière affaire et devient en quelques semaines l’icône de la gauche intellectuelle. Georges Kiejman\, jeune avocat\, assure sa défense. Mais très vite\, leurs rapports se tendent. Goldman\, insaisissable et provocateur\, risque la peine capitale et rend l’issue du procès incertaine.
URL:https://septem.stghislain.be/agenda/cinema-le-proces-goldman/2024-06-04/2/
LOCATION:Les Jardins du Cloître\, 37 Grand Place\, Saint-Ghislain\, 7330\, Belgique
CATEGORIES:Cinéma,Films,Saint-Ghislain
ATTACH;FMTTYPE=image/jpeg:https://septem.stghislain.be/wp-content/uploads/2023/11/cinema-le-proces-goldman-Septem-Culture_Saint_Ghislain-2024.jpg
ORGANIZER;CN="Septem":MAILTO:info@septem.stghislain.be
END:VEVENT
BEGIN:VEVENT
DTSTART;TZID=Europe/Brussels:20240606T180000
DTEND;TZID=Europe/Brussels:20240613T170000
DTSTAMP:20260423T213603
CREATED:20240412T071656Z
LAST-MODIFIED:20240516T120636Z
UID:10000521-1717696800-1718298000@septem.stghislain.be
SUMMARY:Exposition | La création d'une ville invisible : Octavia
DESCRIPTION:En partenariat avec le secteur EducationPermanente et jeunesse de Hainaut Culture \nExposition « La création d’une ville invisible : Octavia »Vous êtes cordialement invités à plonger dans un monde imaginaire captivant lors de notre exposition spéciale « La création d’une ville invisible : Octavia« \, présentée en collaboration avec le secteur Education Permanente et Jeunesse de Hainaut Culture. \nEn hommage à Italo Calvino\, éminent romancier italien du XXe siècle reconnu pour sa créativité débordante et son esprit malicieux\, cette exposition vous transportera dans l’univers fantastique de son ouvrage emblématique « Les Villes invisibles ». \nChristine Mordant et Daniela Albis nous liront en italien et en français des extraits de ce formidable récit dans lequel Calvino\, par le truchement d’histoires racontées par Marco Polo\, nous emmène visiter des villes invisibles le 6 juin 2024 à 18h00. Visites guidées le 11 et 13 juin de 13h à 16h30 \nGrâce à la participation de l’Asbl La Marjolaine\, la Prévôté de Baudour et des ateliers Patchwork en partenariat avec Septem\, découvrez les représentations uniques de la ville d’Octavia créées par une multitude de participants qui viendront s’ajouter aux Octavie déjà créées par 20 autres créateurs : S.Bolognino\, A.Breyer\, J.Bulteel\, JG Closset\, V.Claes\, D.Decot\, S.Dionkre\, F.Deruyck\, N.Dubois\, P.Dubit\, I.Linotte\, R.Noviello\, C.Père\, M.Puleo\, JC Saudoyez\, A.Simeoni\, MH Sigart\, F.Scandolo\, C.Vandiepenbeeck.Du 6 au 12 juin 2024\, venez admirer ces œuvres inspirantes exposées au couvent d’Hautrage et laissez-vous imprégner par la magie d’Octavie/Octavia.
URL:https://septem.stghislain.be/agenda/ville-invisible-octavia/
LOCATION:Couvent d’Hautrage\, Grand'Place\, Hautrage\, 7334
CATEGORIES:Expositions,Saint-Ghislain
ATTACH;FMTTYPE=image/jpeg:https://septem.stghislain.be/wp-content/uploads/2024/04/creation-d-une-ville-invisible-Octavia-Septem-Culture_Saint_Ghislain-2024.jpg
ORGANIZER;CN="Septem":MAILTO:info@septem.stghislain.be
END:VEVENT
BEGIN:VEVENT
DTSTART;TZID=Europe/Brussels:20240608T093000
DTEND;TZID=Europe/Brussels:20240608T130000
DTSTAMP:20260423T213603
CREATED:20240328T070651Z
LAST-MODIFIED:20240328T070703Z
UID:10000516-1717839000-1717851600@septem.stghislain.be
SUMMARY:Atelier | Aquarelle avec Ingrid Barviau
DESCRIPTION:Approche créative de l’aquarelle\, Ingrid Barviau aquarelliste diplômée à l’école des métiers d’art du Hainaut à Mons vous propose l’initiation aux différentes textures\, l’utilisation des pigments\, la réalisation d’une composition.Elle accueille un groupe niveau débutant\, adultes et adolescents. \nMatériel d’aquarelle requis.
URL:https://septem.stghislain.be/agenda/aquarelle-ingrid-barviau/2024-06-08/
LOCATION:Couvent d’Hautrage\, Grand'Place\, Hautrage\, 7334
CATEGORIES:Ateliers,Saint-Ghislain
ATTACH;FMTTYPE=image/jpeg:https://septem.stghislain.be/wp-content/uploads/2024/03/aquarelle-ingrid-barviau-Septem-Culture_Saint_Ghislain-2024.jpg
ORGANIZER;CN="Septem":MAILTO:info@septem.stghislain.be
END:VEVENT
BEGIN:VEVENT
DTSTART;TZID=Europe/Brussels:20240608T140000
DTEND;TZID=Europe/Brussels:20240621T170000
DTSTAMP:20260423T213603
CREATED:20240305T081331Z
LAST-MODIFIED:20240621T145507Z
UID:10000498-1717855200-1718989200@septem.stghislain.be
SUMMARY:Exposition | Oeuvres de Georges Boulmant
DESCRIPTION:​Cette exposition mettra en exergue les œuvres de Goerges Boulmant. Elle se veut être une rétrospective non exhaustive de ses multiples talents. Nous ne sommes fermés à aucun apport\, qu’il soit écrit\, illustré ou autre.  \nCertaines de ses œuvres ne pouvant être exposées puisqu’intégrées à des bâtiments\, notamment publics\, feront l’objet d’une illustration photographique. \nHoraire d’ouverture: de 14 à 18h et de 10h à 18h le mercredi et samedi \n𝗔𝗩𝗜𝗦 𝗗𝗘 𝗥𝗘𝗖𝗛𝗘𝗥𝗖𝗛𝗘: 𝗢𝗲𝘂𝘃𝗿𝗲𝘀 𝗱𝗲 𝗚𝗲𝗼𝗿𝗴𝗲𝘀 𝗕𝗼𝘂𝗹𝗺𝗮𝗻𝘁.𝗜𝗹 𝘆 𝟮𝟬 𝗮𝗻𝘀 𝗱𝗶𝘀𝗽𝗮𝗿𝗮𝗶𝘀𝘀𝗮𝗶𝘁 𝗹’𝗮𝗿𝘁𝗶𝘀𝘁𝗲 𝗚𝗲𝗼𝗿𝗴𝗲𝘀 𝗕𝗼𝘂𝗹𝗺𝗮𝗻𝘁. 𝗦𝗲𝗽𝘁𝗲𝗺 ne pouvait pas rester insensible à cette date. Nous mettons ainsi sur pied une rétrospective de ses œuvres\, rendant ainsi un légitime hommage à son héritage artistique. Pour faire de cet événement un succès\, nous faisons appel à vous\, les membres précieux de notre communauté\, afin de partager\, le temps de cette rétrospective\, les œuvres de Georges Boulmant dont vous seriez un éventuel propriétaire. \nAinsi\, 𝘀𝗶 𝘃𝗼𝘂𝘀 𝗲̂𝘁𝗲𝘀 𝗲𝗻 𝗽𝗼𝘀𝘀𝗲𝘀𝘀𝗶𝗼𝗻 𝗱’𝘂𝗻𝗲 𝗽𝗲𝗶𝗻𝘁𝘂𝗿𝗲\, 𝗱’𝘂𝗻𝗲 𝘀𝗰𝘂𝗹𝗽𝘁𝘂𝗿𝗲\, 𝗱’𝘂𝗻𝗲 𝗰𝗲́𝗿𝗮𝗺𝗶𝗾𝘂𝗲\, 𝗱’𝘂𝗻 𝘃𝗶𝘁𝗿𝗮𝗶𝗹 𝗼𝘂 𝗱𝗲 𝘁𝗼𝘂𝘁 𝗮𝘂𝘁𝗿𝗲 œ𝘂𝘃𝗿𝗲 créée par Georges Boulmant\, nous vous invitons chaleureusement à les mettre à notre disposition pour cette exposition unique qui se tiendra en juin prochain. Votre contribution contribuera incontestablement à créer une expérience immersive et célébrer ainsi la vie et l’œuvre de cet artiste. \nContactez-nous avant le 1er mai pour nous indiquer votre intérêt à partager une œuvre ou vous associer à la mise en oeuvre de cette initiative. Notre équipe dédiée à ce projet vous assistera dans les détails logistiques et s’assurera que chaque contribution soit présentée avec le respect et l’attention qu’elle mérite. \nContact : Thomas FRANÇOISTél : 0472/10.76.99Mail : thomas.francois@septem.stghislain.be
URL:https://septem.stghislain.be/agenda/exposition-boulmant/
LOCATION:Les Jardins du Cloître\, 37 Grand Place\, Saint-Ghislain\, 7330\, Belgique
CATEGORIES:Expositions,Saint-Ghislain
ATTACH;FMTTYPE=image/jpeg:https://septem.stghislain.be/wp-content/uploads/2024/03/exposition-goerges-boulmant-Septem-Culture_Saint_Ghislain-2024.jpg
ORGANIZER;CN="Septem":MAILTO:info@septem.stghislain.be
END:VEVENT
BEGIN:VEVENT
DTSTART;TZID=Europe/Brussels:20240608T193000
DTEND;TZID=Europe/Brussels:20240608T210000
DTSTAMP:20260423T213603
CREATED:20231110T095659Z
LAST-MODIFIED:20231110T095702Z
UID:10000408-1717875000-1717880400@septem.stghislain.be
SUMMARY:Théâtre | Cocotte-minute
DESCRIPTION:🎭 Ne manquez pas la pièce de théâtre « Cocotte-minute » ! 📚 \nPlongez dans l’univers captivant de « Cocotte-minute »\, qui trouve son origine dans deux éléments distincts. D’une part\, le journal de bord rédigé par l’autrice lors d’une expérience en maison de repos\, et d’autre part\, un fait divers tragique survenu dans un home du sud de la Belgique en 2015. \nInspirée de scènes réellement vécues\, la pièce retranscrit\, romance et agence ces moments pour raconter et questionner le quotidien d’une maison de repos. Sur scène\, sept personnages prendront vie : deux aides-soignantes et cinq personnes âgées. L’histoire\, construite comme un crescendo musical\, dénonce avec subtilité la réalité d’un système lucratif. Au fur et à mesure que le récit avance\, le rythme effréné imposé aux aides-soignantes en sous-effectif contraste avec la lenteur poétique des résidents de la maison de repos. \nEntre humour et tendresse\, la pièce dépeint des situations où la maltraitance banalisée s’immisce insidieusement. Tel un grincement sourd de plus en plus présent\, ces actes s’accumulent jusqu’à devenir irréversibles\, faisant exploser la cocotte-minute. \nNe manquez pas cette représentation percutante qui vous fera réfléchir sur les enjeux de notre société. Réservez dès maintenant vos places pour assister à cette expérience théâtrale bouleversante. \n\nCocotte-minute est une pièce de théâtre qui pose un regard sur les réalités du secteur paramédical\, questionne un système défectueux et met des mots sur le sujet tabou de la maltraitance institutionnelle. Au lieu de porter un jugement ou un regard accusateur sur les protagonistes de l’histoire\, la pièce propose une prise de recul\, un point de vue plus systémique. Au-delà de la démarche artistique\, Cocotte-minute est un moyen de communication et de sensibilisation. En plus des théâtres et centres culturels\, la pièce aspire à être jouée aussi en milieu scolaire\, dans des formations du secteur social et paramédical\, lors d’évènements de sensibilisation\, etc. \nL’ASBL Séisme nait en 2021 pour créer\, diffuser et promouvoir des formes artistiques et des actions socioculturelles variées. Elle porte un regard questionnant sur les tremblements\, les fissures et les singularités humaines. Les différents projets de Séisme sont polyvalents\, ils s’adaptent à plusieurs types de lieux et conditions. Séisme rend ses activités accessibles afin de s’adresser au plus grand nombre et de viser une réelle démocratisation culturelle. \n\n📅 Date : 8 juin 2024⏰ Heure : 19h30📍 Lieu : Jardins du Cloître de Saint-Ghislain
URL:https://septem.stghislain.be/agenda/cocotte-minute/
LOCATION:Les Jardins du Cloître\, 37 Grand Place\, Saint-Ghislain\, 7330\, Belgique
CATEGORIES:Saint-Ghislain,Spectacle,Théâtre
ATTACH;FMTTYPE=image/jpeg:https://septem.stghislain.be/wp-content/uploads/2023/11/theatre-cocotte-minute-Septem-Culture_Saint_Ghislain-2024.jpg
ORGANIZER;CN="Septem":MAILTO:info@septem.stghislain.be
END:VEVENT
BEGIN:VEVENT
DTSTART;TZID=Europe/Brussels:20240618T133000
DTEND;TZID=Europe/Brussels:20240618T153000
DTSTAMP:20260423T213603
CREATED:20231114T100302Z
LAST-MODIFIED:20231114T100305Z
UID:10000421-1718717400-1718724600@septem.stghislain.be
SUMMARY:Cinéma | RICEBOY SLEEPS
DESCRIPTION:De Anthony Shim – Drame\, Famille \nDurée 1h 57min \n\nLe quotidien d’une mère célibataire coréenne et de son fils adolescent vivant en tant qu’immigrants en Amérique du Nord dans les années 1990.
URL:https://septem.stghislain.be/agenda/riceboy-sleeps/2024-06-18/1/
LOCATION:Les Jardins du Cloître\, 37 Grand Place\, Saint-Ghislain\, 7330\, Belgique
CATEGORIES:Cinéma,Films,Saint-Ghislain
ATTACH;FMTTYPE=image/jpeg:https://septem.stghislain.be/wp-content/uploads/2023/11/cinema-riceboy-sleeps-Septem-Culture_Saint_Ghislain-2024.jpg
ORGANIZER;CN="Septem":MAILTO:info@septem.stghislain.be
END:VEVENT
BEGIN:VEVENT
DTSTART;TZID=Europe/Brussels:20240618T193000
DTEND;TZID=Europe/Brussels:20240618T213000
DTSTAMP:20260423T213603
CREATED:20231114T100302Z
LAST-MODIFIED:20231114T100305Z
UID:10000422-1718739000-1718746200@septem.stghislain.be
SUMMARY:Cinéma | RICEBOY SLEEPS
DESCRIPTION:De Anthony Shim – Drame\, Famille \nDurée 1h 57min \n\nLe quotidien d’une mère célibataire coréenne et de son fils adolescent vivant en tant qu’immigrants en Amérique du Nord dans les années 1990.
URL:https://septem.stghislain.be/agenda/riceboy-sleeps/2024-06-18/2/
LOCATION:Les Jardins du Cloître\, 37 Grand Place\, Saint-Ghislain\, 7330\, Belgique
CATEGORIES:Cinéma,Films,Saint-Ghislain
ATTACH;FMTTYPE=image/jpeg:https://septem.stghislain.be/wp-content/uploads/2023/11/cinema-riceboy-sleeps-Septem-Culture_Saint_Ghislain-2024.jpg
ORGANIZER;CN="Septem":MAILTO:info@septem.stghislain.be
END:VEVENT
BEGIN:VEVENT
DTSTART;TZID=Europe/Brussels:20240621T193000
DTEND;TZID=Europe/Brussels:20240621T220000
DTSTAMP:20260423T213603
CREATED:20240607T075730Z
LAST-MODIFIED:20240610T055830Z
UID:10000670-1718998200-1719007200@septem.stghislain.be
SUMMARY:Musique en Soltice avec Jacky Goethals & Fred Bourlard
DESCRIPTION:🎶 Événement Spécial ! 🎶 \nRejoignez-nous pour une soirée magique avec « Musique en Solstice » au Couvent d’Hautrage avec Jacky Goethals & Fred Bourlard le 21 juin à 19h30. 🌅 \n🎵Au Programme : \nJacky Goethals en duoFred Bourlard à l’accordéon \n✨ Détails de l’Événement :📅 Date : 21 juin 🕢 Heure : 19h30 🏛️ Lieu : Couvent d’Hautrage \nL’entrée est Gratuite ! Venez nombreux partager ce moment musical inoubliable. 🎶 \n#MusiqueEnSolstice #CouventHautrage #JackyGoethals #FredBourlard #LiveMusic #21juin
URL:https://septem.stghislain.be/agenda/musique-solstice/
LOCATION:Couvent d’Hautrage\, Grand'Place\, Hautrage\, 7334
CATEGORIES:Hautrage,Musique,Saint-Ghislain
ATTACH;FMTTYPE=image/jpeg:https://septem.stghislain.be/wp-content/uploads/2024/06/soltice-en-musique-Septem-Culture_Saint_Ghislain-2024.jpg
ORGANIZER;CN="Septem":MAILTO:info@septem.stghislain.be
END:VEVENT
BEGIN:VEVENT
DTSTART;TZID=Europe/Brussels:20240627T183000
DTEND;TZID=Europe/Brussels:20240630T180000
DTSTAMP:20260423T213603
CREATED:20240618T140507Z
LAST-MODIFIED:20240621T092305Z
UID:10000753-1719513000-1719770400@septem.stghislain.be
SUMMARY:Exposition | NOM’ART
DESCRIPTION:“L’exposition des Cours des Métiers d’Art du Hainaut sera consacrée aux différents états de la céramique.De la terre en poudre\, crue\, à la terre cuite émaillée.” \n\nListe des intervenants :Les professeurs intervenant dans l’atelier de céramique sont:Delphine Demoisy\, sculpteur et professeur de travail artistique du métalFrance Ossieur\, céramiste ayant travaillé au Musée du Cinquantenaire en tant que restauratrice d’oeuvres d’artAlain Losa\, céramiste et potierSara Signore\, sculpteur et également professeur de plâtre \n\nL’exposition Nom’Art se fait en collaboration avec les CMAH
URL:https://septem.stghislain.be/agenda/exposition-nomart/
LOCATION:Espace Ockeghem\, Grand'Place\, Saint-Ghislain\, 7330\, Belgique
CATEGORIES:Expositions,Saint-Ghislain
ATTACH;FMTTYPE=image/jpeg:https://septem.stghislain.be/wp-content/uploads/2024/06/exposition-nom-art-Septem-Culture_Saint_Ghislain-2024.jpg
ORGANIZER;CN="Septem":MAILTO:info@septem.stghislain.be
GEO:50.448167069123;3.8202549846597
X-APPLE-STRUCTURED-LOCATION;VALUE=URI;X-ADDRESS=Espace Ockeghem Grand'Place Saint-Ghislain 7330 Belgique;X-APPLE-RADIUS=500;X-TITLE=Grand'Place:geo:3.8202549846597,50.448167069123
END:VEVENT
BEGIN:VEVENT
DTSTART;TZID=Europe/Brussels:20240628T200000
DTEND;TZID=Europe/Brussels:20240628T213000
DTSTAMP:20260423T213603
CREATED:20240328T084338Z
LAST-MODIFIED:20240412T084651Z
UID:10000509-1719604800-1719610200@septem.stghislain.be
SUMMARY:Concert RAP | KAVA - Première partie : So\, Slim et MEH
DESCRIPTION:Kava\, le jeune rappeur de Saint-Ghislain\, se produira aux Jardins du Cloître à Saint-Ghislain le vendredi 28 juin à 20h. Les billets pour cette soirée musicale exceptionnelle sont proposés au prix de 15-18€. \nKava\, un artiste polyvalent\, se distingue par sa capacité à s’adapter aisément à divers styles musicaux tels que le rap lyrical\, cloud et mainstream. Réputé pour son exigence dans l’écriture de ses textes et la profondeur de leur signification\, le rappeur accorde une attention particulière à la finalité de ses projets. Son objectif est de garantir un flow contemporain\, varié et accessible à un large public. \nPremière partie: So\, Slim et MEH \nGrâce à sa maîtrise des différents styles de rap et des tendances musicales actuelles\, Kava a su\, au fil du temps\, forger son identité musicale et artistique unique.
URL:https://septem.stghislain.be/agenda/kava/
LOCATION:Les Jardins du Cloître\, 37 Grand Place\, Saint-Ghislain\, 7330\, Belgique
CATEGORIES:Concerts,Musique,Poésie,Saint-Ghislain
ATTACH;FMTTYPE=image/jpeg:https://septem.stghislain.be/wp-content/uploads/2024/03/kava-Septem-Culture_Saint_Ghislain-2024-1.jpg
ORGANIZER;CN="Septem":MAILTO:info@septem.stghislain.be
END:VEVENT
BEGIN:VEVENT
DTSTART;TZID=Europe/Brussels:20240630T160000
DTEND;TZID=Europe/Brussels:20240630T173000
DTSTAMP:20260423T213603
CREATED:20240408T083633Z
LAST-MODIFIED:20240408T083633Z
UID:10000510-1719763200-1719768600@septem.stghislain.be
SUMMARY:Concert | JB Band
DESCRIPTION:Ne manquez pas le concert du JB Band\, le 30 juin à 16h00 aux Jardins du Cloître de Saint-Ghislain ! \nAvec ses 30 musiciens et ses 3 chanteurs\, le JB Band propose un répertoire jazz et variété qui va de Louis Armstrong à Katie Melua en passant par Johnny Hallyday ou Pink Martini. Tous sont musiciens amateurs mais sont habités par le même amour de la bonne musique et des belles chansons.\nLe JB Band pratique des genres aussi divers que le jazz\, la chanson française ou les standards des crooners américains.\nL’humour fait aussi partie intégrante du spectacle.\nLe JB Band existe depuis plus de 50 ans\, dirigé par son fondateur\, Jean Leclercq qui signe tous les arrangements.\nLe JB Band a toujours su se renouveler et coller aux tendances du moment !\nLe Band se produit aussi dans un répertoire de chant de Noël composé de grands standards et de chansons traditionnelles et va se lancer cette année dans un programme de concerts de Nouvel An.\nSi vous voulez passer un moment de plaisir et de détente en revisitant les plus belles musiques et les plus belles chansons d’hier et d’aujourd’hui\, c’est le JB Band qu’il vous faut !!! \nPour tout savoir sur la vie de l’orchestre\, son actualité et ses concerts\, une seule adresse : http://www.jbband.com/
URL:https://septem.stghislain.be/agenda/jb-band/
LOCATION:Les Jardins du Cloître\, 37 Grand Place\, Saint-Ghislain\, 7330\, Belgique
CATEGORIES:Concerts,Musique,Saint-Ghislain
ATTACH;FMTTYPE=image/jpeg:https://septem.stghislain.be/wp-content/uploads/2024/03/JB-Band-Septem-Culture_Saint_Ghislain-2024.jpg
ORGANIZER;CN="Septem":MAILTO:info@septem.stghislain.be
END:VEVENT
END:VCALENDAR