BEGIN:VCALENDAR
VERSION:2.0
PRODID:-//Septem - ECPv6.0.13.1//NONSGML v1.0//EN
CALSCALE:GREGORIAN
METHOD:PUBLISH
X-WR-CALNAME:Septem
X-ORIGINAL-URL:https://septem.stghislain.be
X-WR-CALDESC:évènements pour Septem
REFRESH-INTERVAL;VALUE=DURATION:PT1H
X-Robots-Tag:noindex
X-PUBLISHED-TTL:PT1H
BEGIN:VTIMEZONE
TZID:Europe/Brussels
BEGIN:DAYLIGHT
TZOFFSETFROM:+0100
TZOFFSETTO:+0200
TZNAME:CEST
DTSTART:20240331T010000
END:DAYLIGHT
BEGIN:STANDARD
TZOFFSETFROM:+0200
TZOFFSETTO:+0100
TZNAME:CET
DTSTART:20241027T010000
END:STANDARD
END:VTIMEZONE
BEGIN:VEVENT
DTSTART;TZID=Europe/Brussels:20240105T200000
DTEND;TZID=Europe/Brussels:20240105T213000
DTSTAMP:20260424T034314
CREATED:20231103T084134Z
LAST-MODIFIED:20231103T084138Z
UID:10000372-1704484800-1704490200@septem.stghislain.be
SUMMARY:Théâtre | La puce à l'oreille
DESCRIPTION:🎭 Ne manquez pas la comédie dynamique « La puce à l’oreille » le 5 et 6 janvier 2024 à 20h aux Jardins du Cloître de Saint-Ghislain ! 🎭 \nPlongez dans une pièce rocambolesque de Feydeau\, où les scènes animées et les personnages hauts en couleur vous feront passer un moment inoubliable. \n\nMadame soupçonne son mari de la tromper\, après avoir reçu par la poste les bretelles provenant de l’hôtel Le Minet Galant ! Avec l’aide de son amie\, elle décide de lui tendre un piège\, mais les méprises\, les quiproquos et les coups de théâtre viendront compliquer ses plans. \nFeydeau\, grand maître du théâtre\, règle ses scènes au millimètre\, dans un rythme fou mêlant grotesque et finesse. « La puce à l’oreille » est un classique du rire\, idéal pour les fêtes ! \n\nLa mise en scène est assurée par Thierry Piron\, avec la troupe du Nect’ART. La création des lumières et du son est réalisée par Johan\, et le décor est conçu par l’Atelier de La Ruche Théâtre Royal. Une photo d’Eladia Cerrato Sanchez accompagne cette création. \nRéservez vite vos places au prix de 15 à 18€ pour profiter de cette soirée remplie de rires et de rebondissements ! \n#Théâtre #LaPuceÀLOreille #Feydeau #Comédie #Humour #RythmeFou #Méprises #Quiproquos #TroupeDuNectART #JardinsDuCloître #SaintGhislain
URL:https://septem.stghislain.be/agenda/la-puce-a-l-oreille/2024-01-05/
LOCATION:Les Jardins du Cloître\, 37 Grand Place\, Saint-Ghislain\, 7330\, Belgique
CATEGORIES:Saint-Ghislain,Théâtre
ATTACH;FMTTYPE=image/jpeg:https://septem.stghislain.be/wp-content/uploads/2023/11/theatre-puce-a-l-oreille-Septem-Culture_Saint_Ghislain-2023.jpg
ORGANIZER;CN="Septem":MAILTO:info@septem.stghislain.be
END:VEVENT
BEGIN:VEVENT
DTSTART;TZID=Europe/Brussels:20240106T200000
DTEND;TZID=Europe/Brussels:20240106T213000
DTSTAMP:20260424T034314
CREATED:20231103T084134Z
LAST-MODIFIED:20231103T084138Z
UID:10000373-1704571200-1704576600@septem.stghislain.be
SUMMARY:Théâtre | La puce à l'oreille
DESCRIPTION:🎭 Ne manquez pas la comédie dynamique « La puce à l’oreille » le 5 et 6 janvier 2024 à 20h aux Jardins du Cloître de Saint-Ghislain ! 🎭 \nPlongez dans une pièce rocambolesque de Feydeau\, où les scènes animées et les personnages hauts en couleur vous feront passer un moment inoubliable. \n\nMadame soupçonne son mari de la tromper\, après avoir reçu par la poste les bretelles provenant de l’hôtel Le Minet Galant ! Avec l’aide de son amie\, elle décide de lui tendre un piège\, mais les méprises\, les quiproquos et les coups de théâtre viendront compliquer ses plans. \nFeydeau\, grand maître du théâtre\, règle ses scènes au millimètre\, dans un rythme fou mêlant grotesque et finesse. « La puce à l’oreille » est un classique du rire\, idéal pour les fêtes ! \n\nLa mise en scène est assurée par Thierry Piron\, avec la troupe du Nect’ART. La création des lumières et du son est réalisée par Johan\, et le décor est conçu par l’Atelier de La Ruche Théâtre Royal. Une photo d’Eladia Cerrato Sanchez accompagne cette création. \nRéservez vite vos places au prix de 15 à 18€ pour profiter de cette soirée remplie de rires et de rebondissements ! \n#Théâtre #LaPuceÀLOreille #Feydeau #Comédie #Humour #RythmeFou #Méprises #Quiproquos #TroupeDuNectART #JardinsDuCloître #SaintGhislain
URL:https://septem.stghislain.be/agenda/la-puce-a-l-oreille/2024-01-06/
LOCATION:Les Jardins du Cloître\, 37 Grand Place\, Saint-Ghislain\, 7330\, Belgique
CATEGORIES:Saint-Ghislain,Théâtre
ATTACH;FMTTYPE=image/jpeg:https://septem.stghislain.be/wp-content/uploads/2023/11/theatre-puce-a-l-oreille-Septem-Culture_Saint_Ghislain-2023.jpg
ORGANIZER;CN="Septem":MAILTO:info@septem.stghislain.be
END:VEVENT
BEGIN:VEVENT
DTSTART;TZID=Europe/Brussels:20240109T133000
DTEND;TZID=Europe/Brussels:20240109T150000
DTSTAMP:20260424T034314
CREATED:20231103T090627Z
LAST-MODIFIED:20231103T091205Z
UID:10000377-1704807000-1704812400@septem.stghislain.be
SUMMARY:Cinéma | L'innocent | Louis Garrel
DESCRIPTION:Quand Abel apprend que sa mère Sylvie\, la soixantaine\, est sur le point de se marier avec un homme en prison\, il panique. Épaulé par Clémence\, sa meilleure amie\, il va tout faire pour essayer de la protéger. \nMais la rencontre avec Michel\, son nouveau beau-père\, pourrait bien offrir à Abel de nouvelles perspectives…
URL:https://septem.stghislain.be/agenda/l-innocent-louis-garrel/2024-01-09/1/
LOCATION:Les Jardins du Cloître\, 37 Grand Place\, Saint-Ghislain\, 7330\, Belgique
CATEGORIES:Ciné Famille,Cinéma,Films,Saint-Ghislain
ATTACH;FMTTYPE=image/jpeg:https://septem.stghislain.be/wp-content/uploads/2023/11/L-innocent-Louis-Garrel-Septem-Culture_Saint_Ghislain-2023.jpg
ORGANIZER;CN="Septem":MAILTO:info@septem.stghislain.be
END:VEVENT
BEGIN:VEVENT
DTSTART;TZID=Europe/Brussels:20240109T193000
DTEND;TZID=Europe/Brussels:20240109T210000
DTSTAMP:20260424T034314
CREATED:20231103T090627Z
LAST-MODIFIED:20231103T091205Z
UID:10000378-1704828600-1704834000@septem.stghislain.be
SUMMARY:Cinéma | L'innocent | Louis Garrel
DESCRIPTION:Quand Abel apprend que sa mère Sylvie\, la soixantaine\, est sur le point de se marier avec un homme en prison\, il panique. Épaulé par Clémence\, sa meilleure amie\, il va tout faire pour essayer de la protéger. \nMais la rencontre avec Michel\, son nouveau beau-père\, pourrait bien offrir à Abel de nouvelles perspectives…
URL:https://septem.stghislain.be/agenda/l-innocent-louis-garrel/2024-01-09/2/
LOCATION:Les Jardins du Cloître\, 37 Grand Place\, Saint-Ghislain\, 7330\, Belgique
CATEGORIES:Ciné Famille,Cinéma,Films,Saint-Ghislain
ATTACH;FMTTYPE=image/jpeg:https://septem.stghislain.be/wp-content/uploads/2023/11/L-innocent-Louis-Garrel-Septem-Culture_Saint_Ghislain-2023.jpg
ORGANIZER;CN="Septem":MAILTO:info@septem.stghislain.be
END:VEVENT
BEGIN:VEVENT
DTSTART;TZID=Europe/Brussels:20240110T180000
DTEND;TZID=Europe/Brussels:20240121T200000
DTSTAMP:20260424T034314
CREATED:20240108T123214Z
LAST-MODIFIED:20240108T123218Z
UID:10000474-1704909600-1705867200@septem.stghislain.be
SUMMARY:Exposition "Regards photographiques sur Saint-Ghislain" par le Royal Photo-Club Montois
DESCRIPTION:Vernissage le mercredi 10/01/2024 à 18h00Durée de l’exposition du 10/01/2024 au 21/01/2024 \n\nDescriptif :Pendant 4 mois\, les membres du Royal Photo-Club Montois ont parcouru les 7 entités de Saint Ghislain. \nAu fil de leurs promenades\, ils se sont laissés imprégner des lieux rencontrés et par différentes techniques photographiques\, ont capté l’essence artistique de ce « patrimoine » passé\, présent\, futur.
URL:https://septem.stghislain.be/agenda/expo-regards-photographiques-sur-saint-ghislain/
LOCATION:Les Jardins du Cloître\, 37 Grand Place\, Saint-Ghislain\, 7330\, Belgique
CATEGORIES:Expositions,Saint-Ghislain
ATTACH;FMTTYPE=image/jpeg:https://septem.stghislain.be/wp-content/uploads/2024/01/exposition-Regards-photographiques-sur-Saint-Ghislain-Septem-Culture_Saint_Ghislain-2024.jpg
ORGANIZER;CN="Septem":MAILTO:info@septem.stghislain.be
END:VEVENT
BEGIN:VEVENT
DTSTART;TZID=Europe/Brussels:20240111T200000
DTEND;TZID=Europe/Brussels:20240111T213000
DTSTAMP:20260424T034314
CREATED:20230420T091252Z
LAST-MODIFIED:20231103T091928Z
UID:10000149-1705003200-1705008600@septem.stghislain.be
SUMMARY:Humour | Nikoz
DESCRIPTION:🎭 Ne manquez pas le spectacle humoristique de Nikoz le 11 janvier 2024 à 20h aux Jardins du Cloître de Saint-Ghislain ! 🎭 \nNikoz\, jeune humoriste de 23 ans\, réalise son rêve de faire rire. Depuis 4 ans\, il se lance sur scène\, commençant par une scène au What the Fun à Bruxelles. Il a également fait ses preuves en tant que chroniqueur hebdomadaire sur différentes radios. Après Fun Radio et Radio Contact\, il a rejoint l’équipe du Good Morning pendant 2 ans. Depuis septembre\, on peut le retrouver tous les lundis matins sur la matinale de Tipik. \nSur scène\, Nikoz aborde des sujets sans tabou et partage des anecdotes de sa vie\, parfois embarrassantes\, parfois touchantes. Avec autodérision\, il nous prouve qu’il n’y a qu’un pas entre un looser magnifique et un stand-upper prétentieux. \nPour un retour plein d’humour à Septem\, venez passer une soirée détendue en compagnie de Nikoz. Les places sont disponibles au prix de 12 à 15€. \n#SpectacleHumoristique #Nikoz #StandUp #Humour #AnecdotesDeVie #Autodérision #SoiréeDétente #JardinsDuCloître #SaintGhislain
URL:https://septem.stghislain.be/agenda/humour-nikoz/
LOCATION:Les Jardins du Cloître\, 37 Grand Place\, Saint-Ghislain\, 7330\, Belgique
CATEGORIES:Arts de la scène,Saint-Ghislain,Spectacle
ATTACH;FMTTYPE=image/jpeg:https://septem.stghislain.be/wp-content/uploads/2023/04/humour-nikoz-septem-culture_Saint_Ghislain-2023.jpg
ORGANIZER;CN="Septem":MAILTO:info@septem.stghislain.be
END:VEVENT
BEGIN:VEVENT
DTSTART;TZID=Europe/Brussels:20240120T170000
DTEND;TZID=Europe/Brussels:20240120T180000
DTSTAMP:20260424T034314
CREATED:20231103T100839Z
LAST-MODIFIED:20231108T131742Z
UID:10000380-1705770000-1705773600@septem.stghislain.be
SUMMARY:Théâtre | Spectacle | Mon jardin | à partir de 6 ans
DESCRIPTION:​🌸 Ne manquez pas le spectacle « Mon Jardin » le 20 janvier 2024 à 17h aux Jardins du Cloître de Saint-Ghislain ! 🌸 \n« Dans mon Jardin » est une pièce de théâtre lyrique et graphique qui vous invite à un voyage sensoriel et onirique. Baigné par les magnifiques Lieder de Franz Schubert\, ce spectacle captivera le jeune public à partir de 6 ans\, ainsi que les familles. \nDans un coin du salon\, entre le radiateur et le canapé\, une petite fille s’est installée. Au cours d’un long dimanche pluvieux\, elle s’ennuie\, tâtonne et se questionne. Entourée de ses compagnons de jeux imaginaires\, elle traverse ses émotions\, découvre de nouveaux états et de nouvelles facettes de ce qui la compose et la colore… un jardin intérieur secret\, riche et bigarré\, et plutôt joli ! \n« Mon Jardin » est un spectacle enchanteur qui transporte petits et grands dans un univers poétique et musical. Les Lieder de Franz Schubert servent de fil rouge à cette histoire captivante. \nRéservez vos places dès maintenant pour profiter de ce voyage artistique unique ! Les billets sont disponibles au prix de 15 à 18€. \n\nL’ÉQUIPE :Avec Franz Schubert (composition musicale)\, Sandra Nazé (jeux et chant)\, Delphine Veggiotti (mise en scène)\, Laurence Drevard (scénographie\, vidéo\, éclairages )\, Ophélie De Cicco (scénographie\, conception graphique)\, Daniel Charneux (écriture)\, Misa Kakumoto (piano)\, Gilles Abel (regard extérieur et conseils pédagogiques)\, Marc Doutrepont (enregistrements et montage sonore) et Samuel Dronet (costume). \nAvec le soutien de la Fédération Wallonie Bruxelles-CTEJ\, de la Province du Hainaut\, de la Fabrique de Théâtre-SPAS\, de la Maison qui chante\, de la Maison Cuturelle de Quaregnon\, du Foyer Culturel de Saint-Ghislain et du Centre Culturel René Magritte. \n\n#SpectacleJeunePublic #DansMonJardin #ThéâtreLyrique #Graphique #VoyageSensoriel #Onirique #FranzSchubert #Émotions #UniversPoétique #Musique #JardinsDuCloître #SaintGhislain
URL:https://septem.stghislain.be/agenda/dans-mon-jardin/
LOCATION:Les Jardins du Cloître\, 37 Grand Place\, Saint-Ghislain\, 7330\, Belgique
CATEGORIES:Jeune public,Saint-Ghislain,Spectacle,Théâtre
ATTACH;FMTTYPE=image/jpeg:https://septem.stghislain.be/wp-content/uploads/2023/11/theatre-dans-mon-jardin-Septem-Culture_Saint_Ghislain-2023.jpg
ORGANIZER;CN="Septem":MAILTO:info@septem.stghislain.be
END:VEVENT
BEGIN:VEVENT
DTSTART;TZID=Europe/Brussels:20240122T193000
DTEND;TZID=Europe/Brussels:20240122T210000
DTSTAMP:20260424T034314
CREATED:20230914T145326Z
LAST-MODIFIED:20240112T095054Z
UID:10000446-1705951800-1705957200@septem.stghislain.be
SUMMARY:Cinéma | Jeanne du Barry
DESCRIPTION:Jeanne Vaubernier\, fille du peuple avide de s’élever socialement\, met à profit ses charmes pour sortir de sa condition. \nSon amant le comte Du Barry\, qui s’enrichit largement grâce aux galanteries lucratives de Jeanne\, souhaite la présenter au Roi. \nIl organise la rencontre via l’entremise de l’influent duc de Richelieu. Celle-ci dépasse ses attentes : entre Louis XV et Jeanne\, c’est le coup de foudre… \nAvec la courtisane\, le Roi retrouve le goût de vivre – à tel point qu’il ne peut plus se passer d’elle et décide d’en faire sa favorite officielle. Scandale : personne ne veut d’une fille des rues à la Cour.
URL:https://septem.stghislain.be/agenda/jeanne-du-barry/
LOCATION:Les Jardins du Cloître\, 37 Grand Place\, Saint-Ghislain\, 7330\, Belgique
CATEGORIES:Ciné Famille,Cinéma,Films,Projections,Saint-Ghislain
ATTACH;FMTTYPE=image/jpeg:https://septem.stghislain.be/wp-content/uploads/2023/09/jeanne-du-barry-Culture_Saint_Ghislain-2023.jpg
ORGANIZER;CN="Septem":MAILTO:info@septem.stghislain.be
END:VEVENT
BEGIN:VEVENT
DTSTART;TZID=Europe/Brussels:20240124T200000
DTEND;TZID=Europe/Brussels:20240124T213000
DTSTAMP:20260424T034314
CREATED:20231027T065755Z
LAST-MODIFIED:20231116T151723Z
UID:10000367-1706126400-1706131800@septem.stghislain.be
SUMMARY:Danse | Casse Noisette
DESCRIPTION:C’est l’un des ballets les plus célèbres du monde de la danse et l’un des plus accessibles. On ne compte plus les adaptations qui en ont été faites ni le nombre de complexes commerciaux qui en utilise la musique pour envahir les oreilles des consommateurs en période des fêtes d’hiver. De plus\, c’est une histoire universelle dans laquelle chacun et chacune se retrouve. \nLaurent Drousie en propose une nouvelle version\, plus actuelle et moderne qui n’omet pas les fondements de ce rite de passage – une jeune fille devenant une femme qui rencontre son premier amour – mais qui lui offre une autre interprétation. \nSYNOPSISC’est dans le cadre festif de la célébration des 18 ans de Clara que s’ouvre ce ballet\, entourée de sa famille. Tous fêtent le passage à l’âge adulte de la jeune femme. Plus tard dans la soirée\, Clara part rejoindre ses amis pour continuer la fête. Sur le chemin\, elle tombe nez à nez avec un attroupement de créatures\, tout droit sorti d’un film d’horreur. Il sème la peur et menace les passants. « Casse-noisette » entre alors en scène pour l’aider à faire face à ces intimidations. Clara est traversée d’émotions nouvelles lors de cette intervention. Après cette rencontre\, c’est la découverte des sensations du premier amour. Le couple concrétise leur amour en dansant les premiers pas d’une belle romance. Pour remettre cette œuvre au goût du jour\, l’atmosphère de cette version vous emmènera dans un monde envoutant\, magique et féérique tout en gardant l’ambiance musicale de Tchaïkovski indispensable à ce ballet. La légèreté de la musique contrastera avec le climat particulier des diverses rencontres et du mélange de cultures. \nCasse-Noisette est un ballet qui se veut accessible aux plus jeunes et qui touchera les adultes par la fraicheur de l’adaptation de ce conte intemporel. \n\nWeb: http://europadansecompany.be/Instagram: https://www.instagram.com/europadansecompany/Facebook: https://www.facebook.com/europadansecompany 
URL:https://septem.stghislain.be/agenda/casse-noisette/
LOCATION:Les Jardins du Cloître\, 37 Grand Place\, Saint-Ghislain\, 7330\, Belgique
CATEGORIES:Arts de la scène,Danse,Saint-Ghislain,Spectacle
ATTACH;FMTTYPE=image/jpeg:https://septem.stghislain.be/wp-content/uploads/2023/10/danse-casse-noisette-Septem-Culture_Saint_Ghislain-2023.jpg
ORGANIZER;CN="Septem":MAILTO:info@septem.stghislain.be
END:VEVENT
BEGIN:VEVENT
DTSTART;TZID=Europe/Brussels:20240125T200000
DTEND;TZID=Europe/Brussels:20240125T213000
DTSTAMP:20260424T034314
CREATED:20231103T105319Z
LAST-MODIFIED:20231103T105413Z
UID:10000382-1706212800-1706218200@septem.stghislain.be
SUMMARY:Concert | Lorenzo di Maio / Ruby
DESCRIPTION:🎵 Ne manquez pas le concert de « Lorenzo di Maio // Ruby » le 25 janvier à 20h aux Jardins du Cloître ! 🎵 \nAvec son nouvel album « RUBY »\, Lorenzo Di Maio continue d’explorer de nouveaux horizons musicaux\, offrant une expérience éclectique et contrastée. Tout en conservant un amour pour les compositions mélodiques\, il s’amuse à mélanger les genres avec son nouveau quartet polymorphe. \nLe groupe est composé de Lorenzo Di Maio à la guitare\, Wajdi Riahi au piano et Fender Rhodes\, Cédric Raymond au Moog et Prophet\, et Pierre Hurty à la batterie. Ensemble\, ils créent un patchwork assumé des influences variées du guitariste\, vous offrant une musique où les mélodies délicates alternent avec des traits virtuoses\, où le naturel se mêle au sophistiqué\, où la sérénité rencontre une énergie viscérale et organique. La musique de RUBY est à la fois imagée et explosive ! \nRéservez dès maintenant vos places pour profiter de ce concert exceptionnel où talent et créativité se rencontrent sur scène. Les billets sont disponibles au prix de 15 à 12€. \nLine-up : Lorenzo Di Maio : Guitare / compositions Wajdi Riahi : Piano / Rhodes Cédric Raymond : Moog / Prophet Pierre Hurty : Batterie \n#Concert #LorenzoDiMaio #Ruby #MusiqueÉclectique #CompositionsMélodiques #Virtuosité #Énergie #JardinsDuCloître
URL:https://septem.stghislain.be/agenda/lorenzo-di-maio-ruby/
LOCATION:Les Jardins du Cloître\, 37 Grand Place\, Saint-Ghislain\, 7330\, Belgique
CATEGORIES:Concerts,Musique,Saint-Ghislain
ATTACH;FMTTYPE=image/jpeg:https://septem.stghislain.be/wp-content/uploads/2023/11/Ruby-Septem-Culture_Saint_Ghislain-2023-2.jpg
ORGANIZER;CN="Septem":MAILTO:info@septem.stghislain.be
END:VEVENT
BEGIN:VEVENT
DTSTART;TZID=Europe/Brussels:20240126T200000
DTEND;TZID=Europe/Brussels:20240126T205500
DTSTAMP:20260424T034314
CREATED:20231106T072608Z
LAST-MODIFIED:20231106T072611Z
UID:10000384-1706299200-1706302500@septem.stghislain.be
SUMMARY:Spectacle | Danse | Les autres | à partir de 6 ans
DESCRIPTION:🩰 Ne manquez pas le spectacle de danse « Les Autres » qui aura lieu les 26 et 27 janvier à 20h aux Jardins du Cloître de Saint-Ghislain ! 🩰 \nUne pièce chorégraphique jeune public/tout public créée par Anton Lachky\, « Les Autres » transporte les spectateurs dans un monde étrange où quatre personnages se retrouvent isolés. Coincés dans un enfer de plastique\, dépourvu de toute présence vivante et entourés d’écrans infranchissables\, ils se questionnent sur leur existence morne et sans nuance. \n\nCes habitants parviendront-ils à s’émanciper de cette existence morne et sans nuance ? Le souhaitent-ils ?Pour conjurer le sort\, déjouer l’ennui\, tous les jours\, ils dansent. Avec précision\, avec ferveur\, avec passion…De rencontres fortuites en quêtes obstinées\, les quatre amis finiront peut-être par commettre cet acte crucial\,rebelle entre tous : s’émerveiller du vivant. \n\nPrix: de 15 à 18€ \nRéservez dès maintenant vos places pour cette performance artistique touchante et laissez-vous transporter par la puissance de la danse. \n\nChorégraphie Anton LachkyDanseurs Evelyne de Weert\, Dunya Narli\, Nino Patuano\, Lewis Cooke.Texte : Eléonore Valère-LachkyVoix FR Eléonore Valère-Lachky. Voix EN : Tarek Halaby. Voix NL : Kim CeysensLumière Rémy UrbainSon : Jérémy MichelProduction : Anton Lachky CompanyCoproduction : Mars/Mons arts de la scène\, Charleroi danse/Centre Chorégraphique de la fédérationWallonie-Bruxelles\, Centre culturel de Verviers\, Pierre de Lune Centre Scénique Jeunes Publics deBruxelles\, Le Centre Culturel du Brabant Wallon.Avec le soutien de La loterie National/FWB\, et la Fédération Wallonie BruxellesAccueil studio : Le Marni\, Le centre Culturel Jacques Franck\, La Roseraie\, le CCBW\, La Balsamine\,Charleroi Danse. \n\n#SpectacleDeDanse #LesAutres #AntonLachky #JeunePublic #ToutPublic #Émancipation #RechercheDuSens #JardinsDuCloître #SaintGhislain
URL:https://septem.stghislain.be/agenda/danse-les-autres/2024-01-26/
LOCATION:Les Jardins du Cloître\, 37 Grand Place\, Saint-Ghislain\, 7330\, Belgique
CATEGORIES:Danse,Jeune public,Saint-Ghislain,Spectacle,Théâtre
ATTACH;FMTTYPE=image/jpeg:https://septem.stghislain.be/wp-content/uploads/2023/11/les-autres-danse-Septem-Culture_Saint_Ghislain-2023.jpg
ORGANIZER;CN="Septem":MAILTO:info@septem.stghislain.be
END:VEVENT
BEGIN:VEVENT
DTSTART;TZID=Europe/Brussels:20240127T200000
DTEND;TZID=Europe/Brussels:20240127T205500
DTSTAMP:20260424T034314
CREATED:20231106T072608Z
LAST-MODIFIED:20231106T072611Z
UID:10000385-1706385600-1706388900@septem.stghislain.be
SUMMARY:Spectacle | Danse | Les autres | à partir de 6 ans
DESCRIPTION:🩰 Ne manquez pas le spectacle de danse « Les Autres » qui aura lieu les 26 et 27 janvier à 20h aux Jardins du Cloître de Saint-Ghislain ! 🩰 \nUne pièce chorégraphique jeune public/tout public créée par Anton Lachky\, « Les Autres » transporte les spectateurs dans un monde étrange où quatre personnages se retrouvent isolés. Coincés dans un enfer de plastique\, dépourvu de toute présence vivante et entourés d’écrans infranchissables\, ils se questionnent sur leur existence morne et sans nuance. \n\nCes habitants parviendront-ils à s’émanciper de cette existence morne et sans nuance ? Le souhaitent-ils ?Pour conjurer le sort\, déjouer l’ennui\, tous les jours\, ils dansent. Avec précision\, avec ferveur\, avec passion…De rencontres fortuites en quêtes obstinées\, les quatre amis finiront peut-être par commettre cet acte crucial\,rebelle entre tous : s’émerveiller du vivant. \n\nPrix: de 15 à 18€ \nRéservez dès maintenant vos places pour cette performance artistique touchante et laissez-vous transporter par la puissance de la danse. \n\nChorégraphie Anton LachkyDanseurs Evelyne de Weert\, Dunya Narli\, Nino Patuano\, Lewis Cooke.Texte : Eléonore Valère-LachkyVoix FR Eléonore Valère-Lachky. Voix EN : Tarek Halaby. Voix NL : Kim CeysensLumière Rémy UrbainSon : Jérémy MichelProduction : Anton Lachky CompanyCoproduction : Mars/Mons arts de la scène\, Charleroi danse/Centre Chorégraphique de la fédérationWallonie-Bruxelles\, Centre culturel de Verviers\, Pierre de Lune Centre Scénique Jeunes Publics deBruxelles\, Le Centre Culturel du Brabant Wallon.Avec le soutien de La loterie National/FWB\, et la Fédération Wallonie BruxellesAccueil studio : Le Marni\, Le centre Culturel Jacques Franck\, La Roseraie\, le CCBW\, La Balsamine\,Charleroi Danse. \n\n#SpectacleDeDanse #LesAutres #AntonLachky #JeunePublic #ToutPublic #Émancipation #RechercheDuSens #JardinsDuCloître #SaintGhislain
URL:https://septem.stghislain.be/agenda/danse-les-autres/2024-01-27/
LOCATION:Les Jardins du Cloître\, 37 Grand Place\, Saint-Ghislain\, 7330\, Belgique
CATEGORIES:Danse,Jeune public,Saint-Ghislain,Spectacle,Théâtre
ATTACH;FMTTYPE=image/jpeg:https://septem.stghislain.be/wp-content/uploads/2023/11/les-autres-danse-Septem-Culture_Saint_Ghislain-2023.jpg
ORGANIZER;CN="Septem":MAILTO:info@septem.stghislain.be
END:VEVENT
BEGIN:VEVENT
DTSTART;TZID=Europe/Brussels:20240128T150000
DTEND;TZID=Europe/Brussels:20240128T160000
DTSTAMP:20260424T034314
CREATED:20240105T083850Z
LAST-MODIFIED:20240112T094716Z
UID:10000466-1706454000-1706457600@septem.stghislain.be
SUMMARY:Spectacle | Le Petit Chaperon Rouge | à partir de 3 ans
DESCRIPTION:🐺👧🏻**Spectacle Le Petit Chaperon Rouge – Un voyage enchanté pour les enfants !**🌹🥐 \nNous sommes ravis de vous annoncer le spectacle tant attendu du Petit Chaperon Rouge\, qui se tiendra le 28 janvier à 15h aux Jardins du Cloître de Saint-Ghislain. Plongez dans l’univers magique de ce célèbre conte revisité dans une version drôle et rythmée\, spécialement adaptée pour les enfants. \nAu programme\, un mélange envoûtant de danse\, de chants\, de mime\, d’interaction\, d’humour\, de théâtre et de magie\, pour faire vivre aux petits spectateurs l’histoire qu’ils adorent : \nDans son joli panier\, le Petit Chaperon Rouge transporte des galettes et un petit pot de beurre. Elle doit les apporter à sa grand-mère qui vit dans le village voisin. Le sentier magique de la forêt est le chemin le plus court… mais attention au loup ! \nVous serez émerveillés par l’énergie et le talent des artistes Marie Recours-Bellessort et V.O Solenne Delannoy\, qui donneront vie à un Petit Chaperon Rouge épatant\, à un loup pétillant et à une grand-mère hilarante. Préparez-vous à être surpris par les nombreux rebondissements et les surprises qui se cachent dans ce panier bien mystérieux ! \nCe spectacle est adapté pour les enfants à partir de 3 ans. Une version captivante des Frères Grimm qui garantit un moment de pur enchantement pour toute la famille. \nNe manquez pas cette occasion unique de vivre une expérience artistique inoubliable avec vos enfants ! \nRéservez dès maintenant vos places pour le spectacle du Petit Chaperon Rouge. Les prix varient de 21 à 15 €. \n#LePetitChaperonRouge #SpectacleEnfant #ConteMagique #ArtistesTalentueux #Famille #Magie #RythmeEtHumour
URL:https://septem.stghislain.be/agenda/le-petit-chaperon-rouge/
LOCATION:Les Jardins du Cloître\, 37 Grand Place\, Saint-Ghislain\, 7330\, Belgique
CATEGORIES:En famille,Jeune public,Saint-Ghislain,Spectacle,Théâtre
ATTACH;FMTTYPE=image/jpeg:https://septem.stghislain.be/wp-content/uploads/2024/01/le-petit-chaperon-rouge-Septem-Culture_Saint_Ghislain-2024.jpg
ORGANIZER;CN="Septem":MAILTO:info@septem.stghislain.be
END:VEVENT
BEGIN:VEVENT
DTSTART;TZID=Europe/Brussels:20240129T190000
DTEND;TZID=Europe/Brussels:20240129T210000
DTSTAMP:20260424T034314
CREATED:20230823T182013Z
LAST-MODIFIED:20230823T183532Z
UID:10000292-1706554800-1706562000@septem.stghislain.be
SUMMARY:Conférence | Exploration du monde | Tokyo
DESCRIPTION:Le Japon fascine et intrigue le monde. Pour tenter de cerner l’âme japonaise\, nous plongerons dans la plus impressionnante mégalopole du monde: Tokyo. \nEnsuite\, pour restituer les contrastes qui animent ce pays des extrêmes\, nous ouvrirons des yeux émerveillés sur l’autre Japon\, celui des campagnes. \nUn étonnant mariage entre modernité et traditions.
URL:https://septem.stghislain.be/agenda/exploration-du-monde-tokyo/
LOCATION:Les Jardins du Cloître\, 37 Grand Place\, Saint-Ghislain\, 7330\, Belgique
CATEGORIES:Conférences,Saint-Ghislain
ATTACH;FMTTYPE=image/jpeg:https://septem.stghislain.be/wp-content/uploads/2023/08/conference_exploration_du_monde_tokyo-Septem-Culture_Saint_Ghislain-2023.jpg
ORGANIZER;CN="Septem":MAILTO:info@septem.stghislain.be
END:VEVENT
END:VCALENDAR