BEGIN:VCALENDAR
VERSION:2.0
PRODID:-//Septem - ECPv6.0.13.1//NONSGML v1.0//EN
CALSCALE:GREGORIAN
METHOD:PUBLISH
X-ORIGINAL-URL:https://septem.stghislain.be
X-WR-CALDESC:évènements pour Septem
REFRESH-INTERVAL;VALUE=DURATION:PT1H
X-Robots-Tag:noindex
X-PUBLISHED-TTL:PT1H
BEGIN:VTIMEZONE
TZID:Europe/Brussels
BEGIN:DAYLIGHT
TZOFFSETFROM:+0100
TZOFFSETTO:+0200
TZNAME:CEST
DTSTART:20230326T010000
END:DAYLIGHT
BEGIN:STANDARD
TZOFFSETFROM:+0200
TZOFFSETTO:+0100
TZNAME:CET
DTSTART:20231029T010000
END:STANDARD
END:VTIMEZONE
BEGIN:VEVENT
DTSTART;TZID=Europe/Brussels:20231126T110000
DTEND;TZID=Europe/Brussels:20231210T170000
DTSTAMP:20260424T050222
CREATED:20231004T103237Z
LAST-MODIFIED:20231004T105053Z
UID:10000354-1700996400-1702227600@septem.stghislain.be
SUMMARY:Exposition | Nathalie Vilain « Un regard\, une photo » | Gratuit
DESCRIPTION:Nathalie Vilain est originaire de la région. Née à Hornu\, elle vit à Boussu et travaille à Saint-Ghislain.Son parcours fut varié car après des études artistiques\, elle a travaillé dans la vente pour ensuite finir comme employée d’administration. A mille lieues du monde artistique donc…Mais cet attrait pour l’art ne l’a jamais quittée et elle a développé un intérêt particulier pour la photographie il y a quelques années.Exclusivement autodidacte à ses débuts\, Nathalie a ensuite rejoint le club photo « Espace image Création »\, situé à Boussu\, afin de partager cette passion.Se présentant plutôt comme photographe paysagiste\, elle pratique aussi occasionnellement le portrait\, la macro et l’animalier.Une grande partie de son temps libre est dédié à la photo\, que ce soit dans la région ou en vacances à l’étranger\, toute balade est synonyme de photos.Nathalie participe régulièrement à des expositions ainsi qu’à des concours régionaux et nationaux où elle a d’ailleurs déjà été primée à plusieurs reprises \nVernissage: le 26/11 à 11h \nDécouvrez son travail photographique sur le web et les réseaux sociaux :https://www.facebook.com/nathalievilainVnathhttps://500px.com/nathalievilainInstagram : vnathphotography
URL:https://septem.stghislain.be/agenda/nathalie-vilain-exposition/
LOCATION:Les Jardins du Cloître\, 37 Grand Place\, Saint-Ghislain\, 7330\, Belgique
CATEGORIES:Arts Visuels,Expositions,Saint-Ghislain
ATTACH;FMTTYPE=image/jpeg:https://septem.stghislain.be/wp-content/uploads/2023/10/exposition-nathalie-vilain-Septem-Culture_Saint_Ghislain-2023.jpg
ORGANIZER;CN="Septem":MAILTO:info@septem.stghislain.be
END:VEVENT
BEGIN:VEVENT
DTSTART;TZID=Europe/Brussels:20231209T140000
DTEND;TZID=Europe/Brussels:20231209T160000
DTSTAMP:20260424T050222
CREATED:20230928T113400Z
LAST-MODIFIED:20231108T113313Z
UID:10000353-1702130400-1702137600@septem.stghislain.be
SUMMARY:Humour | Un kdo pour nos djones | GRATUIT en échange d'un Kdo
DESCRIPTION:Nous sommes le groupe Sales Djônes et nous avons à coeur au travers de nos chansons\, vidéos\, reportages\, qui sont humoristiques… de mettre en avant notre région et notre pays. Nous sommes sensibles à ce qui se passe autours de nous. \nNous avons décidé d’organiser un événement qui aura pour but de récolter des jouets neufs au profit des hôpitaux pour enfants\, orphelinats… de la région. Et pour nous aider dans cette tâche\, nous avons invité des amis à nous rejoindre sur scène pour une journée de concerts incroyables!\nSales Djônes\, Destïny\, TimeLine\, La Grange Belgium\, The Fortune Tellers\, Sempaï & Mass Faïda et quelques surprises\, voici ceux qui auront à coeur de se donner sur scène pour les enfants les plus démunis. \nDonc pas d’entrée « monnaie » à payer mais bien un jouet/jeu neuf à apporter pour avoir le droit d’assister à l’évènement\, toute la journée.\nUn Kdo pour nos Djônes\, voici certainement le titre de cet évènement qui nous l’espérons se fera chaque année. \nNous n’inventons rien\, nous remettons au goût du jour une action qui nous tient à coeur.
URL:https://septem.stghislain.be/agenda/un-kdo-pour-nos-djones/
LOCATION:Les Jardins du Cloître\, 37 Grand Place\, Saint-Ghislain\, 7330\, Belgique
CATEGORIES:Saint-Ghislain,Spectacle,Théâtre
ATTACH;FMTTYPE=image/jpeg:https://septem.stghislain.be/wp-content/uploads/2023/09/Un-kdo-pour-nos-djones-Septem-Culture_Saint_Ghislain-2023.jpg
ORGANIZER;CN="Septem":MAILTO:info@septem.stghislain.be
END:VEVENT
BEGIN:VEVENT
DTSTART;TZID=Europe/Brussels:20231210T100000
DTEND;TZID=Europe/Brussels:20231210T110000
DTSTAMP:20260424T050222
CREATED:20231010T063548Z
LAST-MODIFIED:20231116T152932Z
UID:10000363-1702202400-1702206000@septem.stghislain.be
SUMMARY:Ciné Famille | Grosse Colère & fantaisies
DESCRIPTION:Résumé du film:\nFuir l’ ennui \, dépasser sa colère \, affronter le deuil\, lutter contre ses peurs \, accepter ce qui est …. Revoilà la Chouette du cinéma dans 5 récits drôles \, tendres et édifiants pour aider les enfants à vivre leurs émotions fortes grâce à leur imaginaire . Un merveilleux film d’ animation pour enfants \, que ne dédaignent pas les parents car … ils sont aussi un peu concernés !!
URL:https://septem.stghislain.be/agenda/grosse-coleres-et-fantaisies/
LOCATION:Les Jardins du Cloître\, 37 Grand Place\, Saint-Ghislain\, 7330\, Belgique
CATEGORIES:Cinéma,En famille,Films,Jeune public,Saint-Ghislain
ATTACH;FMTTYPE=image/jpeg:https://septem.stghislain.be/wp-content/uploads/2023/10/grosse-colere-et-fantaisies-Septem-Culture_Saint_Ghislain-2023-1.jpg
ORGANIZER;CN="Septem":MAILTO:info@septem.stghislain.be
END:VEVENT
BEGIN:VEVENT
DTSTART;TZID=Europe/Brussels:20231210T100000
DTEND;TZID=Europe/Brussels:20231210T120000
DTSTAMP:20260424T050222
CREATED:20231108T104528Z
LAST-MODIFIED:20231116T153005Z
UID:10000404-1702202400-1702209600@septem.stghislain.be
SUMMARY:Ciné Famille | Grosse Colère & fantaisies | Atelier sur la gestion des émotions
DESCRIPTION:Résumé du film:\nFuir l’ ennui \, dépasser sa colère \, affronter le deuil\, lutter contre ses peurs \, accepter ce qui est …. Revoilà la Chouette du cinéma dans 5 récits drôles \, tendres et édifiants pour aider les enfants à vivre leurs émotions fortes grâce à leur imaginaire . Un merveilleux film d’ animation pour enfants \, que ne dédaignent pas les parents car … ils sont aussi un peu concernés !! \nAprès le film\, gratuit et non obligatoire\, un atelier sur la gestion des émotions de 11 à 12h.\nNous avons besoin de 6 enfants de 3 à 6 ans accompagnés par leurs parents.\nL’atelier est gratuit mais la réservation est obligatoire. \n\nObjectifs: \nCréer un espace d’échanges entre les parents et leurs enfants sur la gestion des émotions auxquelles ils sont confrontés; \nPermettre aux enfants d’exprimer leurs ressentis après les cinq courts métrages; \nAider les enfants à vivre avec leurs émotions.
URL:https://septem.stghislain.be/agenda/cine-famille-grosse-colatelier-sur-la-gestion-des-emotions/
LOCATION:Les Jardins du Cloître\, 37 Grand Place\, Saint-Ghislain\, 7330\, Belgique
CATEGORIES:Cinéma,En famille,Films,Jeune public,Saint-Ghislain
ATTACH;FMTTYPE=image/jpeg:https://septem.stghislain.be/wp-content/uploads/2023/10/grosse-colere-et-fantaisies-Septem-Culture_Saint_Ghislain-2023-1.jpg
ORGANIZER;CN="Septem":MAILTO:info@septem.stghislain.be
END:VEVENT
BEGIN:VEVENT
DTSTART;TZID=Europe/Brussels:20231210T163000
DTEND;TZID=Europe/Brussels:20231210T180000
DTSTAMP:20260424T050222
CREATED:20230928T111551Z
LAST-MODIFIED:20231012T140031Z
UID:10000352-1702225800-1702231200@septem.stghislain.be
SUMMARY:Concert | Noël Pologne
DESCRIPTION:​Au cours de cet évènement\, nous serons un moment dans une atmosphère incomparable pour célébrer la Nativité\, puis nous voyagerons dans les traditions musicales populaires de Noël avec un florilège de mélodies. \n\n\nConcert Spotkanie  \n\n\nEnsemble Chants et Danses Jasna Woda Comment end  
URL:https://septem.stghislain.be/agenda/noel-pologne/
LOCATION:Les Jardins du Cloître\, 37 Grand Place\, Saint-Ghislain\, 7330\, Belgique
CATEGORIES:Concerts,Saint-Ghislain,Spectacle
ATTACH;FMTTYPE=image/jpeg:https://septem.stghislain.be/wp-content/uploads/2023/09/concert-noel-pologne-Septem-Culture_Saint_Ghislain-2023.jpg
ORGANIZER;CN="Septem":MAILTO:info@septem.stghislain.be
END:VEVENT
BEGIN:VEVENT
DTSTART;TZID=Europe/Brussels:20231211T143000
DTEND;TZID=Europe/Brussels:20231211T163000
DTSTAMP:20260424T050222
CREATED:20231117T100104Z
LAST-MODIFIED:20231117T100108Z
UID:10000424-1702305000-1702312200@septem.stghislain.be
SUMMARY:Spectacle | Les Scafôteux de la compagnie ScèneZenvies
DESCRIPTION:Association des Seniors – Saint-Ghislain a.s.b.l \nSpectacle de fin d’année\nLes Scafôteux de la Compagnie ScèneZenvies vous présente :\n1ère partie: \nLes Scafoteux de la Compagnie ScèneZenvieS vous proposent de réveiller le patois borain\, endormi depuis trop longtemps. Cette première partie\, en hommage aux auteurs d’antan\, agitera vos zygomatiques entre saynètes et chants. Le tout porté dans l’âme et l’esprit borains.\n2ème partie: \n« Les canchons de nou corons »\, répertoire de chansons de notre patrimoine qui vous fera voyager au cœur même du Borinage\, dans nos corons\, nos rues et nos maisons… Interprétation de Arnaud Lévêque\, accompagné à l’accordéon par Cindy Basso-Valentina. \nP.A.F. : 12€ pour les non membres de l’ASSG à payer pour le jeudi 30 novembre sur le compte de l’ASSG IBAN BE24 3700 1085 9138 avec la communication « spec – nom »\nRenseignements : 065 64 28 84 / 0479 40 68 63
URL:https://septem.stghislain.be/agenda/les-scafoteux/
LOCATION:Les Jardins du Cloître\, 37 Grand Place\, Saint-Ghislain\, 7330\, Belgique
CATEGORIES:Saint-Ghislain,Spectacle
ATTACH;FMTTYPE=image/jpeg:https://septem.stghislain.be/wp-content/uploads/2023/11/spectacle-les-Scafoteux-compagnie-SceneZenvies-Septem-Culture_Saint_Ghislain-2023.jpg
ORGANIZER;CN="Septem":MAILTO:info@septem.stghislain.be
END:VEVENT
BEGIN:VEVENT
DTSTART;TZID=Europe/Brussels:20231212T133000
DTEND;TZID=Europe/Brussels:20231212T150000
DTSTAMP:20260424T050222
CREATED:20230822T163421Z
LAST-MODIFIED:20231010T215839Z
UID:10000283-1702387800-1702393200@septem.stghislain.be
SUMMARY:Cinema | Mon crime
DESCRIPTION:En adaptant la pièce
URL:https://septem.stghislain.be/agenda/cinema-mon-crime/2023-12-12/1/
LOCATION:Les Jardins du Cloître\, 37 Grand Place\, Saint-Ghislain\, 7330\, Belgique
CATEGORIES:Ciné Famille,Cinéma,Films,Projections,Saint-Ghislain
ATTACH;FMTTYPE=image/jpeg:https://septem.stghislain.be/wp-content/uploads/2023/08/cinema_mon_crime-Septem-Culture_Saint_Ghislain-2023.jpg
ORGANIZER;CN="Septem":MAILTO:info@septem.stghislain.be
END:VEVENT
BEGIN:VEVENT
DTSTART;TZID=Europe/Brussels:20231212T193000
DTEND;TZID=Europe/Brussels:20231212T210000
DTSTAMP:20260424T050222
CREATED:20230822T163421Z
LAST-MODIFIED:20231010T215839Z
UID:10000284-1702409400-1702414800@septem.stghislain.be
SUMMARY:Cinema | Mon crime
DESCRIPTION:En adaptant la pièce
URL:https://septem.stghislain.be/agenda/cinema-mon-crime/2023-12-12/2/
LOCATION:Les Jardins du Cloître\, 37 Grand Place\, Saint-Ghislain\, 7330\, Belgique
CATEGORIES:Ciné Famille,Cinéma,Films,Projections,Saint-Ghislain
ATTACH;FMTTYPE=image/jpeg:https://septem.stghislain.be/wp-content/uploads/2023/08/cinema_mon_crime-Septem-Culture_Saint_Ghislain-2023.jpg
ORGANIZER;CN="Septem":MAILTO:info@septem.stghislain.be
END:VEVENT
BEGIN:VEVENT
DTSTART;TZID=Europe/Brussels:20231217T160000
DTEND;TZID=Europe/Brussels:20231217T173000
DTSTAMP:20260424T050222
CREATED:20230822T164043Z
LAST-MODIFIED:20230822T164043Z
UID:10000285-1702828800-1702834200@septem.stghislain.be
SUMMARY:Ciné famille | Dounia et la princesse d'Alep
DESCRIPTION:La petite Dounia et ses grands parents quittent Alep\, en Syrie\, pour un long voyage vers l’espoir d’un nouveau monde.\nUn film d’animation qui parle aux enfants de la guerre\, de l’exil\, des migrants\, avec une délicatesse et une intelligence infinies.\nLa réalisatrice Marya Zarif\, née en Syrie\, raconte aussi son pays d’origine à travers l’histoire et les yeux de la petite Dounia et nous fait revivre la beauté et la grâce d’une ville riche et paisible « d’avant la guerre >>.
URL:https://septem.stghislain.be/agenda/dounia-et-la-princesse-d-alep/
LOCATION:Les Jardins du Cloître\, 37 Grand Place\, Saint-Ghislain\, 7330\, Belgique
CATEGORIES:Ciné Famille,Cinéma,En famille,Films,Jeune public,Saint-Ghislain
ATTACH;FMTTYPE=image/jpeg:https://septem.stghislain.be/wp-content/uploads/2023/08/cinema_dounia_et_la-princesse_d_alep-Septem-Culture_Saint_Ghislain-2023.jpg
ORGANIZER;CN="Septem":MAILTO:info@septem.stghislain.be
END:VEVENT
BEGIN:VEVENT
DTSTART;TZID=Europe/Brussels:20231222T200000
DTEND;TZID=Europe/Brussels:20231222T213000
DTSTAMP:20260424T050222
CREATED:20231128T085107Z
LAST-MODIFIED:20231128T085111Z
UID:10000428-1703275200-1703280600@septem.stghislain.be
SUMMARY:Divertissement | Spectacle musical | Cabaret Clandestin
DESCRIPTION:« Dans une ambiance empruntée au cabaret et à la clandestinité\, vous voilà entraînés dans un spectacle alliant théâtre et chansons.Un spectacle qui se laisse voir le verre à la main\, à table\, tout près des artistes.Au menu\, une pièce en un acte de Georges Feydeau\, « Par la fenêtre »\, dans laquelle on se rit du couple\, de la jalousie et de ses conséquences. \nEn deuxième partie\, des extraits musicaux choisis de Boris Vian\, Trenet\, Jeanne Moreau\, Mistinguett et beaucoup d’autres ! \n\nAvecClaudie RionJean François BrionEmmanuel Debaty\, piano » \n\nHeure du spectacle :20h \nLieu du spectacle: Les Jardins du Cloître de Saint-Ghislain \nFin de spectacle 21h30 (avec entracte de 20 minutes). 
URL:https://septem.stghislain.be/agenda/spectacle-cabaret-clandestin/2023-12-22/
LOCATION:Les Jardins du Cloître\, 37 Grand Place\, Saint-Ghislain\, 7330\, Belgique
CATEGORIES:Musique,Saint-Ghislain,Spectacle
ATTACH;FMTTYPE=image/jpeg:https://septem.stghislain.be/wp-content/uploads/2023/11/cabaret_clandestin-Septem-Culture_Saint_Ghislain-2023.jpg
ORGANIZER;CN="Septem":MAILTO:info@septem.stghislain.be
END:VEVENT
BEGIN:VEVENT
DTSTART;TZID=Europe/Brussels:20231223T200000
DTEND;TZID=Europe/Brussels:20231223T213000
DTSTAMP:20260424T050222
CREATED:20231128T085107Z
LAST-MODIFIED:20231128T085111Z
UID:10000429-1703361600-1703367000@septem.stghislain.be
SUMMARY:Divertissement | Spectacle musical | Cabaret Clandestin
DESCRIPTION:« Dans une ambiance empruntée au cabaret et à la clandestinité\, vous voilà entraînés dans un spectacle alliant théâtre et chansons.Un spectacle qui se laisse voir le verre à la main\, à table\, tout près des artistes.Au menu\, une pièce en un acte de Georges Feydeau\, « Par la fenêtre »\, dans laquelle on se rit du couple\, de la jalousie et de ses conséquences. \nEn deuxième partie\, des extraits musicaux choisis de Boris Vian\, Trenet\, Jeanne Moreau\, Mistinguett et beaucoup d’autres ! \n\nAvecClaudie RionJean François BrionEmmanuel Debaty\, piano » \n\nHeure du spectacle :20h \nLieu du spectacle: Les Jardins du Cloître de Saint-Ghislain \nFin de spectacle 21h30 (avec entracte de 20 minutes). 
URL:https://septem.stghislain.be/agenda/spectacle-cabaret-clandestin/2023-12-23/
LOCATION:Les Jardins du Cloître\, 37 Grand Place\, Saint-Ghislain\, 7330\, Belgique
CATEGORIES:Musique,Saint-Ghislain,Spectacle
ATTACH;FMTTYPE=image/jpeg:https://septem.stghislain.be/wp-content/uploads/2023/11/cabaret_clandestin-Septem-Culture_Saint_Ghislain-2023.jpg
ORGANIZER;CN="Septem":MAILTO:info@septem.stghislain.be
END:VEVENT
END:VCALENDAR