BEGIN:VCALENDAR
VERSION:2.0
PRODID:-//Septem - ECPv6.0.13.1//NONSGML v1.0//EN
CALSCALE:GREGORIAN
METHOD:PUBLISH
X-ORIGINAL-URL:https://septem.stghislain.be
X-WR-CALDESC:évènements pour Septem
REFRESH-INTERVAL;VALUE=DURATION:PT1H
X-Robots-Tag:noindex
X-PUBLISHED-TTL:PT1H
BEGIN:VTIMEZONE
TZID:Europe/Brussels
BEGIN:DAYLIGHT
TZOFFSETFROM:+0100
TZOFFSETTO:+0200
TZNAME:CEST
DTSTART:20230326T010000
END:DAYLIGHT
BEGIN:STANDARD
TZOFFSETFROM:+0200
TZOFFSETTO:+0100
TZNAME:CET
DTSTART:20231029T010000
END:STANDARD
END:VTIMEZONE
BEGIN:VEVENT
DTSTART;TZID=Europe/Brussels:20230408T203000
DTEND;TZID=Europe/Brussels:20230408T220000
DTSTAMP:20260424T151707
CREATED:20230403T133307Z
LAST-MODIFIED:20230405T061227Z
UID:10000118-1680985800-1680991200@septem.stghislain.be
SUMMARY:O’Tchalaï et le Chœur Droga Mleczna
DESCRIPTION:ATTENTION ! Ce concert est reporté au printemps 2024. \nLe quartet O’tchalaï explore les musiques et chansons des Balkans et des Tsiganes\, créant des ambiances tantôt enneigées et vastes\, tantôt confinées et intimistes\, au fil de leurs voyages de Bucarest à Sofia\, d’Odessa à Thessalonique. Accompagné d’un chœur de 35 chanteurs et chanteuses\, le groupe chante\, rit\, pleure\, aime\, se déchire et se retrouve\, dans un tourbillon de vie. \n\nMonique Gelders : chant\, accordéonAurelie Goudaer : violon\, chantAlexandre Furnelle : contrebasseStephan Pougin : percussionsNinon Robin : danse \n\n\nLe Choeur Droga Mleczna : Nathalie Bauduin\, Natchou Bosret\, Annick Cornette\, Christine Crutzen\, Françoise Daoust\, Gaëlle de Crombrugghe\, Raphaelle de Menten\, Francoise Dutrieue\, Marc Erman\, Christine Flore\, Evelyne Flore\, Julie Gallifet\, Christine Georis\, Marianne Georis\, An Goedertier\, Isabelle Gontier\, Annick Honorez\, Karin et Jean-François Hubermont\, Isabelle Lamouline\, Karin Laporte\, Corinne Lecerf\, Guillaume Lethe\, Claudine Lewalle\, Odile Maisse\, Bernadette Maquet\, Michaëla Marginet\, Gaëtan Moyersoen\, Frédérique Rochette\, Cayenne Seydel\, Sylvie Suleau\, Joëlle Waterschoot et Sophie Ypersiel…
URL:https://septem.stghislain.be/agenda/otchalai-et-le-choeur-droga-mleczna/
LOCATION:Les Jardins du Cloître\, 37 Grand Place\, Saint-Ghislain\, 7330\, Belgique
CATEGORIES:Arts de la scène,Chant,Concerts,Danse,Musique,Saint-Ghislain
ATTACH;FMTTYPE=image/png:https://septem.stghislain.be/wp-content/uploads/2023/04/Copie-de-Affiche-OTchalai-Couverture-Facebook-2.png
ORGANIZER;CN="Septem":MAILTO:info@septem.stghislain.be
END:VEVENT
BEGIN:VEVENT
DTSTART;TZID=Europe/Brussels:20230416T100000
DTEND;TZID=Europe/Brussels:20230416T111500
DTSTAMP:20260424T151708
CREATED:20230404T083139Z
LAST-MODIFIED:20230404T090236Z
UID:10000121-1681639200-1681643700@septem.stghislain.be
SUMMARY:Atelier | Yoga Parents-Enfants (3 à 6 ans)
DESCRIPTION:Pratiquer le yoga avec son enfant\, c’est avant tout\, un moment de partage. Un moment privilégié où chacun prend conscience de son fonctionnement et entre en lien avec l’autre. Un moment ludique\, relaxant hors du train-train quotidien qui nous ramène à l’essentiel: l’amour inconditionnel. \nUn atelier proposé par Les Sentiers de Lily-Bulle.
URL:https://septem.stghislain.be/agenda/atelier-yoga-parents-enfants-3-a-6-ans/
LOCATION:Les Jardins du Cloître\, 37 Grand Place\, Saint-Ghislain\, 7330\, Belgique
CATEGORIES:Ateliers,Bien-être,En famille,Jeune public,Saint-Ghislain
ATTACH;FMTTYPE=image/jpeg:https://septem.stghislain.be/wp-content/uploads/2023/04/les_sentiers_de_lily_bulle-yoga_enfants-Banner1-septem-culture_Saint_Ghislain-2023.jpg
ORGANIZER;CN="Septem":MAILTO:info@septem.stghislain.be
END:VEVENT
BEGIN:VEVENT
DTSTART;TZID=Europe/Brussels:20230416T111500
DTEND;TZID=Europe/Brussels:20230416T120000
DTSTAMP:20260424T151708
CREATED:20230404T083740Z
LAST-MODIFIED:20230404T090236Z
UID:10000123-1681643700-1681646400@septem.stghislain.be
SUMMARY:Atelier | Yoga Parents-Enfants (7 à 12 ans)
DESCRIPTION:Pratiquer le yoga avec son enfant\, c’est avant tout\, un moment de partage. Un moment privilégié où chacun prend conscience de son fonctionnement et entre en lien avec l’autre. Un moment ludique\, relaxant hors du train-train quotidien qui nous ramène à l’essentiel: l’amour inconditionnel. \nUn atelier proposé par Les Sentiers de Lily-Bulle.
URL:https://septem.stghislain.be/agenda/atelier-yoga-parents-enfants-7-a-12-ans/
LOCATION:Les Jardins du Cloître\, 37 Grand Place\, Saint-Ghislain\, 7330\, Belgique
CATEGORIES:Ateliers,Bien-être,En famille,Jeune public,Saint-Ghislain
ATTACH;FMTTYPE=image/jpeg:https://septem.stghislain.be/wp-content/uploads/2023/04/les_sentiers_de_lily_bulle-yoga_enfants-Banner2-septem-culture_Saint_Ghislain-2023.jpg
ORGANIZER;CN="Septem":MAILTO:info@septem.stghislain.be
END:VEVENT
BEGIN:VEVENT
DTSTART;TZID=Europe/Brussels:20230420T180000
DTEND;TZID=Europe/Brussels:20230510T170000
DTSTAMP:20260424T151708
CREATED:20230410T122344Z
LAST-MODIFIED:20230410T122347Z
UID:10000132-1682013600-1683738000@septem.stghislain.be
SUMMARY:Expo | Isabelle MAILLEUX
DESCRIPTION:« Quand je dessine\, je suis dans ma bulle\, j’oublie le temps\, j’oublie les soucis\, je suis bien. » \nIsabelle Mailleux a grandi à Colfontaine mais c’est à Dour\, à l’Athénée Royal\, qu’elle découvre ce qui deviendra sa signature ; le pointillisme. Quelques années plus tard\, elle decide d’affiner sa technique et s’essaye également à l’aquarelle. D’abord assez pudique sur son art\, elle franchit finalement le pas d’exposer ses dessins qu’elle aime qualifier de « broderies » à son entourage. Ce qu’Isabelle aime par-dessus tout dans le dessin\, c’est l’extériorisation de ses émotions\, et le bien-être que celui-ci lui apporte. Cette exposition au grand public\, c’est une façon pour elle de dévoiler une part d’elle\, de son intimité et\, elle l’espère\, d’évoluer. \nVernissage : Jeudi 20 avril à partir de 18h00
URL:https://septem.stghislain.be/agenda/expo-isabelle-mailleux/
LOCATION:Les Jardins du Cloître\, 37 Grand Place\, Saint-Ghislain\, 7330\, Belgique
CATEGORIES:Saint-Ghislain
ATTACH;FMTTYPE=image/png:https://septem.stghislain.be/wp-content/uploads/2023/04/expo_isabelle_mailleux-septem-culture_Saint_Ghislain-2023.png
ORGANIZER;CN="Septem":MAILTO:info@septem.stghislain.be
END:VEVENT
BEGIN:VEVENT
DTSTART;TZID=Europe/Brussels:20230420T200000
DTEND;TZID=Europe/Brussels:20230420T220000
DTSTAMP:20260424T151708
CREATED:20230404T085004Z
LAST-MODIFIED:20230404T090236Z
UID:10000124-1682020800-1682028000@septem.stghislain.be
SUMMARY:Cinéma | Nos plus belles années de Gabriele Muccino
DESCRIPTION:Nos plus belles années (Gli anni più belli en italien) est un film dramatique réalisé par Gabriele Muccino\, sorti en 2020. \nL’histoire suit quatre amis d’enfance italiens\, Matteo\, Paolo\, Teo et Riccardo\, qui se retrouvent après des années de séparation pour assister aux funérailles de l’un d’entre eux. Le film raconte leur histoire d’amitié sur une période de plus de quarante ans\, de leur jeunesse dans les années 80 jusqu’à l’âge adulte. \nLe réalisateur Gabriele Muccino\, connu pour ses films tels que À la recherche du bonheur et Sept vies\, nous offre une réflexion émouvante sur le temps qui passe et les liens qui se tissent et se délient au fil des années. Le casting est composé de Pierfrancesco Favino\, Micaela Ramazzotti\, Kim Rossi Stuart et Claudio Santamaria\, tous remarquables dans leur interprétation de personnages profonds et nuancés. \nNos plus belles années est un film touchant\, poignant et subtil\, qui invite le spectateur à réfléchir sur la force de l’amitié et sur les choix que l’on fait tout au long de sa vie. \n\nRéalisation : Gabriele MuccinoScénario : Gabriele Muccino – Paolo CostellaActeurs principaux : Pierfrancesco Favino – Micaela Ramazzotti – Kim Rossi Stuart
URL:https://septem.stghislain.be/agenda/cinema-nos-plus-belles-annees-de-gabriele-muccino/
LOCATION:Les Jardins du Cloître\, 37 Grand Place\, Saint-Ghislain\, 7330\, Belgique
CATEGORIES:Cinéma,Films,Projections,Saint-Ghislain
ATTACH;FMTTYPE=image/jpeg:https://septem.stghislain.be/wp-content/uploads/2023/04/Cinema-Nos_plus_belles_annees-Gabriele_Muccino-Banner-Septem-Culture_Saint_Ghislain.jpg
ORGANIZER;CN="Septem":MAILTO:info@septem.stghislain.be
END:VEVENT
BEGIN:VEVENT
DTSTART;TZID=Europe/Brussels:20230422T090000
DTEND;TZID=Europe/Brussels:20230422T120000
DTSTAMP:20260424T151708
CREATED:20230420T085928Z
LAST-MODIFIED:20230420T085931Z
UID:10000150-1682154000-1682164800@septem.stghislain.be
SUMMARY:Atelier | Aquarelle
DESCRIPTION:Approche créative de l’aquarelle\, Ingrid Barviau aquarelliste diplômée à l’école des métiers d’art du Hainaut à Mons vous propose l’initiation aux différentes textures\, l’utilisation des pigments\, la réalisation d’une composition.Elle accueille un groupe niveau débutant\, adultes et adolescents. \nMatériel d’aquarelle requis.
URL:https://septem.stghislain.be/agenda/atelier-aquarelle/
LOCATION:Les Jardins du Cloître\, 37 Grand Place\, Saint-Ghislain\, 7330\, Belgique
CATEGORIES:Arts Plastiques,Ateliers,Saint-Ghislain
ATTACH;FMTTYPE=image/jpeg:https://septem.stghislain.be/wp-content/uploads/2023/04/ingrid_barviau-atelier_aquarelle-septem-culture_Saint_Ghislain-2023.jpg
ORGANIZER;CN="Septem":MAILTO:info@septem.stghislain.be
END:VEVENT
BEGIN:VEVENT
DTSTART;TZID=Europe/Brussels:20230422T160000
DTEND;TZID=Europe/Brussels:20230422T180000
DTSTAMP:20260424T151708
CREATED:20230404T091942Z
LAST-MODIFIED:20230404T094014Z
UID:10000127-1682179200-1682186400@septem.stghislain.be
SUMMARY:Ciné Famille | Close de Lukas Dhont
DESCRIPTION:Close est un film belgo-néerlando-français. Il est présenté en compétition officielle au Festival de Cannes 2022 et remporte le grand prix. \n\nLéo est un collégien qui partage une très forte amitié avec Rémi. Les deux garçons passent l’essentiel de leur temps libre ensemble\, Léo dormant fréquemment chez Rémi avec la bienveillance de Sophie\, la mère de ce dernier qui considère Léo comme son propre fils. Léo\, plus extraverti que Rémi\, encourage fortement la passion de son ami pour le hautbois et est admiratif de son talent. \nLéo et Rémi font leur rentrée dans l’école secondaire locale. Faisant connaissance avec d’autres élèves\, Léo est perturbé par les questions de ses camarades\, lesquels\, ayant remarqué la très forte proximité entre Léo et Rémi\, se demandent s’ils sont en couple. Léo nie vigoureusement\, affirmant que Rémi et lui sont simplement des amis très proches au point de se considérer comme des frères\, mais cette discussion le perturbe. Dans les jours qui suivent\, bien qu’il continue à passer du temps avec Rémi\, Léo prend parfois ses distances lorsqu’ils sont au collège… \n\nLe deuxième long-métrage de Lukas Dhont\, Close\, est un film bouleversant. Le réalisateur avait déjà marqué les esprits avec son premier film\, Girl\, présenté à Cannes en 2018 dans la catégorie Un certain regard. Girl racontait l’histoire de Lara\, une jeune danseuse née garçon\, qui lutte chaque jour contre son corps en pleine mutation. Le film abordait des thèmes difficiles\, comme la dysphorie de genre et l’automutilation\, avec une puissance psychologique qui lui a valu les ovations du public et de la critique. Avec Close\, Lukas Dhont continue d’explorer les thèmes de l’identité et de la transformation corporelle\, offrant une vision intime et profonde de la condition humaine. Le film est une œuvre poignante qui mérite d’être vue. \n\nRéalisation : Lukas DhontScénario : Lukas Dhont\, Angelo TijssensMusique : Valentin HadjadjActeurs principaux : Eden Dambrine – Gustav De Waele – Léa Drucker – Émilie Dequenne
URL:https://septem.stghislain.be/agenda/cine-famille-close-de-lukas-dhont/
LOCATION:Les Jardins du Cloître\, 37 Grand Place\, Saint-Ghislain\, 7330\, Belgique
CATEGORIES:Ciné Famille,Cinéma,En famille,Films,Projections,Saint-Ghislain
ATTACH;FMTTYPE=image/jpeg:https://septem.stghislain.be/wp-content/uploads/2023/04/Cine_Famille-Close-Lukas_Dhont-Banner-Septem-Culture_Saint_Ghislain.jpg
ORGANIZER;CN="Septem":MAILTO:info@septem.stghislain.be
END:VEVENT
BEGIN:VEVENT
DTSTART;TZID=Europe/Brussels:20230422T193000
DTEND;TZID=Europe/Brussels:20230422T213000
DTSTAMP:20260424T151708
CREATED:20230410T105654Z
LAST-MODIFIED:20230410T110414Z
UID:10000128-1682191800-1682199000@septem.stghislain.be
SUMMARY:Humour | Les Rendez-vous de l'improvisation
DESCRIPTION:Les rendez-vous de l’improvisation\, c’est un concept où deux équipes vont improviser devant vous entièrement des scènes de théâtre et vous aurez le choix de voter pour l’équipe que vous avez préféré en jeu ! \nUn moment garanti avec de l’humour décalé\, des émotions intenses et une ambiance de folie! \nLes équipes du jour:La Ligue Boraine d’ImprovisationLa C.R.I.M
URL:https://septem.stghislain.be/agenda/humour-match-dimprovisation/
LOCATION:Les Jardins du Cloître\, 37 Grand Place\, Saint-Ghislain\, 7330\, Belgique
CATEGORIES:Saint-Ghislain
ATTACH;FMTTYPE=image/jpeg:https://septem.stghislain.be/wp-content/uploads/2023/04/La_Crim_Ligue_Boraine_Impro-Match_d_impro-septem-culture_Saint_Ghislain-2023.jpg
ORGANIZER;CN="Septem":MAILTO:info@septem.stghislain.be
END:VEVENT
BEGIN:VEVENT
DTSTART;TZID=Europe/Brussels:20230423T170000
DTEND;TZID=Europe/Brussels:20230423T183000
DTSTAMP:20260424T151708
CREATED:20230312T222158Z
LAST-MODIFIED:20230312T223244Z
UID:10000100-1682269200-1682274600@septem.stghislain.be
SUMMARY:Concert | Antoine Delie
DESCRIPTION:Antoine Delie est un jeune chanteur belge. Finaliste de THE VOICE – La plus Belle Voix saison 9\, il s’est fait remarquer avec sa reprise de La Pluie du rappeur français Orelsan. Il avait déjà participé à la version belge du programme en 2015\, dans l’équipe de Chimène Badi qui l’avait mené jusqu’aux quart de finale. Il pratique plusieurs formes d’art telles que le chant\, le piano\, le théâtre… Et se passionne également pour les arts visuels\, l’art floral\, etc. \nInstituteur primaire de formation\, il fait\, à l’âge de 21 ans\, un voyage de plusieurs semaines en Bolivie qui bouleverse sa vie. À son retour\, il assume sa personnalité\, son look coloré et décalé et s’affirme en tant qu’artiste. Il décide alors de se consacrer entièrement à la musique. Antoine puise son inspiration dans les grands classiques de la chanson française ainsi que dans la musique POP actuelle. Ses goûts musicaux assez éclectiques le poussent à proposer une musique\, tantôt mélancolique et acoustique\, tantôt colorée et plus electro.
URL:https://septem.stghislain.be/agenda/concert-antoine-delie/
LOCATION:Les Jardins du Cloître\, 37 Grand Place\, Saint-Ghislain\, 7330\, Belgique
CATEGORIES:Arts de la scène,Concerts,Musique,Saint-Ghislain
ATTACH;FMTTYPE=image/jpeg:https://septem.stghislain.be/wp-content/uploads/2023/03/Antoine_Delie-Peter_Pan-CD-Cover-Crop.jpg
ORGANIZER;CN="Septem":MAILTO:info@septem.stghislain.be
END:VEVENT
BEGIN:VEVENT
DTSTART;TZID=Europe/Brussels:20230423T193000
DTEND;TZID=Europe/Brussels:20230423T210000
DTSTAMP:20260424T151708
CREATED:20231211T112336Z
LAST-MODIFIED:20231211T112540Z
UID:10000453-1682278200-1682283600@septem.stghislain.be
SUMMARY:Cinéma | L'amour et les forêts
DESCRIPTION:Quand Blanche croise le chemin de Gregoire\, elle pense rencontrer celui qu’elle cherche. Les liens qui les unissent se tissent rapidement et leur histoire se construit dans l’emportement. Le couple déménage\, Blanche s’éloigne de sa famille\, de sa sœur jumelle\, s’ouvre à une nouvelle vie. Mais fil après fil\, elle se retrouve sous l’emprise d’un homme possessif et dangereux.
URL:https://septem.stghislain.be/agenda/l-amour-et-les-forets/2023-04-23/
LOCATION:Les Jardins du Cloître\, 37 Grand Place\, Saint-Ghislain\, 7330\, Belgique
CATEGORIES:Cinéma,Films,Saint-Ghislain
ATTACH;FMTTYPE=image/jpeg:https://septem.stghislain.be/wp-content/uploads/2023/12/cinema-l-amour-et-les-forets-Septem-Culture_Saint_Ghislain-2024.jpg
ORGANIZER;CN="Septem":MAILTO:info@septem.stghislain.be
END:VEVENT
BEGIN:VEVENT
DTSTART;TZID=Europe/Brussels:20230425T200000
DTEND;TZID=Europe/Brussels:20230425T220000
DTSTAMP:20260424T151708
CREATED:20230413T123438Z
LAST-MODIFIED:20230413T123442Z
UID:10000138-1682452800-1682460000@septem.stghislain.be
SUMMARY:Concert | Orchestre d'Arts²
DESCRIPTION:L’Orchestre d’ARTS2\, sous la direction de Nicolas Krüger\, accompagne le lauréat de la catégorie Senior Classique – Prix Accordéons-nous.org 2023 dans une œuvre imposée écrite spécialement pour l’occasion par Loris Douyez.Au programme de cette soirée également\, deux œuvres orchestrales alliant charme mélodique et sensibilité : la Sinfonietta de F. Poulenc et le superbe Adagio pour cordes de S. Barber.
URL:https://septem.stghislain.be/agenda/concert-orchestre-darts%c2%b2/
LOCATION:Les Jardins du Cloître\, 37 Grand Place\, Saint-Ghislain\, 7330\, Belgique
CATEGORIES:Saint-Ghislain
ATTACH;FMTTYPE=image/png:https://septem.stghislain.be/wp-content/uploads/2023/04/nicolas_kruger-orchestre_d_arts_2-culture_Saint_Ghislain-2023.png
ORGANIZER;CN="Septem":MAILTO:info@septem.stghislain.be
END:VEVENT
BEGIN:VEVENT
DTSTART;TZID=Europe/Brussels:20230427T180000
DTEND;TZID=Europe/Brussels:20230427T200000
DTSTAMP:20260424T151708
CREATED:20230413T133508Z
LAST-MODIFIED:20230414T102603Z
UID:10000139-1682618400-1682625600@septem.stghislain.be
SUMMARY:Présentation de la programmation scolaire 2023-2024
DESCRIPTION:L’équipe d’animation de Septem organise une soirée spécialement dédiée aux enseignants\, de la maternelle au supérieur.L’occasion de présenter la programmation scolaire 2023-2024 et d’échanger autour du travail d’animation proposé tout au long de l’année. \nVous souhaitez participer à ce moment convivial ? Envoyez-nous un e-mail à scolaires@septem.stghislain.be ou appelez-nous au 065/80 35 15.
URL:https://septem.stghislain.be/agenda/presentation-de-la-programmation-scolaire-2023-2024/
LOCATION:Les Jardins du Cloître\, 37 Grand Place\, Saint-Ghislain\, 7330\, Belgique
CATEGORIES:Saint-Ghislain
ATTACH;FMTTYPE=image/png:https://septem.stghislain.be/wp-content/uploads/2023/04/presentation_saison_scolaire-culture_Saint_Ghislain-2023-1.png
ORGANIZER;CN="Septem":MAILTO:info@septem.stghislain.be
END:VEVENT
END:VCALENDAR