BEGIN:VCALENDAR
VERSION:2.0
PRODID:-//Septem - ECPv6.0.13.1//NONSGML v1.0//EN
CALSCALE:GREGORIAN
METHOD:PUBLISH
X-ORIGINAL-URL:https://septem.stghislain.be
X-WR-CALDESC:évènements pour Septem
REFRESH-INTERVAL;VALUE=DURATION:PT1H
X-Robots-Tag:noindex
X-PUBLISHED-TTL:PT1H
BEGIN:VTIMEZONE
TZID:Europe/Brussels
BEGIN:DAYLIGHT
TZOFFSETFROM:+0100
TZOFFSETTO:+0200
TZNAME:CEST
DTSTART:20230326T010000
END:DAYLIGHT
BEGIN:STANDARD
TZOFFSETFROM:+0200
TZOFFSETTO:+0100
TZNAME:CET
DTSTART:20231029T010000
END:STANDARD
END:VTIMEZONE
BEGIN:VEVENT
DTSTART;TZID=Europe/Brussels:20230127T090000
DTEND;TZID=Europe/Brussels:20230215T170000
DTSTAMP:20260424T182008
CREATED:20230131T145827Z
LAST-MODIFIED:20230131T151614Z
UID:10000089-1674810000-1676480400@septem.stghislain.be
SUMMARY:Exposition photographique - Méli-Mélo
DESCRIPTION:L’asbl Espace Image Création vous propose son exposition photo « Méli-Mélo » aux Jardins du Cloître. \nUne expo à visiter du lundi au vendredi de 9h00 à 17h00. \n\nÀ propos de l’asbl Espace Image Création\nDepuis sa création en 1982 dans la commune de Boussu-Hornu\, l’objectif de l’asbl Espace Image Création est de promouvoir l’art photographique.\nChez nous\, vous trouverez des amateurs passionnés et des animateurs compétents s’aidant les uns les autres dans la pratique de la photo\, de la prise de vue à l’impression\, en passant par la phase de post-traitement.\n\nNous sommes également un Centre d’Expression et de Créativité de la Fédération Wallonie-Bruxelles\, affiliés à la Fédération Belge de Photographie\, à la Fédération des Cercles Photographiques et à l’Entente Photographique Hennuyère amateur et nos auteurs sont régulièrement publiés et exposés dans les salons photographiques nationaux et internationaux. Souhaitant se faire connaître davantage du grand public l’asbl s’applique dès lors à montrer via des expositions\, la qualité des œuvres de ses affiliés.
URL:https://septem.stghislain.be/agenda/exposition-photographique-meli-melo/
LOCATION:Les Jardins du Cloître\, 37 Grand Place\, Saint-Ghislain\, 7330\, Belgique
CATEGORIES:Saint-Ghislain
ATTACH;FMTTYPE=image/png:https://septem.stghislain.be/wp-content/uploads/2023/01/espace_image_creation-expo_photo_meli_melo-septem-culture_Saint_Ghislain-2023.png
ORGANIZER;CN="Septem":MAILTO:info@septem.stghislain.be
END:VEVENT
BEGIN:VEVENT
DTSTART;TZID=Europe/Brussels:20230202T193000
DTEND;TZID=Europe/Brussels:20230202T213000
DTSTAMP:20260424T182008
CREATED:20230121T163150Z
LAST-MODIFIED:20230131T135604Z
UID:10000061-1675366200-1675373400@septem.stghislain.be
SUMMARY:Ciné débat | L'évènement de Audrey Diwan
DESCRIPTION:En 1960\, Anna\, une étudiante brillante\, tombe enceinte et voit ainsi s’éloigner la chance de terminer ses études et de se construire une belle carrière. À l’approche de ses examens finaux\, alors que sa vie sociale commence à s’estomper et que son ventre grossit à une vitesse alarmante\, elle est contrainte d’affronter la honte et la douleur d’un avortement. Même si cela signifie risquer une peine de prison. \nC’est l’adaptation du roman éponyme d’Annie Ernaux\, prix Nobel de littérature 2022.
URL:https://septem.stghislain.be/agenda/cine-debat-levenement-de-audrey-diwan/
LOCATION:Les Jardins du Cloître\, 37 Grand Place\, Saint-Ghislain\, 7330\, Belgique
CATEGORIES:Cinéma,Films,Médiation,Projections,Rencontres,Saint-Ghislain
ATTACH;FMTTYPE=image/jpeg:https://septem.stghislain.be/wp-content/uploads/2023/01/audrey_diwan-l_evenement-cine_debat-septem-culture_Saint_Ghislain-2023.jpg
ORGANIZER;CN="Septem":MAILTO:info@septem.stghislain.be
END:VEVENT
BEGIN:VEVENT
DTSTART;TZID=Europe/Brussels:20230203T190000
DTEND;TZID=Europe/Brussels:20230203T203000
DTSTAMP:20260424T182008
CREATED:20230121T163856Z
LAST-MODIFIED:20230122T001412Z
UID:10000062-1675450800-1675456200@septem.stghislain.be
SUMMARY:Explo du Monde | Normandie
DESCRIPTION:Voici la Normandie\, terre de merveilles\, terre de mémoire.À travers ce documentaire\, son réalisateur Cyril Isy-Schwart\, nous dévoile les plus beaux atouts de sa région natale\, la Normandie\, la région française la plus connue au monde.À Giverny\, promenade artistique dans l’univers fleuri du génial Claude Monet. \nNous voyagerons aux confins du Moyen-Âge avec la tapisserie de Bayeux\, les villes de Rouen et d’Honfleur. Visite exceptionnelle de l’époustouflant château du Champs de Bataille que son illustre propriétaire nous fera découvrir. Il nous ouvrira également les portes de son féérique palais de Maharaja patiemment remonté pierre après pierre…
URL:https://septem.stghislain.be/agenda/explo-du-monde-normandie/
LOCATION:Les Jardins du Cloître\, 37 Grand Place\, Saint-Ghislain\, 7330\, Belgique
CATEGORIES:Explo du Monde,Saint-Ghislain
ATTACH;FMTTYPE=image/jpeg:https://septem.stghislain.be/wp-content/uploads/2023/01/cyril_isy_schwart-explo_du_monde_la_normandie-septem-culture_Saint_Ghislain-2023.jpg
ORGANIZER;CN="Septem":MAILTO:info@septem.stghislain.be
END:VEVENT
BEGIN:VEVENT
DTSTART;TZID=Europe/Brussels:20230204T103000
DTEND;TZID=Europe/Brussels:20230204T120000
DTSTAMP:20260424T182008
CREATED:20230121T174831Z
LAST-MODIFIED:20230122T003309Z
UID:10000070-1675506600-1675512000@septem.stghislain.be
SUMMARY:Atelier | Yoga enfants
DESCRIPTION:Sophrologue\, consultante en Réflexes archaïques formée au yoga\, Les Sentiers de Lily-Bulle propose aux enfants des ateliers ludiques en basés sur le yoga: par le travail des postures\, de la respiration et de la concentration\, l’enfant prend conscience de son corps\, il apprend à s’écouter\, à exprimer ses besoins par l’analyse de l’émotion qui le traverse et à vivre en lien avec lui-même\, les autres et la nature. \nUn atelier proposé par Les Sentiers de Lily-Bulle.
URL:https://septem.stghislain.be/agenda/atelier-yoga-enfants-2/
LOCATION:Les Jardins du Cloître\, 37 Grand Place\, Saint-Ghislain\, 7330\, Belgique
CATEGORIES:Ateliers,Bien-être,Jeune public,Saint-Ghislain
ATTACH;FMTTYPE=image/jpeg:https://septem.stghislain.be/wp-content/uploads/2023/01/les_sentiers_de_lily_bulle-yoga_enfants-septem-culture_Saint_Ghislain-2023.jpg
ORGANIZER;CN="Septem":MAILTO:info@septem.stghislain.be
END:VEVENT
BEGIN:VEVENT
DTSTART;TZID=Europe/Brussels:20230204T200000
DTEND;TZID=Europe/Brussels:20230204T220000
DTSTAMP:20260424T182008
CREATED:20230121T164355Z
LAST-MODIFIED:20230121T164417Z
UID:10000063-1675540800-1675548000@septem.stghislain.be
SUMMARY:Concert | FUGU MANGO
DESCRIPTION:Semblable à Stereolab\, tUnE-yArDs\, Everything Everything et Yeasayer\, le collectif art-pop belge FUGU MANGO façonne habilement de larges traditions musicales en une vision artistique singulière. Leurs grooves africains pendants\, leurs voix multicouches et leurs textures sonores technicolores se combinent pour former une esthétique pop cool et futuriste. \nLe groupe frénétique a vu le jour en 2013 à Bruxelles grâce à un amour partagé du groove\, des rythmes africains et de l’Indie pop. Une fois sur scène\, le quatuor\, trois garçons et une fille\, s’est transformé en gourous de la danse\, à même de vous rappeler que les trottoirs de Kinshasa n’étaient pas loin de la pop power londonienne. Quelque chose entre Talking Heads et ESG.
URL:https://septem.stghislain.be/agenda/concert-fugu-mango/
LOCATION:Les Jardins du Cloître\, 37 Grand Place\, Saint-Ghislain\, 7330\, Belgique
CATEGORIES:Arts de la scène,Concerts,Musique,Saint-Ghislain
ATTACH;FMTTYPE=image/jpeg:https://septem.stghislain.be/wp-content/uploads/2023/01/fugu_mango-concert-septem-culture_Saint_Ghislain-2023.jpg
ORGANIZER;CN="Septem":MAILTO:info@septem.stghislain.be
END:VEVENT
BEGIN:VEVENT
DTSTART;TZID=Europe/Brussels:20230205T160000
DTEND;TZID=Europe/Brussels:20230205T180000
DTSTAMP:20260424T182008
CREATED:20230121T164712Z
LAST-MODIFIED:20230131T151244Z
UID:10000065-1675612800-1675620000@septem.stghislain.be
SUMMARY:Concert | New Beat's Band
DESCRIPTION:sa trente-quatrième année d’existence\, le New Beat’s Band sous la baguette de son chef et créateur Giovanni VERO est heureux de vous présenter son prochain concert de Gala au Septem.Pour l’événement\, il a le grand plaisir d’inviter un artiste nanti d’un talent indiscutable. \nJean-François David n’est pas inconnu de Giovanni Vero puisqu’ils partagent souvent la scène en Belgique et en France depuis une vingtaine d’années déjà. Cette belle personne vous ravira dans son répertoire varié et surtout de son énergie sur scène\, accompagné par les musiciens du New Beat’s Band.
URL:https://septem.stghislain.be/agenda/concert-new-beats-band/
LOCATION:Les Jardins du Cloître\, 37 Grand Place\, Saint-Ghislain\, 7330\, Belgique
CATEGORIES:Arts de la scène,Concerts,Musique,Saint-Ghislain
ATTACH;FMTTYPE=image/jpeg:https://septem.stghislain.be/wp-content/uploads/2023/01/giovanni_vero-new_beats_band-concert-septem-culture_Saint_Ghislain-2023.jpg
ORGANIZER;CN="Septem":MAILTO:info@septem.stghislain.be
END:VEVENT
BEGIN:VEVENT
DTSTART;TZID=Europe/Brussels:20230211T200000
DTEND;TZID=Europe/Brussels:20230211T220000
DTSTAMP:20260424T182008
CREATED:20230121T173658Z
LAST-MODIFIED:20230121T173735Z
UID:10000066-1676145600-1676152800@septem.stghislain.be
SUMMARY:Spectacle musical | Naples n'est pas en Italie
DESCRIPTION:Goûtez à l’atmosphère tendre\, drôle et piquante de cette soirée aux tonalités italiennes ! \nLe spectacle est né de la rencontre du quatuor musical Allería – Pino Daniele Progett’ et du souhait de la compagnie théâtrale La Maison Éphémère d’aborder le grand auteur italien Ascano Celestini. Pino Daniele\, le Napolitain\, féru de jazz et de blues\, livre des chansons d’une grande humanité : il nous parle d’amour mais aussi de ses héros\, les petites gens de Naples. Les courts « Discours à la nation » de Celestini y répondent parfaitement sur le ton d’un humour grinçant\, qui remet en cause les travers de notre société hantée par le repli sur soi\, le consumérisme et un capitalisme effréné. \n\nUn homme est couché sur son lit et voit son robinet qui fuit\, puis l’évier qui déborde\, puis l’eau qui se répand dans la chambre …  » Alors il se tourne sur le côté et regarde le mur / Il cesse de penser à la goutte / Il sourit et s’endort / Et sereinement se noie » A. Celestini
URL:https://septem.stghislain.be/agenda/spectacle-musical-naples-nest-pas-en-italie/
LOCATION:Les Jardins du Cloître\, 37 Grand Place\, Saint-Ghislain\, 7330\, Belgique
CATEGORIES:Saint-Ghislain
ATTACH;FMTTYPE=image/jpeg:https://septem.stghislain.be/wp-content/uploads/2023/01/la_maison_ephemere-spectacle_musical-naples_n_est_pas_en_italie-septem-culture_Saint_Ghislain-2023.jpg
ORGANIZER;CN="Septem":MAILTO:info@septem.stghislain.be
END:VEVENT
BEGIN:VEVENT
DTSTART;TZID=Europe/Brussels:20230212T103000
DTEND;TZID=Europe/Brussels:20230212T120000
DTSTAMP:20260424T182008
CREATED:20230121T174319Z
LAST-MODIFIED:20230122T003302Z
UID:10000069-1676197800-1676203200@septem.stghislain.be
SUMMARY:Atelier | Yoga Parents-Enfants
DESCRIPTION:Pratiquer le yoga avec son enfant\, c’est avant tout\, un moment de partage. Un moment privilégié où chacun prend conscience de son fonctionnement et entre en lien avec l’autre. Un moment ludique\, relaxant hors du train-train quotidien qui nous ramène à l’essentiel: l’amour inconditionnel. \nUn atelier proposé par Les Sentiers de Lily-Bulle.
URL:https://septem.stghislain.be/agenda/atelier-yoga-parents-enfants/
LOCATION:Les Jardins du Cloître\, 37 Grand Place\, Saint-Ghislain\, 7330\, Belgique
CATEGORIES:Ateliers,Bien-être,Jeune public,Saint-Ghislain
ATTACH;FMTTYPE=image/jpeg:https://septem.stghislain.be/wp-content/uploads/2023/01/les_sentiers_de_lily_bulle-yoga_parents_enfants-septem-culture_Saint_Ghislain-2023.jpg
ORGANIZER;CN="Septem":MAILTO:info@septem.stghislain.be
END:VEVENT
BEGIN:VEVENT
DTSTART;TZID=Europe/Brussels:20230212T163000
DTEND;TZID=Europe/Brussels:20230212T170000
DTSTAMP:20260424T182008
CREATED:20230121T180911Z
LAST-MODIFIED:20230121T180953Z
UID:10000071-1676219400-1676221200@septem.stghislain.be
SUMMARY:Récital de poésies musicales | Je vous aime - Gil Depreter
DESCRIPTION:Gil Depreter ne chante pas; il dit les mots. Comment chanter après Bécaud\, qui “habitait ” ses textes comme si sa vie en dépendait… \nD’ailleurs\, Gil ne sait pas chanter. Mais il scande les textes\, il les vit\, et c’est cette interprétation qui donne une nouvelle lumière à ces chansons. Et pour sublimer les mots : la musique\, tantôt discrète\, tantôt enveloppante ou évocatrice\, toujours complice! Du bout des doigts\, sur son clavier ou sur son accordéon\, Claudy Mahieu dialogue avec le récitant en s’inspirant librement de l’univers poétique des textes. Il leur donne une nouvelle couleur\, une saveur inattendue. \nRappel des mélodies tant de fois chantonnées. Musiques et poésie se répondent pour former un ensemble cohérent et très prenant.
URL:https://septem.stghislain.be/agenda/recital-de-poesies-musicales-je-vous-aime-gil-depreter/
LOCATION:Les Jardins du Cloître\, 37 Grand Place\, Saint-Ghislain\, 7330\, Belgique
CATEGORIES:Arts de la scène,Musique,Poésie,Saint-Ghislain,Spectacle
ATTACH;FMTTYPE=image/jpeg:https://septem.stghislain.be/wp-content/uploads/2023/01/gil_depreter-recital_poesie_musicale-septem-culture_Saint_Ghislain-2023.jpg
ORGANIZER;CN="Septem":MAILTO:info@septem.stghislain.be
END:VEVENT
BEGIN:VEVENT
DTSTART;TZID=Europe/Brussels:20230216T193000
DTEND;TZID=Europe/Brussels:20230216T210000
DTSTAMP:20260424T182008
CREATED:20230121T183040Z
LAST-MODIFIED:20230121T183132Z
UID:10000072-1676575800-1676581200@septem.stghislain.be
SUMMARY:Concert | Lorenzo Di Maio Trio
DESCRIPTION:Après un premier album salué par la critique et récompensé d’un octave de la musique en 2017 Lorenzo Di Maio décide de présenter une formule classique du trio contrebasse-batterie-guitare. \nPour ce nouveau voyage il décide de s’appuyer sur le groove et l’inventivité du batteur Antoine Pierre ainsi que sur le jeu profond et virtuose du contrebassiste Sam Gerstmans. Des musiciens avec qui il partage une vision commune de la musique à la fois lyrique et énergique. La musique du trio s’inspire des larges influences de Lorenzo Di Maio qui vont du blues à une certaine idée du jazz européen. \nAgrémenté de la poésie de ses interprètes\, le groupe dévoile un répertoire aux ambiances contrastées qui crée une passerelle entre la pureté acoustique et les atmosphères électriques de la guitare. \n\n\nGuitare\, compositions : Lorenzo Di Maio\nContrebasse : Sam Gerstmans\nBatterie : Antoine PierreGuitare\,\nCompositions : Lorenzo Di Maio\nContrebasse : Sam Gerstmans\nBatterie : Antoine Pierre
URL:https://septem.stghislain.be/agenda/concert-lorenzo-di-maio-trio/
LOCATION:Les Jardins du Cloître\, 37 Grand Place\, Saint-Ghislain\, 7330\, Belgique
CATEGORIES:Arts de la scène,Concerts,Musique,Saint-Ghislain
ATTACH;FMTTYPE=image/jpeg:https://septem.stghislain.be/wp-content/uploads/2023/01/lorenzo_di_maio-lorenzo_di_maio_trio-septem-culture_Saint_Ghislain-2023.jpg
ORGANIZER;CN="Septem":MAILTO:info@septem.stghislain.be
END:VEVENT
BEGIN:VEVENT
DTSTART;TZID=Europe/Brussels:20230217T090000
DTEND;TZID=Europe/Brussels:20230304T170000
DTSTAMP:20260424T182008
CREATED:20230121T183504Z
LAST-MODIFIED:20230121T183831Z
UID:10000073-1676624400-1677949200@septem.stghislain.be
SUMMARY:Exposition | Didier Lassoie
DESCRIPTION:De la contemplation à la création\, il n’y a qu’un pas. A vingt ans\, Didier Lassoie franchit ce pas et s’offre des tubes de peinture\, quelques pinceaux\, une ou deux toiles et il ose enfin… Dès lors\, il va peindre de façon sporadique durant plus ou moins trois décennies. \n\n“Autodidacte\, je peins dans mon atelier\, en écoutant de la musique\, entre plénitude et souffrance\, laissant libre cours à mon imagination\, lorsque le temps n’existe plus. La couleur\, la lumière\, l’émotion et l’atmosphère font partie intégrale de mes œuvres. \nJe travaille avec différents médiums dont l’huile\, l’acrylique\, l’aquarelle\, le fusain et le pastel selon mon humeur et mon inspiration. J’aime aussi donner du relief à mes créations avec des couteaux et des spatules afin de les rendre plus vivantes. Abstrait ou symbolique\, mon art s’exprime dans un éclectisme parfois dérangeant. \nIl est vrai qu’on peut me reprocher de ne pas avoir un « style ». Qu’importe! Peindre est pour moi un moyen d’évasion\, d’expression et de partage de mes rêves\, qui deviennent ainsi\, pour tous ceux qui savent voir\, accessibles ! Rêver\, s’évader\, s’envoler\, voyager\, rendre visible l’invisible\, c’est là\, selon moi\, la démarche première de l’artiste.”
URL:https://septem.stghislain.be/agenda/exposition-didier-lassoie/
LOCATION:Les Jardins du Cloître\, 37 Grand Place\, Saint-Ghislain\, 7330\, Belgique
CATEGORIES:Arts Plastiques,Arts Visuels,Expositions,Saint-Ghislain
ATTACH;FMTTYPE=image/jpeg:https://septem.stghislain.be/wp-content/uploads/2023/01/didier_lassoie-exposition_peinture-credit_didier_lassoie-septem-culture_Saint_Ghislain-2023.jpg
ORGANIZER;CN="Septem":MAILTO:info@septem.stghislain.be
END:VEVENT
BEGIN:VEVENT
DTSTART;TZID=Europe/Brussels:20230218T200000
DTEND;TZID=Europe/Brussels:20230218T220000
DTSTAMP:20260424T182008
CREATED:20230131T082356Z
LAST-MODIFIED:20230214T154048Z
UID:10000088-1676750400-1676757600@septem.stghislain.be
SUMMARY:Iphigénie à Splott
DESCRIPTION:Effie habite à Splott\, un quartier de Cardiff -capitale du Pays de Galles-\, miné par la fermeture des usines\, le chômage et la précarité.Effie\, c’est le genre de fille qu’on évite de regarder dans les yeux quand on la croise dans la rue car on a l’impression qu’elle va nous exploser au visage. Effie\, on croit la connaître\, alors on la juge l’air de rien\, mais on n’en connaît pas la moitié…Tous les lundis\, elle picole comme une sauvage\, se came à fond et émerge au bout de trois jours d’ « une gueule de bois pire que la mort » pour mieux recommencer. Un personnage de démesure\, jusqu’au-boutiste et qu’on croirait sorti d’une tragédie grecque. Et puis\, un soir\, l’occasion lui est offerte d’être autre chose que ça… \nIphigénie à Splott a gagné le prix de la meilleure pièce en 2015 aux prestigieux Theatre Awards (Londres). Le texte a été lu à la Comédie française la saison dernière et est proposé au Poche pour la première fois en langue française.Georges Lini signe la mise en scène de ce texte organique. Trois musiciens rock entourent la comédienne et offriront un décor très « Guinness et punk is not dead ». \nTraduction Blandine Pélissier et Kelly RivièreMise en scène Georges LiniAvec Gwendoline GauthierCollaboration artistique Sébastien FernandezDirection musicale François SauveurMusiciens Pierre Constant\, Julien Lemonnier et François SauveurCréation lumières Jérôme DejeanCostumes Charly Kleinermann et Thibaut De CosterUne coproduction du Théâtre de Poche et de la Cie Belle de Nuit.
URL:https://septem.stghislain.be/agenda/iphigenie-a-splott/
LOCATION:Les Jardins du Cloître\, 37 Grand Place\, Saint-Ghislain\, 7330\, Belgique
CATEGORIES:Saint-Ghislain
ATTACH;FMTTYPE=image/jpeg:https://septem.stghislain.be/wp-content/uploads/2023/01/compagnie_belle_de_nuit-iphigenie_a_splott-septem-culture_Saint_Ghislain-2023.jpg
ORGANIZER;CN="Septem":MAILTO:info@septem.stghislain.be
END:VEVENT
BEGIN:VEVENT
DTSTART;TZID=Europe/Brussels:20230222T200000
DTEND;TZID=Europe/Brussels:20230222T220000
DTSTAMP:20260424T182008
CREATED:20230121T184449Z
LAST-MODIFIED:20230209T094052Z
UID:10000074-1677096000-1677103200@septem.stghislain.be
SUMMARY:Concert | Des chansons plein la tête
DESCRIPTION:Ils sont issus de l’émission télévisée « N’oubliez pas les paroles »\, d’autres ont fait « The Voice » ou « L’eurovision »… Ils aiment la chanson Française et ont décidé de se rassembler pour présenter un concert unique.Venez découvrir le spectacle et reprendre avec les artistes ces airs célèbres. \nAu programme : des tubes d’hier\, d’avant-hier et d’aujourd’hui\, destinés à ravir les spectateurs de tous âges. Une douzaine d’artistes seront sur scène bénévolement. Les fonds collectés par les concerts seront versés à une association caritative. \n\nConcernant les artistes présents la liste peut évoluer jusqu’à la dernière minute mais les noms de Elodie\, Violaine\, Denis\, Alessandra (N’oubliez pas les paroles)\, Antoine Delie (The Voice)\, Florian (Nouvelle Star) et plein d’autres… ont été avancés.
URL:https://septem.stghislain.be/agenda/concert-des-chansons-plein-la-tete/
LOCATION:Les Jardins du Cloître\, 37 Grand Place\, Saint-Ghislain\, 7330\, Belgique
CATEGORIES:Arts de la scène,Concerts,Musique,Saint-Ghislain
ATTACH;FMTTYPE=image/png:https://septem.stghislain.be/wp-content/uploads/2023/01/theatre_lagrange-concert_des_chansons_plein_la_tete-septem-culture_Saint_Ghislain-2023.png
ORGANIZER;CN="Septem":MAILTO:info@septem.stghislain.be
END:VEVENT
BEGIN:VEVENT
DTSTART;TZID=Europe/Brussels:20230224T193000
DTEND;TZID=Europe/Brussels:20230224T210000
DTSTAMP:20260424T182008
CREATED:20230121T184819Z
LAST-MODIFIED:20230121T184823Z
UID:10000075-1677267000-1677272400@septem.stghislain.be
SUMMARY:Spectacle | My Mother - Isabelle Antoine
DESCRIPTION:Isabelle Antoine\, comédienne\, nous présente son deuxième one woman show. Après « Isa dans tous ses états « \,voici « My mother ».Elle nous parle de sa mère parfois encombrante\,étouffante\, castratrice \,une mère hors norme.Théâtrale\, envahissante\,égocentrique\, cinglante et parfois destructrice. \nCette mère qui\,sans aucun filtre peut broyer sa progéniture sans même s’en rendre compte\,mais qui peut aussi se révéler d’une fragile flamboyance\,aveu d’une profonde fêlure.Le tout raconté avec un humour décapant. Isabelle nous dévoile tout\,sans outrance\,avec la pudeur qui la caractérise et cela sonne juste. \n\n\nEcriture et interprétation : Isabelle Antoine\nMise en scène : Claudie Rion
URL:https://septem.stghislain.be/agenda/spectacle-my-mother-isabelle-antoine/
LOCATION:Les Jardins du Cloître\, 37 Grand Place\, Saint-Ghislain\, 7330\, Belgique
CATEGORIES:Arts de la scène,Saint-Ghislain,Spectacle
ATTACH;FMTTYPE=image/jpeg:https://septem.stghislain.be/wp-content/uploads/2023/01/isabelle_antoine-spectacle_my_mother-septem-culture_Saint_Ghislain-2023.jpg
ORGANIZER;CN="Septem":MAILTO:info@septem.stghislain.be
END:VEVENT
BEGIN:VEVENT
DTSTART;TZID=Europe/Brussels:20230225T200000
DTEND;TZID=Europe/Brussels:20230225T213000
DTSTAMP:20260424T182008
CREATED:20230121T185048Z
LAST-MODIFIED:20230131T140745Z
UID:10000076-1677355200-1677360600@septem.stghislain.be
SUMMARY:Concert | Clemix
DESCRIPTION:Après une soixantaine de dates (en Belgique\, France\, Suisse et Canada)\, deux EPs électroniques et de nombreuses sélections et nominations (demi-finaliste Prix Georges Moustaki 2021\, Parcours Francofaune\, Franc’off\, Francosessions…)\, la chanteuse-productrice belge Clemix revient avec un 3ème EP « De rien du tout » qui s’accompagne d’une nouvelle formule piano-voix intime et intense. \nCette nouvelle configuration piano-voix met l’accent sur la création d’un moment de partage intimiste avec le public. Plongeant dans le cœur de ce qui fait une chanson: l’émotion\, la mélodies\, les harmonies\, Clemix raconte ses histoires joyeusement désabusées mêlant humour\, ironie et mélancolie. Véritable show-woman\, elle embarque son audience dans un moment suspendu entre rires et larmes.
URL:https://septem.stghislain.be/agenda/concert-clemix/
LOCATION:Les Jardins du Cloître\, 37 Grand Place\, Saint-Ghislain\, 7330\, Belgique
CATEGORIES:Arts de la scène,Concerts,Musique,Saint-Ghislain
ATTACH;FMTTYPE=image/jpeg:https://septem.stghislain.be/wp-content/uploads/2023/01/clemix-concert-septem-culture_Saint_Ghislain-2023.jpg
ORGANIZER;CN="Septem":MAILTO:info@septem.stghislain.be
END:VEVENT
BEGIN:VEVENT
DTSTART;TZID=Europe/Brussels:20230226T163000
DTEND;TZID=Europe/Brussels:20230226T183000
DTSTAMP:20260424T182008
CREATED:20230121T185922Z
LAST-MODIFIED:20230122T002309Z
UID:10000077-1677429000-1677436200@septem.stghislain.be
SUMMARY:Ciné Famille | L'école du bout du monde - Pawo Choyning Dorji
DESCRIPTION:Un jeune instituteur du Bhoutan est envoyé dans la partie la plus reculée du pays. Loin de la ville\, le quotidien est rude\, mais la force spirituelle des habitants du village transformera son destin. \n\n\n1h 49min\nAventure\, Drame\, Famille\nDe Pawo Choyning Dorji\nAvec Sherab Dorji\, Ugyen Norbu Lhendup\, Kelden Lhamo Gurung\nTitre original Lunana: A Yak in the Classroom
URL:https://septem.stghislain.be/agenda/cine-famille-lecole-du-bout-du-monde-pawo-choyning-dorji/
LOCATION:Les Jardins du Cloître\, 37 Grand Place\, Saint-Ghislain\, 7330\, Belgique
CATEGORIES:Cinéma,Films,Projections,Saint-Ghislain
ATTACH;FMTTYPE=image/jpeg:https://septem.stghislain.be/wp-content/uploads/2023/01/L_ecole_du_bout_du_monde-Pawo_Choyning_Dorji-Banner-septem-culture_Saint_Ghislain-2023.jpg
ORGANIZER;CN="Septem":MAILTO:info@septem.stghislain.be
END:VEVENT
END:VCALENDAR