BEGIN:VCALENDAR
VERSION:2.0
PRODID:-//Septem - ECPv6.0.13.1//NONSGML v1.0//EN
CALSCALE:GREGORIAN
METHOD:PUBLISH
X-WR-CALNAME:Septem
X-ORIGINAL-URL:https://septem.stghislain.be
X-WR-CALDESC:évènements pour Septem
REFRESH-INTERVAL;VALUE=DURATION:PT1H
X-Robots-Tag:noindex
X-PUBLISHED-TTL:PT1H
BEGIN:VTIMEZONE
TZID:Europe/Brussels
BEGIN:DAYLIGHT
TZOFFSETFROM:+0100
TZOFFSETTO:+0200
TZNAME:CEST
DTSTART:20230326T010000
END:DAYLIGHT
BEGIN:STANDARD
TZOFFSETFROM:+0200
TZOFFSETTO:+0100
TZNAME:CET
DTSTART:20231029T010000
END:STANDARD
END:VTIMEZONE
BEGIN:VEVENT
DTSTART;TZID=Europe/Brussels:20230112T183000
DTEND;TZID=Europe/Brussels:20230112T200000
DTSTAMP:20260424T194628
CREATED:20230111T160140Z
LAST-MODIFIED:20230121T162147Z
UID:10000052-1673548200-1673553600@septem.stghislain.be
SUMMARY:Conférence | Réduisez votre facture santé
DESCRIPTION:Quels sont les dispositifs prévus par l’INAMi pour payer moins et qui peut en bénéficier ? A quoi faut-il être attentif ? Comment savoir si un médecin respecte les tarifs légaux ? Comment savoir si un hôpital facture des suppléments ? Comment suis-je couvert par ma mutualité ? Et si j’ai une maladie grave\, comment trouver de l’aide ? Faut-il prendre une assurance privée ? Est-il possible de payer ses médicaments moins chers ? Autant de questions auxquelles nous répondrons lors de ces moments d’information bons pour la santé de votre portefeuille. \nUne conférence organisée en partenariat avec ENEO.
URL:https://septem.stghislain.be/agenda/reduisez-votre-facture-sante-conference/
LOCATION:Les Jardins du Cloître\, 37 Grand Place\, Saint-Ghislain\, 7330\, Belgique
CATEGORIES:Conférences,Médiation,Saint-Ghislain
ATTACH;FMTTYPE=image/jpeg:https://septem.stghislain.be/wp-content/uploads/2023/01/Reduisez_votre_facture_sante-Conference-Banner-Septem_Saint_Ghislain.jpg
ORGANIZER;CN="Septem":MAILTO:info@septem.stghislain.be
END:VEVENT
BEGIN:VEVENT
DTSTART;TZID=Europe/Brussels:20230114T200000
DTEND;TZID=Europe/Brussels:20230114T223000
DTSTAMP:20260424T194628
CREATED:20230111T155640Z
LAST-MODIFIED:20230121T162129Z
UID:10000050-1673726400-1673735400@septem.stghislain.be
SUMMARY:Concert | The Yummy Mouths + Pogo Bastard + Anaconda
DESCRIPTION:THE YUMMY MOUTHS\nVenu de Campines\, le trio vous fera remuer du popotin sur un son indierock et postpunk. Ces dernières années\, les Yummy Mouths sont déjà montés sur scène en première partie de Teen Creeps\, Together Pangea et ont partagé la scène avec Meltheads à plusieurs reprises. Ils ont également enflammé les prairies des festivals Absolutely Free et Gladioli avec une musique rappelant des artistes tels que The Strokes\, Pavement\, The Modern Lovers et Personal Trainer. \nPOGO BASTARD\nCe trio liégeois remuant propose un rock énergique qui vous fera remuer du popotin! C’est une découverte fabuleuse\, ne les manquez pas! \nANACONDA\nAnaconda\, c’est le groupe régional de cette étape… Tentez l’expérience immersive et expérimentale… Vous ne le regretterez pas!
URL:https://septem.stghislain.be/agenda/the-yummy-mouths-pogo-bastard-anaconda/
LOCATION:Les Jardins du Cloître\, 37 Grand Place\, Saint-Ghislain\, 7330\, Belgique
CATEGORIES:Concerts,Musique,Saint-Ghislain
ATTACH;FMTTYPE=image/jpeg:https://septem.stghislain.be/wp-content/uploads/2023/01/The_Yummy_Mouths-Pogo_Bastard_Anaconda-Banner-Septem-Culture_Saint_Ghislain.jpg
ORGANIZER;CN="Septem":MAILTO:info@septem.stghislain.be
END:VEVENT
BEGIN:VEVENT
DTSTART;TZID=Europe/Brussels:20230121T200000
DTEND;TZID=Europe/Brussels:20230121T213000
DTSTAMP:20260424T194628
CREATED:20230112T113347Z
LAST-MODIFIED:20230121T162117Z
UID:10000054-1674331200-1674336600@septem.stghislain.be
SUMMARY:Spectable | Zidani - retour en Algérie
DESCRIPTION:Belge\, d’origine Kabyle par son père\, Sandra ne connaît pas l’Algérie. A 40 ans elle décide de partir à la rencontre de ses origines.Le jour du départ\, la Belgique est paralysée par la neige : les vols sont annulés et le chaos s’installe dans l’aéroport. Chacun\, avec son histoire\, se retrouve figé dans son voyage. \nSans ces conditions météorologiques exceptionnelles\, ces voyageurs insolites\, bloqués dans le No man’s land d’un aéroport\, ne se seraient sans doute jamais rencontrés. Et si le voyage c’était la rencontre de l’être humain\, tout simplement ? « Retour en Algérie » raconte l’histoire d’une immigration avec toutes les difficultés pour celui qui quitte sa terre natale pour aller vers une culture totalement différente. \nRaconté avec humour\, ce « bled-trip one woman show » est aussi l’histoire d’une vie sur deux générations. \n\n\nTexte et interprétation : ZIDANI\nMise en scène proposée :ZIDANI –\nDirection d’acteur : GUDULE\nScénographie : INA LICHTENBERG\nCréation d’éclairage : ALAIN COLLET\nAdaptation : MONSEIGNEUR SEBY\nDécor sonore : BERNARD VANCRAEYNEST\, SEBASTIEN MERCIAL ET BERNARD SCHEYEN\nVidéo KELZANGRAVACH.COM\nChorégraphie : NATHALIE BOULANGER\nCostumes : FREDERIC NEUVILLE\nUne production de AKHENATON ASBL en co-production avec l’Espace MAGH à la création.\nzidani.be/retour-en-algerie
URL:https://septem.stghislain.be/agenda/zidani-retour-en-algerie/
LOCATION:Les Jardins du Cloître\, 37 Grand Place\, Saint-Ghislain\, 7330\, Belgique
CATEGORIES:Arts de la scène,Saint-Ghislain,Théâtre
ATTACH;FMTTYPE=image/jpeg:https://septem.stghislain.be/wp-content/uploads/2022/12/Zidanie-retour_en_algerie-culture_Saint_Ghislain_2023.jpg
ORGANIZER;CN="Septem":MAILTO:info@septem.stghislain.be
END:VEVENT
BEGIN:VEVENT
DTSTART;TZID=Europe/Brussels:20230122T103000
DTEND;TZID=Europe/Brussels:20230122T120000
DTSTAMP:20260424T194628
CREATED:20230121T122320Z
LAST-MODIFIED:20230122T003329Z
UID:10000067-1674383400-1674388800@septem.stghislain.be
SUMMARY:Atelier | Yoga Parents-Enfants
DESCRIPTION:Pratiquer le yoga avec son enfant\, c’est avant tout\, un moment de partage. Un moment privilégié où chacun prend conscience de son fonctionnement et entre en lien avec l’autre. Un moment ludique\, relaxant hors du train-train quotidien qui nous ramène à l’essentiel: l’amour inconditionnel. \nUn atelier proposé par Les Sentiers de Lily-Bulle.
URL:https://septem.stghislain.be/agenda/yoga-parents-enfants/
LOCATION:Les Jardins du Cloître\, 37 Grand Place\, Saint-Ghislain\, 7330\, Belgique
CATEGORIES:Ateliers,Bien-être,Jeune public,Saint-Ghislain
ATTACH;FMTTYPE=image/jpeg:https://septem.stghislain.be/wp-content/uploads/2023/01/les_sentiers_de_lily_bulle-yoga_parents_enfants-septem-culture_Saint_Ghislain-2023.jpg
ORGANIZER;CN="Septem":MAILTO:info@septem.stghislain.be
END:VEVENT
BEGIN:VEVENT
DTSTART;TZID=Europe/Brussels:20230126T200000
DTEND;TZID=Europe/Brussels:20230126T220000
DTSTAMP:20260424T194628
CREATED:20230121T154509Z
LAST-MODIFIED:20230121T155337Z
UID:10000057-1674763200-1674770400@septem.stghislain.be
SUMMARY:Concert | Mélanie Isaac
DESCRIPTION:Originaire de l’Ardenne belge\, Mélanie Isaac a posé piano et guitare à Bruxelles il y a une décennie. Elle évolue alors au sein de différentes formations où elle écrit\, compose et interprète\, et remporte en 2012 la Biennale de la Chanson Française (Le parcours Francofaune de l’époque) au Cirque Royal. Ses chansons réalisent un croisement entre la variété française des années septante chère à Véronique Sanson et la pop coquette et raffinée de Lana Del Rey. Ou Barbara qui embrasserait Dominique A à la commissure des lèvres avant de lui murmurer dans le creux de l’oreille un vénéneux « Kill me soflty ». \nA propos de son album « SURFACE »Voix fiévreuse\, sens inné de la mélodie\, Mélanie Isaac nous fait plonger sous la “Surface”. Ce nouvel albumde neuf chansons voyage subtilement entre variété française et pop indé\, tel un long baiser de Barbara à Dominique A en passant par Sanson. Suite d’une escale à Astafort et d’une rencontre parisienne avec Antoine Graugnard\, ce disque produit et arrangé avec Julien Lebart dans un studio de Rivesaltes\, mixé et masterisé à Bruxelles par Erwin Autrique\, nous fond dans un décor aux sonorités tant organiques qu’atmosphériques\, avec comme point de mire cet horizon intemporel. \nSur cet itinéraire\, on part en quête des abysses\, on se révèle au cœur d’une ville morte\, on s’envole vers la Floride. L’amour s’y explore sous toutes ses facettes. Comme autant de chances de refléter la lumière\, de défier nos insouciances\, d’atteindre le rivage. Avec une main dans celle du vent et sur l’autre\, cet oiseau qui s’attend au retour des absents. A l’arrivée\, c’est évident. On ne peut que se regarder dans les yeux.
URL:https://septem.stghislain.be/agenda/concert-melanie-isaac/
LOCATION:Les Jardins du Cloître\, 37 Grand Place\, Saint-Ghislain\, 7330\, Belgique
CATEGORIES:Arts de la scène,Concerts,Musique,Saint-Ghislain
ATTACH;FMTTYPE=image/jpeg:https://septem.stghislain.be/wp-content/uploads/2023/01/melanie_isaac-concert-septem-culture_Saint_Ghislain-2023.jpg
ORGANIZER;CN="Septem":MAILTO:info@septem.stghislain.be
END:VEVENT
BEGIN:VEVENT
DTSTART;TZID=Europe/Brussels:20230127T090000
DTEND;TZID=Europe/Brussels:20230215T170000
DTSTAMP:20260424T194628
CREATED:20230131T145827Z
LAST-MODIFIED:20230131T151614Z
UID:10000089-1674810000-1676480400@septem.stghislain.be
SUMMARY:Exposition photographique - Méli-Mélo
DESCRIPTION:L’asbl Espace Image Création vous propose son exposition photo « Méli-Mélo » aux Jardins du Cloître. \nUne expo à visiter du lundi au vendredi de 9h00 à 17h00. \n\nÀ propos de l’asbl Espace Image Création\nDepuis sa création en 1982 dans la commune de Boussu-Hornu\, l’objectif de l’asbl Espace Image Création est de promouvoir l’art photographique.\nChez nous\, vous trouverez des amateurs passionnés et des animateurs compétents s’aidant les uns les autres dans la pratique de la photo\, de la prise de vue à l’impression\, en passant par la phase de post-traitement.\n\nNous sommes également un Centre d’Expression et de Créativité de la Fédération Wallonie-Bruxelles\, affiliés à la Fédération Belge de Photographie\, à la Fédération des Cercles Photographiques et à l’Entente Photographique Hennuyère amateur et nos auteurs sont régulièrement publiés et exposés dans les salons photographiques nationaux et internationaux. Souhaitant se faire connaître davantage du grand public l’asbl s’applique dès lors à montrer via des expositions\, la qualité des œuvres de ses affiliés.
URL:https://septem.stghislain.be/agenda/exposition-photographique-meli-melo/
LOCATION:Les Jardins du Cloître\, 37 Grand Place\, Saint-Ghislain\, 7330\, Belgique
CATEGORIES:Saint-Ghislain
ATTACH;FMTTYPE=image/png:https://septem.stghislain.be/wp-content/uploads/2023/01/espace_image_creation-expo_photo_meli_melo-septem-culture_Saint_Ghislain-2023.png
ORGANIZER;CN="Septem":MAILTO:info@septem.stghislain.be
END:VEVENT
BEGIN:VEVENT
DTSTART;TZID=Europe/Brussels:20230127T200000
DTEND;TZID=Europe/Brussels:20230127T213000
DTSTAMP:20260424T194628
CREATED:20230121T161400Z
LAST-MODIFIED:20230121T161453Z
UID:10000058-1674849600-1674855000@septem.stghislain.be
SUMMARY:Spectacle | Denis Richir
DESCRIPTION:Pas facile pour Denis Richir de faire du stand up… Dans la vie\, tout lui réussit : de son enfance heureuse dans un milieu privilégié à son boulot épanouissant en passant par sa vie affective comblée… Pas vraiment de quoi se plaindre. Et c’est bien là tout le problème quand on fait de la scène ! Heureusement\, il lui en faudrait plus pour l’empêcher de parler de lui. \nAvec un narcissisme décomplexé\, ce linguiste de formation nous partage son amour des textes bien écrits\, de la langue française\, des jeux de mots\,… et de lui-même. Le tout sans le moindre second degré\, bien entendu. \n\nUn spectacle organisé en partenariat avec Borinage Comedy Club.
URL:https://septem.stghislain.be/agenda/spectacle-denis-richir/
LOCATION:Les Jardins du Cloître\, 37 Grand Place\, Saint-Ghislain\, 7330\, Belgique
CATEGORIES:Arts de la scène,Saint-Ghislain,Théâtre
ATTACH;FMTTYPE=image/jpeg:https://septem.stghislain.be/wp-content/uploads/2023/01/denis_richir-humour-septem-culture_Saint_Ghislain-2023.jpg
END:VEVENT
BEGIN:VEVENT
DTSTART;TZID=Europe/Brussels:20230128T103000
DTEND;TZID=Europe/Brussels:20230128T120000
DTSTAMP:20260424T194628
CREATED:20230121T162020Z
LAST-MODIFIED:20230122T003322Z
UID:10000059-1674901800-1674907200@septem.stghislain.be
SUMMARY:Atelier | Yoga enfants
DESCRIPTION:Sophrologue\, consultante en Réflexes archaïques formée au yoga\, Les Sentiers de Lily-Bulle propose aux enfants des ateliers ludiques en basés sur le yoga: par le travail des postures\, de la respiration et de la concentration\, l’enfant prend conscience de son corps\, il apprend à s’écouter\, à exprimer ses besoins par l’analyse de l’émotion qui le traverse et à vivre en lien avec lui-même\, les autres et la nature. \nUn atelier proposé par Les Sentiers de Lily-Bulle.
URL:https://septem.stghislain.be/agenda/atelier-yoga-enfants/
LOCATION:Les Jardins du Cloître\, 37 Grand Place\, Saint-Ghislain\, 7330\, Belgique
CATEGORIES:Ateliers,Bien-être,Jeune public,Saint-Ghislain
ATTACH;FMTTYPE=image/jpeg:https://septem.stghislain.be/wp-content/uploads/2023/01/les_sentiers_de_lily_bulle-yoga_enfants-septem-culture_Saint_Ghislain-2023.jpg
ORGANIZER;CN="Septem":MAILTO:info@septem.stghislain.be
END:VEVENT
BEGIN:VEVENT
DTSTART;TZID=Europe/Brussels:20230128T200000
DTEND;TZID=Europe/Brussels:20230128T213000
DTSTAMP:20260424T194628
CREATED:20230121T162445Z
LAST-MODIFIED:20230121T162449Z
UID:10000060-1674936000-1674941400@septem.stghislain.be
SUMMARY:Concert | Michel Mainil New Quartet
DESCRIPTION:Michel Mainil (Saxes)\, Peter Hertmans (Guitare)\, Christophe Devisscher (Contrebasse)\, Bruno Castellucci (Percussions)Au-delà de ses talents de saxophoniste amoureux de Rollins et de Coltrane\, Michel Mainil nous rappelle ici deux de ses principales qualités: la pertinence avec laquelle il construit son répertoire et l’excellence du choix de ses partenaires. \nPour respecter l’air du temps et les desiderata des producteurs\, beaucoup de jazzmen s’obligent aujourd’hui à jouer au compositeur\, même s’ils n’en ont pas vraiment l’étoffe. Point de cela ici\, sa grande connaissance du jazz et de son histoire permettent à Michel Mainil de nous proposer un choix de thèmes d’une qualité d’écriture indéniable. \nLa grande idée de ce projet est d’avoir installé à la tête de la section rythmique un musicien bien trop peu souvent placé sous les projecteurs: Peter Hertmans\, qui est ici tout simplement impérial. Point barre. Dans un contexte live sans filet\, sans en faire trop\, il nous offre une série de chorus d’une qualité exceptionnelle\, nous rappelant qu’un grand modeste peut aussi cacher un musicien magistral. Ajoutez à la sauce le talent fait de classicisme et d’ouverture de Christophe Devisscher et de Bruno Castellucci\, et vous aurez une idée du groove qui sous-tend ce
URL:https://septem.stghislain.be/agenda/concert-michel-mainil-new-quartet/
LOCATION:Les Jardins du Cloître\, 37 Grand Place\, Saint-Ghislain\, 7330\, Belgique
CATEGORIES:Arts de la scène,Concerts,Musique,Saint-Ghislain
ATTACH;FMTTYPE=image/jpeg:https://septem.stghislain.be/wp-content/uploads/2023/01/michel_mainil_new-concert_new_quartet-septem-culture_Saint_Ghislain-2023.jpg
ORGANIZER;CN="Septem":MAILTO:info@septem.stghislain.be
END:VEVENT
END:VCALENDAR